BEGIN:VCALENDAR
VERSION:2.0
PRODID:-//Duck Foot Brewing Co - ECPv6.15.12.1//NONSGML v1.0//EN
CALSCALE:GREGORIAN
METHOD:PUBLISH
X-ORIGINAL-URL:https://duckfootbeer.com
X-WR-CALDESC:Events for Duck Foot Brewing Co
REFRESH-INTERVAL;VALUE=DURATION:PT1H
X-Robots-Tag:noindex
X-PUBLISHED-TTL:PT1H
BEGIN:VTIMEZONE
TZID:America/Los_Angeles
BEGIN:DAYLIGHT
TZOFFSETFROM:-0800
TZOFFSETTO:-0700
TZNAME:PDT
DTSTART:20250309T100000
END:DAYLIGHT
BEGIN:STANDARD
TZOFFSETFROM:-0700
TZOFFSETTO:-0800
TZNAME:PST
DTSTART:20251102T090000
END:STANDARD
BEGIN:DAYLIGHT
TZOFFSETFROM:-0800
TZOFFSETTO:-0700
TZNAME:PDT
DTSTART:20260308T100000
END:DAYLIGHT
BEGIN:STANDARD
TZOFFSETFROM:-0700
TZOFFSETTO:-0800
TZNAME:PST
DTSTART:20261101T090000
END:STANDARD
BEGIN:DAYLIGHT
TZOFFSETFROM:-0800
TZOFFSETTO:-0700
TZNAME:PDT
DTSTART:20270314T100000
END:DAYLIGHT
BEGIN:STANDARD
TZOFFSETFROM:-0700
TZOFFSETTO:-0800
TZNAME:PST
DTSTART:20271107T090000
END:STANDARD
END:VTIMEZONE
BEGIN:VTIMEZONE
TZID:UTC
BEGIN:STANDARD
TZOFFSETFROM:+0000
TZOFFSETTO:+0000
TZNAME:UTC
DTSTART:20250101T000000
END:STANDARD
END:VTIMEZONE
BEGIN:VEVENT
DTSTART;TZID=America/Los_Angeles:20260530T120000
DTEND;TZID=America/Los_Angeles:20260530T200000
DTSTAMP:20260420T213225
CREATED:20231025T200816Z
LAST-MODIFIED:20260403T164509Z
UID:10007350-1780142400-1780171200@duckfootbeer.com
SUMMARY:Antoyitos Borincanos
DESCRIPTION:Antoyitos Borincanos Puerto Rican Cuisine \n \n \nClick images to expand menus
URL:https://duckfootbeer.com/event/antoyitos/2026-05-30/
LOCATION:Duck Foot Miramar\, 8920 Kenamar Drive #210\, San Diego\, CA\, 92121\, United States
CATEGORIES:Food Truck,Miramar
ATTACH;FMTTYPE=image/jpeg:https://duckfootbeer.com/wp-content/uploads/2023/10/food-truck-MM-Antoyitos-Borincanos.jpg
END:VEVENT
BEGIN:VEVENT
DTSTART;TZID=America/Los_Angeles:20260531T123000
DTEND;TZID=America/Los_Angeles:20260531T190000
DTSTAMP:20260420T213225
CREATED:20241217T012350Z
LAST-MODIFIED:20260417T185157Z
UID:10007380-1780230600-1780254000@duckfootbeer.com
SUMMARY:MJ's Philly Cheesesteaks
DESCRIPTION:Cheese Steaks and more
URL:https://duckfootbeer.com/event/mj-philly/2026-05-31/
LOCATION:Duck Foot Miramar\, 8920 Kenamar Drive #210\, San Diego\, CA\, 92121\, United States
CATEGORIES:Featured,Food Truck,Miramar
ATTACH;FMTTYPE=image/jpeg:https://duckfootbeer.com/wp-content/uploads/2024/12/food-truck-MJs.jpg
END:VEVENT
BEGIN:VEVENT
DTSTART;TZID=America/Los_Angeles:20260531T130000
DTEND;TZID=America/Los_Angeles:20260531T150000
DTSTAMP:20260420T213225
CREATED:20250815T155444Z
LAST-MODIFIED:20260420T201427Z
UID:10005247-1780232400-1780239600@duckfootbeer.com
SUMMARY:Authentic Handmade Dumplings Class
DESCRIPTION:Discover the flavor-packed world of dumplings! These juicy and plump morsels filled with hearty ingredients such as ground meat\, vegetables and classic seasoning such as soy sauce and sesame oil wrapped in fun shapes and folds will bring such joy as soon as you take a big bite. This class is hands-on\, yet casual and easy going\, making it a perfect occasion for a romantic date night or a fun outing with your family and friends! \nMaster the basics of dumpling wrapping in various different shapes. You will get a chance to work with high-quality store-bought dumpling wrappers and also learn valuable knife skills and learn how to create your own fillings from scratch. You will learn to make a traditional pork-based mixture as well as a vegetable filling. \nNo experience is required! We provide all the equipment and ingredients\, which are easy to find at local markets if you do not already have them in your home kitchen. Our events are casual and meant to be fun and instructive\, not hardcore. This class is designed to be just as fun for the cooking enthusiast who wants to be a part of every step as it is for the first-timer who is happier observing and assisting (or taste testing). \nPlease arrive 15 minutes early to check in. BYOB is restricted. Our venue partner\, Duckfoot Brewing will have a great selection of crafted pour available for purchase. 21+ only.
URL:https://duckfootbeer.com/event/dumplings/
CATEGORIES:Featured,Miramar,Workshop
ATTACH;FMTTYPE=image/jpeg:https://duckfootbeer.com/wp-content/uploads/2025/08/Cooking-Class-Dumplings.jpg
END:VEVENT
BEGIN:VEVENT
DTSTART;VALUE=DATE:20260601
DTEND;VALUE=DATE:20260602
DTSTAMP:20260420T213225
CREATED:20251105T024541Z
LAST-MODIFIED:20260122T190743Z
UID:10005782-1780272000-1780358399@duckfootbeer.com
SUMMARY:$5 Mondays
DESCRIPTION:Just like the poster says\, we are serving up $5 Pints of our core beers all day\, every Monday at both locations.
URL:https://duckfootbeer.com/event/32112/2026-06-01/
CATEGORIES:Deals,Featured,Leucadia,Miramar,Weekly
ATTACH;FMTTYPE=image/jpeg:https://duckfootbeer.com/wp-content/uploads/2025/11/monday-happy-hour-core.jpg
END:VEVENT
BEGIN:VEVENT
DTSTART;TZID=America/Los_Angeles:20260603T160000
DTEND;TZID=America/Los_Angeles:20260603T210000
DTSTAMP:20260420T213225
CREATED:20241016T014017Z
LAST-MODIFIED:20260408T214504Z
UID:10007337-1780502400-1780520400@duckfootbeer.com
SUMMARY:Beach Bum Burgers
DESCRIPTION:Beach Bum Burgers\nSpecialty Brgers and more! \n \n 
URL:https://duckfootbeer.com/event/beach-bum/2026-06-03/
LOCATION:Duck Foot Miramar\, 8920 Kenamar Drive #210\, San Diego\, CA\, 92121\, United States
CATEGORIES:Food Truck,Miramar
ATTACH;FMTTYPE=image/jpeg:https://duckfootbeer.com/wp-content/uploads/2024/10/Beach-Bum-MM-food-truck.jpg
END:VEVENT
BEGIN:VEVENT
DTSTART;TZID=America/Los_Angeles:20260603T190000
DTEND;TZID=America/Los_Angeles:20260603T210000
DTSTAMP:20260420T213225
CREATED:20240118T170426Z
LAST-MODIFIED:20260129T182136Z
UID:10004891-1780513200-1780520400@duckfootbeer.com
SUMMARY:Bingo Night
DESCRIPTION:Join us every Wednesday from 7-9 PM with host Adam Jara! Get ready to quack up at our Bingo Night hosted at Duck Foot Brewing Leucadia! With awesome prizes up for grabs\, this is no ordinary duck hunt – it’s a night of lucky ducky fun!
URL:https://duckfootbeer.com/event/bingo-leucadia-2/2026-06-03/
LOCATION:Duck Foot Leucadia\, 978 N Coast Hwy 101\, Encinitas\, CA\, 92024\, United States
CATEGORIES:Featured,Games,Leucadia
ATTACH;FMTTYPE=image/jpeg:https://duckfootbeer.com/wp-content/uploads/2023/03/bingo-w-leucadia.jpg
END:VEVENT
BEGIN:VEVENT
DTSTART;TZID=UTC:20260603T190000
DTEND;TZID=UTC:20260603T210000
DTSTAMP:20260420T213225
CREATED:20250430T231756Z
LAST-MODIFIED:20260327T172524Z
UID:10002334-1780513200-1780520400@duckfootbeer.com
SUMMARY:Miramar Trivia Night
DESCRIPTION:Come quack up with us at our weekly Trivia Nights! Our hosts are full of feather-brained questions\, waddle with us and see who can rule the roost as the ultimate trivia champ!
URL:https://duckfootbeer.com/event/trivia-night-2/2026-06-03/
LOCATION:Duck Foot Miramar\, 8920 Kenamar Drive #210\, San Diego\, CA\, 92121\, United States
CATEGORIES:Featured,Games,Miramar,Poster,Weekly
ATTACH;FMTTYPE=image/jpeg:https://duckfootbeer.com/wp-content/uploads/2022/03/2023MiramarTrivia.jpg
END:VEVENT
BEGIN:VEVENT
DTSTART;TZID=UTC:20260604T120000
DTEND;TZID=UTC:20260604T210000
DTSTAMP:20260420T213225
CREATED:20220302T111111Z
LAST-MODIFIED:20260122T183410Z
UID:10006959-1780574400-1780606800@duckfootbeer.com
SUMMARY:Thirsty Thursdays
DESCRIPTION:Every Thursday = To-Go Fills Day.Save 20% on all crowler & growler fills\, open to close\, at Miramar and Leucadia.Stock up\, share (or don’t)\, repeat weekly.
URL:https://duckfootbeer.com/event/thirsty-thursdays/2026-06-04/
LOCATION:Duck Foot Miramar\, 8920 Kenamar Drive #210\, San Diego\, CA\, 92121\, United States
CATEGORIES:Deals,Featured,Leucadia,Miramar,Weekly
ATTACH;FMTTYPE=image/jpeg:https://duckfootbeer.com/wp-content/uploads/2022/03/IMG_2362.jpeg
END:VEVENT
BEGIN:VEVENT
DTSTART;TZID=America/Los_Angeles:20260604T190000
DTEND;TZID=America/Los_Angeles:20260604T210000
DTSTAMP:20260420T213225
CREATED:20230328T045112Z
LAST-MODIFIED:20260218T014549Z
UID:10004544-1780599600-1780606800@duckfootbeer.com
SUMMARY:Leucadia Trivia Night
DESCRIPTION:Come quack up with us at our weekly Trivia Nights! Our hosts are full of feather-brained questions\, waddle with us and see who can rule the roost as the ultimate trivia champ. \nRSVP & MORE DEETS ON EVENTBRITE
URL:https://duckfootbeer.com/event/trivia-leucadia/2026-06-04/
LOCATION:Duck Foot Leucadia\, 978 N Coast Hwy 101\, Encinitas\, CA\, 92024\, United States
CATEGORIES:Leucadia,Trivia Night
ATTACH;FMTTYPE=image/jpeg:https://duckfootbeer.com/wp-content/uploads/2022/03/2023LeucadiaTrivia.jpg
END:VEVENT
BEGIN:VEVENT
DTSTART;TZID=America/Los_Angeles:20260606T120000
DTEND;TZID=America/Los_Angeles:20260606T190000
DTSTAMP:20260420T213225
CREATED:20240123T011332Z
LAST-MODIFIED:20260403T163738Z
UID:10007333-1780747200-1780772400@duckfootbeer.com
SUMMARY:Josue Cooks
DESCRIPTION:Josue Cooks serving up Tacos\, Pambazos & Huaraches fresh to order.
URL:https://duckfootbeer.com/event/josu/2026-06-06/
LOCATION:Duck Foot Miramar\, 8920 Kenamar Drive #210\, San Diego\, CA\, 92121\, United States
CATEGORIES:Food Truck,Miramar
ATTACH;FMTTYPE=image/jpeg:https://duckfootbeer.com/wp-content/uploads/2024/01/food-truck-MM-Josue-Cooks.jpg
END:VEVENT
BEGIN:VEVENT
DTSTART;TZID=America/Los_Angeles:20260606T120000
DTEND;TZID=America/Los_Angeles:20260606T190000
DTSTAMP:20260420T213225
CREATED:20260211T214751Z
LAST-MODIFIED:20260401T165505Z
UID:10007332-1780747200-1780772400@duckfootbeer.com
SUMMARY:Papas Pacific Island BBQ
DESCRIPTION:Papas Pacific Island BBQ \nIsland BBQ Comfort Food\n• Huli Chicken\, Beef Kalbi\, & Garlic Shrimp bowls\n• Island BBQ skewer plates
URL:https://duckfootbeer.com/event/papas/2026-06-06/
LOCATION:Duck Foot Miramar\, 8920 Kenamar Drive #210\, San Diego\, CA\, 92121\, United States
CATEGORIES:Food Truck,Miramar
ATTACH;FMTTYPE=image/jpeg:https://duckfootbeer.com/wp-content/uploads/2026/02/Papas_BBQ-MM-food-truck.jpg
END:VEVENT
BEGIN:VEVENT
DTSTART;VALUE=DATE:20260608
DTEND;VALUE=DATE:20260609
DTSTAMP:20260420T213225
CREATED:20251105T024541Z
LAST-MODIFIED:20260122T190743Z
UID:10005783-1780876800-1780963199@duckfootbeer.com
SUMMARY:$5 Mondays
DESCRIPTION:Just like the poster says\, we are serving up $5 Pints of our core beers all day\, every Monday at both locations.
URL:https://duckfootbeer.com/event/32112/2026-06-08/
CATEGORIES:Deals,Featured,Leucadia,Miramar,Weekly
ATTACH;FMTTYPE=image/jpeg:https://duckfootbeer.com/wp-content/uploads/2025/11/monday-happy-hour-core.jpg
END:VEVENT
BEGIN:VEVENT
DTSTART;TZID=America/Los_Angeles:20260608T183000
DTEND;TZID=America/Los_Angeles:20260608T210000
DTSTAMP:20260420T213225
CREATED:20230331T020406Z
LAST-MODIFIED:20251218T003039Z
UID:10006127-1780943400-1780952400@duckfootbeer.com
SUMMARY:Monday Bluegrass Jam
DESCRIPTION:The San Diego Bluegrass Society is excited to bring you a monthly evening bluegrass jam and indoor open mic at Duck Foot Brewing on the second Monday of the month\, from 6:30 pm until 9:00 pm. Acoustic musicians and listeners alike are invited.
URL:https://duckfootbeer.com/event/bluegrass-monday/2026-06-08/
LOCATION:Duck Foot Miramar\, 8920 Kenamar Drive #210\, San Diego\, CA\, 92121\, United States
CATEGORIES:Miramar,Music
ATTACH;FMTTYPE=image/jpeg:https://duckfootbeer.com/wp-content/uploads/2023/03/bluegrassmonday.jpg
END:VEVENT
BEGIN:VEVENT
DTSTART;TZID=America/Los_Angeles:20260609T190000
DTEND;TZID=America/Los_Angeles:20260609T213000
DTSTAMP:20260420T213225
CREATED:20230104T014635Z
LAST-MODIFIED:20260327T180753Z
UID:10007330-1781031600-1781040600@duckfootbeer.com
SUMMARY:San Diego Jazz Collective - Jam Session
DESCRIPTION:Come join us for free live music\, as we welcome the San Diego Jazz Collective for a night of unrehearsed musical collaboration. This event is a great intimate experience held in our tasting room\, where musicians will cycle in and out through the night.
URL:https://duckfootbeer.com/event/san-diego-jazz-collective-jam-session-december-2023-3-14/2026-06-09/
LOCATION:Duck Foot Miramar\, 8920 Kenamar Drive #210\, San Diego\, CA\, 92121\, United States
CATEGORIES:Featured,Miramar,Music
ATTACH;FMTTYPE=image/jpeg:https://duckfootbeer.com/wp-content/uploads/2023/01/jazznight2.jpg
END:VEVENT
BEGIN:VEVENT
DTSTART;TZID=America/Los_Angeles:20260610T190000
DTEND;TZID=America/Los_Angeles:20260610T210000
DTSTAMP:20260420T213225
CREATED:20240118T170426Z
LAST-MODIFIED:20260129T182136Z
UID:10004892-1781118000-1781125200@duckfootbeer.com
SUMMARY:Bingo Night
DESCRIPTION:Join us every Wednesday from 7-9 PM with host Adam Jara! Get ready to quack up at our Bingo Night hosted at Duck Foot Brewing Leucadia! With awesome prizes up for grabs\, this is no ordinary duck hunt – it’s a night of lucky ducky fun!
URL:https://duckfootbeer.com/event/bingo-leucadia-2/2026-06-10/
LOCATION:Duck Foot Leucadia\, 978 N Coast Hwy 101\, Encinitas\, CA\, 92024\, United States
CATEGORIES:Featured,Games,Leucadia
ATTACH;FMTTYPE=image/jpeg:https://duckfootbeer.com/wp-content/uploads/2023/03/bingo-w-leucadia.jpg
END:VEVENT
BEGIN:VEVENT
DTSTART;TZID=UTC:20260610T190000
DTEND;TZID=UTC:20260610T210000
DTSTAMP:20260420T213225
CREATED:20250430T231756Z
LAST-MODIFIED:20260327T172524Z
UID:10002335-1781118000-1781125200@duckfootbeer.com
SUMMARY:Miramar Trivia Night
DESCRIPTION:Come quack up with us at our weekly Trivia Nights! Our hosts are full of feather-brained questions\, waddle with us and see who can rule the roost as the ultimate trivia champ!
URL:https://duckfootbeer.com/event/trivia-night-2/2026-06-10/
LOCATION:Duck Foot Miramar\, 8920 Kenamar Drive #210\, San Diego\, CA\, 92121\, United States
CATEGORIES:Featured,Games,Miramar,Poster,Weekly
ATTACH;FMTTYPE=image/jpeg:https://duckfootbeer.com/wp-content/uploads/2022/03/2023MiramarTrivia.jpg
END:VEVENT
BEGIN:VEVENT
DTSTART;TZID=UTC:20260611T120000
DTEND;TZID=UTC:20260611T210000
DTSTAMP:20260420T213225
CREATED:20220302T111111Z
LAST-MODIFIED:20260122T183410Z
UID:10006960-1781179200-1781211600@duckfootbeer.com
SUMMARY:Thirsty Thursdays
DESCRIPTION:Every Thursday = To-Go Fills Day.Save 20% on all crowler & growler fills\, open to close\, at Miramar and Leucadia.Stock up\, share (or don’t)\, repeat weekly.
URL:https://duckfootbeer.com/event/thirsty-thursdays/2026-06-11/
LOCATION:Duck Foot Miramar\, 8920 Kenamar Drive #210\, San Diego\, CA\, 92121\, United States
CATEGORIES:Deals,Featured,Leucadia,Miramar,Weekly
ATTACH;FMTTYPE=image/jpeg:https://duckfootbeer.com/wp-content/uploads/2022/03/IMG_2362.jpeg
END:VEVENT
BEGIN:VEVENT
DTSTART;TZID=America/Los_Angeles:20260611T190000
DTEND;TZID=America/Los_Angeles:20260611T210000
DTSTAMP:20260420T213225
CREATED:20230328T045112Z
LAST-MODIFIED:20260218T014549Z
UID:10004545-1781204400-1781211600@duckfootbeer.com
SUMMARY:Leucadia Trivia Night
DESCRIPTION:Come quack up with us at our weekly Trivia Nights! Our hosts are full of feather-brained questions\, waddle with us and see who can rule the roost as the ultimate trivia champ. \nRSVP & MORE DEETS ON EVENTBRITE
URL:https://duckfootbeer.com/event/trivia-leucadia/2026-06-11/
LOCATION:Duck Foot Leucadia\, 978 N Coast Hwy 101\, Encinitas\, CA\, 92024\, United States
CATEGORIES:Leucadia,Trivia Night
ATTACH;FMTTYPE=image/jpeg:https://duckfootbeer.com/wp-content/uploads/2022/03/2023LeucadiaTrivia.jpg
END:VEVENT
BEGIN:VEVENT
DTSTART;VALUE=DATE:20260615
DTEND;VALUE=DATE:20260616
DTSTAMP:20260420T213225
CREATED:20251105T024541Z
LAST-MODIFIED:20260122T190743Z
UID:10005784-1781481600-1781567999@duckfootbeer.com
SUMMARY:$5 Mondays
DESCRIPTION:Just like the poster says\, we are serving up $5 Pints of our core beers all day\, every Monday at both locations.
URL:https://duckfootbeer.com/event/32112/2026-06-15/
CATEGORIES:Deals,Featured,Leucadia,Miramar,Weekly
ATTACH;FMTTYPE=image/jpeg:https://duckfootbeer.com/wp-content/uploads/2025/11/monday-happy-hour-core.jpg
END:VEVENT
BEGIN:VEVENT
DTSTART;TZID=America/Los_Angeles:20260615T183000
DTEND;TZID=America/Los_Angeles:20260615T203000
DTSTAMP:20260420T213225
CREATED:20241220T173449Z
LAST-MODIFIED:20251218T003229Z
UID:10006186-1781548200-1781555400@duckfootbeer.com
SUMMARY:Monday Bluegrass Jam - Leucadia
DESCRIPTION:The North Country Bluegrass & Folk Club is excited to announce a monthly evening bluegrass jam and indoor open mic at Duck Foot Leucadia on Monday\, from 6:30 pm until 8:30. Acoustic musicians and listeners alike are invited.
URL:https://duckfootbeer.com/event/bluegrass-monday-ltr-2/2026-06-15/
LOCATION:Duck Foot Leucadia\, 978 N Coast Hwy 101\, Encinitas\, CA\, 92024\, United States
CATEGORIES:Featured,Leucadia,Music
ATTACH;FMTTYPE=image/jpeg:https://duckfootbeer.com/wp-content/uploads/2024/02/Bluegrass-Monday-Luecadia-1000.jpg
END:VEVENT
BEGIN:VEVENT
DTSTART;TZID=America/Los_Angeles:20260617T160000
DTEND;TZID=America/Los_Angeles:20260617T210000
DTSTAMP:20260420T213225
CREATED:20241016T014017Z
LAST-MODIFIED:20260408T214504Z
UID:10007376-1781712000-1781730000@duckfootbeer.com
SUMMARY:Beach Bum Burgers
DESCRIPTION:Beach Bum Burgers\nSpecialty Brgers and more! \n \n 
URL:https://duckfootbeer.com/event/beach-bum/2026-06-17/
LOCATION:Duck Foot Miramar\, 8920 Kenamar Drive #210\, San Diego\, CA\, 92121\, United States
CATEGORIES:Food Truck,Miramar
ATTACH;FMTTYPE=image/jpeg:https://duckfootbeer.com/wp-content/uploads/2024/10/Beach-Bum-MM-food-truck.jpg
END:VEVENT
BEGIN:VEVENT
DTSTART;TZID=America/Los_Angeles:20260617T190000
DTEND;TZID=America/Los_Angeles:20260617T210000
DTSTAMP:20260420T213225
CREATED:20240118T170426Z
LAST-MODIFIED:20260129T182136Z
UID:10004893-1781722800-1781730000@duckfootbeer.com
SUMMARY:Bingo Night
DESCRIPTION:Join us every Wednesday from 7-9 PM with host Adam Jara! Get ready to quack up at our Bingo Night hosted at Duck Foot Brewing Leucadia! With awesome prizes up for grabs\, this is no ordinary duck hunt – it’s a night of lucky ducky fun!
URL:https://duckfootbeer.com/event/bingo-leucadia-2/2026-06-17/
LOCATION:Duck Foot Leucadia\, 978 N Coast Hwy 101\, Encinitas\, CA\, 92024\, United States
CATEGORIES:Featured,Games,Leucadia
ATTACH;FMTTYPE=image/jpeg:https://duckfootbeer.com/wp-content/uploads/2023/03/bingo-w-leucadia.jpg
END:VEVENT
BEGIN:VEVENT
DTSTART;TZID=UTC:20260617T190000
DTEND;TZID=UTC:20260617T210000
DTSTAMP:20260420T213225
CREATED:20250430T231756Z
LAST-MODIFIED:20260327T172524Z
UID:10002336-1781722800-1781730000@duckfootbeer.com
SUMMARY:Miramar Trivia Night
DESCRIPTION:Come quack up with us at our weekly Trivia Nights! Our hosts are full of feather-brained questions\, waddle with us and see who can rule the roost as the ultimate trivia champ!
URL:https://duckfootbeer.com/event/trivia-night-2/2026-06-17/
LOCATION:Duck Foot Miramar\, 8920 Kenamar Drive #210\, San Diego\, CA\, 92121\, United States
CATEGORIES:Featured,Games,Miramar,Poster,Weekly
ATTACH;FMTTYPE=image/jpeg:https://duckfootbeer.com/wp-content/uploads/2022/03/2023MiramarTrivia.jpg
END:VEVENT
BEGIN:VEVENT
DTSTART;TZID=UTC:20260618T120000
DTEND;TZID=UTC:20260618T210000
DTSTAMP:20260420T213225
CREATED:20220302T111111Z
LAST-MODIFIED:20260122T183410Z
UID:10006961-1781784000-1781816400@duckfootbeer.com
SUMMARY:Thirsty Thursdays
DESCRIPTION:Every Thursday = To-Go Fills Day.Save 20% on all crowler & growler fills\, open to close\, at Miramar and Leucadia.Stock up\, share (or don’t)\, repeat weekly.
URL:https://duckfootbeer.com/event/thirsty-thursdays/2026-06-18/
LOCATION:Duck Foot Miramar\, 8920 Kenamar Drive #210\, San Diego\, CA\, 92121\, United States
CATEGORIES:Deals,Featured,Leucadia,Miramar,Weekly
ATTACH;FMTTYPE=image/jpeg:https://duckfootbeer.com/wp-content/uploads/2022/03/IMG_2362.jpeg
END:VEVENT
BEGIN:VEVENT
DTSTART;TZID=America/Los_Angeles:20260618T190000
DTEND;TZID=America/Los_Angeles:20260618T210000
DTSTAMP:20260420T213225
CREATED:20230328T045112Z
LAST-MODIFIED:20260218T014549Z
UID:10004546-1781809200-1781816400@duckfootbeer.com
SUMMARY:Leucadia Trivia Night
DESCRIPTION:Come quack up with us at our weekly Trivia Nights! Our hosts are full of feather-brained questions\, waddle with us and see who can rule the roost as the ultimate trivia champ. \nRSVP & MORE DEETS ON EVENTBRITE
URL:https://duckfootbeer.com/event/trivia-leucadia/2026-06-18/
LOCATION:Duck Foot Leucadia\, 978 N Coast Hwy 101\, Encinitas\, CA\, 92024\, United States
CATEGORIES:Leucadia,Trivia Night
ATTACH;FMTTYPE=image/jpeg:https://duckfootbeer.com/wp-content/uploads/2022/03/2023LeucadiaTrivia.jpg
END:VEVENT
BEGIN:VEVENT
DTSTART;VALUE=DATE:20260622
DTEND;VALUE=DATE:20260623
DTSTAMP:20260420T213225
CREATED:20251105T024541Z
LAST-MODIFIED:20260122T190743Z
UID:10005785-1782086400-1782172799@duckfootbeer.com
SUMMARY:$5 Mondays
DESCRIPTION:Just like the poster says\, we are serving up $5 Pints of our core beers all day\, every Monday at both locations.
URL:https://duckfootbeer.com/event/32112/2026-06-22/
CATEGORIES:Deals,Featured,Leucadia,Miramar,Weekly
ATTACH;FMTTYPE=image/jpeg:https://duckfootbeer.com/wp-content/uploads/2025/11/monday-happy-hour-core.jpg
END:VEVENT
BEGIN:VEVENT
DTSTART;TZID=America/Los_Angeles:20260623T190000
DTEND;TZID=America/Los_Angeles:20260623T213000
DTSTAMP:20260420T213225
CREATED:20250819T234203Z
LAST-MODIFIED:20260327T172400Z
UID:10007309-1782241200-1782250200@duckfootbeer.com
SUMMARY:San Diego Jazz Collective - Jam Session
DESCRIPTION:Come join us for free live music\, as we welcome the San Diego Jazz Collective for a night of unrehearsed musical collaboration. This event is a great intimate experience held in our tasting room\, where musicians will cycle in and out through the night.
URL:https://duckfootbeer.com/event/jazz-jam/2026-06-23/
LOCATION:Duck Foot Miramar\, 8920 Kenamar Drive #210\, San Diego\, CA\, 92121\, United States
CATEGORIES:Featured,Miramar,Music
ATTACH;FMTTYPE=image/jpeg:https://duckfootbeer.com/wp-content/uploads/2023/01/jazznight2.jpg
END:VEVENT
BEGIN:VEVENT
DTSTART;TZID=America/Los_Angeles:20260624T190000
DTEND;TZID=America/Los_Angeles:20260624T210000
DTSTAMP:20260420T213225
CREATED:20240118T170426Z
LAST-MODIFIED:20260129T182136Z
UID:10004894-1782327600-1782334800@duckfootbeer.com
SUMMARY:Bingo Night
DESCRIPTION:Join us every Wednesday from 7-9 PM with host Adam Jara! Get ready to quack up at our Bingo Night hosted at Duck Foot Brewing Leucadia! With awesome prizes up for grabs\, this is no ordinary duck hunt – it’s a night of lucky ducky fun!
URL:https://duckfootbeer.com/event/bingo-leucadia-2/2026-06-24/
LOCATION:Duck Foot Leucadia\, 978 N Coast Hwy 101\, Encinitas\, CA\, 92024\, United States
CATEGORIES:Featured,Games,Leucadia
ATTACH;FMTTYPE=image/jpeg:https://duckfootbeer.com/wp-content/uploads/2023/03/bingo-w-leucadia.jpg
END:VEVENT
BEGIN:VEVENT
DTSTART;TZID=UTC:20260624T190000
DTEND;TZID=UTC:20260624T210000
DTSTAMP:20260420T213225
CREATED:20250430T231756Z
LAST-MODIFIED:20260327T172524Z
UID:10002337-1782327600-1782334800@duckfootbeer.com
SUMMARY:Miramar Trivia Night
DESCRIPTION:Come quack up with us at our weekly Trivia Nights! Our hosts are full of feather-brained questions\, waddle with us and see who can rule the roost as the ultimate trivia champ!
URL:https://duckfootbeer.com/event/trivia-night-2/2026-06-24/
LOCATION:Duck Foot Miramar\, 8920 Kenamar Drive #210\, San Diego\, CA\, 92121\, United States
CATEGORIES:Featured,Games,Miramar,Poster,Weekly
ATTACH;FMTTYPE=image/jpeg:https://duckfootbeer.com/wp-content/uploads/2022/03/2023MiramarTrivia.jpg
END:VEVENT
BEGIN:VEVENT
DTSTART;TZID=UTC:20260625T120000
DTEND;TZID=UTC:20260625T210000
DTSTAMP:20260420T213225
CREATED:20220302T111111Z
LAST-MODIFIED:20260122T183410Z
UID:10006962-1782388800-1782421200@duckfootbeer.com
SUMMARY:Thirsty Thursdays
DESCRIPTION:Every Thursday = To-Go Fills Day.Save 20% on all crowler & growler fills\, open to close\, at Miramar and Leucadia.Stock up\, share (or don’t)\, repeat weekly.
URL:https://duckfootbeer.com/event/thirsty-thursdays/2026-06-25/
LOCATION:Duck Foot Miramar\, 8920 Kenamar Drive #210\, San Diego\, CA\, 92121\, United States
CATEGORIES:Deals,Featured,Leucadia,Miramar,Weekly
ATTACH;FMTTYPE=image/jpeg:https://duckfootbeer.com/wp-content/uploads/2022/03/IMG_2362.jpeg
END:VEVENT
END:VCALENDAR