BEGIN:VCALENDAR
VERSION:2.0
PRODID:-//Duck Foot Brewing Co - ECPv6.15.12.1//NONSGML v1.0//EN
CALSCALE:GREGORIAN
METHOD:PUBLISH
X-ORIGINAL-URL:https://duckfootbeer.com
X-WR-CALDESC:Events for Duck Foot Brewing Co
REFRESH-INTERVAL;VALUE=DURATION:PT1H
X-Robots-Tag:noindex
X-PUBLISHED-TTL:PT1H
BEGIN:VTIMEZONE
TZID:UTC
BEGIN:STANDARD
TZOFFSETFROM:+0000
TZOFFSETTO:+0000
TZNAME:UTC
DTSTART:20250101T000000
END:STANDARD
END:VTIMEZONE
BEGIN:VTIMEZONE
TZID:America/Los_Angeles
BEGIN:DAYLIGHT
TZOFFSETFROM:-0800
TZOFFSETTO:-0700
TZNAME:PDT
DTSTART:20250309T100000
END:DAYLIGHT
BEGIN:STANDARD
TZOFFSETFROM:-0700
TZOFFSETTO:-0800
TZNAME:PST
DTSTART:20251102T090000
END:STANDARD
BEGIN:DAYLIGHT
TZOFFSETFROM:-0800
TZOFFSETTO:-0700
TZNAME:PDT
DTSTART:20260308T100000
END:DAYLIGHT
BEGIN:STANDARD
TZOFFSETFROM:-0700
TZOFFSETTO:-0800
TZNAME:PST
DTSTART:20261101T090000
END:STANDARD
BEGIN:DAYLIGHT
TZOFFSETFROM:-0800
TZOFFSETTO:-0700
TZNAME:PDT
DTSTART:20270314T100000
END:DAYLIGHT
BEGIN:STANDARD
TZOFFSETFROM:-0700
TZOFFSETTO:-0800
TZNAME:PST
DTSTART:20271107T090000
END:STANDARD
END:VTIMEZONE
BEGIN:VEVENT
DTSTART;TZID=UTC:20260423T120000
DTEND;TZID=UTC:20260423T210000
DTSTAMP:20260420T075333
CREATED:20220302T111111Z
LAST-MODIFIED:20260122T183410Z
UID:10006953-1776945600-1776978000@duckfootbeer.com
SUMMARY:Thirsty Thursdays
DESCRIPTION:Every Thursday = To-Go Fills Day.Save 20% on all crowler & growler fills\, open to close\, at Miramar and Leucadia.Stock up\, share (or don’t)\, repeat weekly.
URL:https://duckfootbeer.com/event/thirsty-thursdays/2026-04-23/
LOCATION:Duck Foot Miramar\, 8920 Kenamar Drive #210\, San Diego\, CA\, 92121\, United States
CATEGORIES:Deals,Featured,Leucadia,Miramar,Weekly
ATTACH;FMTTYPE=image/jpeg:https://duckfootbeer.com/wp-content/uploads/2022/03/IMG_2362.jpeg
END:VEVENT
BEGIN:VEVENT
DTSTART;TZID=America/Los_Angeles:20260423T150000
DTEND;TZID=America/Los_Angeles:20260423T200000
DTSTAMP:20260420T075333
CREATED:20260123T220906Z
LAST-MODIFIED:20260417T193235Z
UID:10007296-1776956400-1776974400@duckfootbeer.com
SUMMARY:Sourdough Shoppe
DESCRIPTION:Sourdough Shoppe Boulangeire & Pizza \nServing fresh artisan pizza\, made to order.
URL:https://duckfootbeer.com/event/sourdough-shoppe/2026-04-23/
LOCATION:Duck Foot Miramar\, 8920 Kenamar Drive #210\, San Diego\, CA\, 92121\, United States
CATEGORIES:Food Truck,Miramar
ATTACH;FMTTYPE=image/jpeg:https://duckfootbeer.com/wp-content/uploads/2026/01/food-truck-Sourdough_Shoppe.jpg
END:VEVENT
BEGIN:VEVENT
DTSTART;TZID=America/Los_Angeles:20260423T190000
DTEND;TZID=America/Los_Angeles:20260423T210000
DTSTAMP:20260420T075333
CREATED:20230328T045112Z
LAST-MODIFIED:20260218T014549Z
UID:10004538-1776970800-1776978000@duckfootbeer.com
SUMMARY:Leucadia Trivia Night
DESCRIPTION:Come quack up with us at our weekly Trivia Nights! Our hosts are full of feather-brained questions\, waddle with us and see who can rule the roost as the ultimate trivia champ. \nRSVP & MORE DEETS ON EVENTBRITE
URL:https://duckfootbeer.com/event/trivia-leucadia/2026-04-23/
LOCATION:Duck Foot Leucadia\, 978 N Coast Hwy 101\, Encinitas\, CA\, 92024\, United States
CATEGORIES:Leucadia,Trivia Night
ATTACH;FMTTYPE=image/jpeg:https://duckfootbeer.com/wp-content/uploads/2022/03/2023LeucadiaTrivia.jpg
END:VEVENT
BEGIN:VEVENT
DTSTART;TZID=America/Los_Angeles:20260424T160000
DTEND;TZID=America/Los_Angeles:20260424T210000
DTSTAMP:20260420T075333
CREATED:20240123T011332Z
LAST-MODIFIED:20260403T163738Z
UID:10007284-1777046400-1777064400@duckfootbeer.com
SUMMARY:Josue Cooks
DESCRIPTION:Josue Cooks serving up Tacos\, Pambazos & Huaraches fresh to order.
URL:https://duckfootbeer.com/event/josu/2026-04-24/
LOCATION:Duck Foot Miramar\, 8920 Kenamar Drive #210\, San Diego\, CA\, 92121\, United States
CATEGORIES:Food Truck,Miramar
ATTACH;FMTTYPE=image/jpeg:https://duckfootbeer.com/wp-content/uploads/2024/01/food-truck-MM-Josue-Cooks.jpg
END:VEVENT
BEGIN:VEVENT
DTSTART;TZID=America/Los_Angeles:20260425T120000
DTEND;TZID=America/Los_Angeles:20260425T220000
DTSTAMP:20260420T075333
CREATED:20260218T012054Z
LAST-MODIFIED:20260312T120525Z
UID:10007249-1777118400-1777154400@duckfootbeer.com
SUMMARY:Leucadia 3rd Anniversary Party
DESCRIPTION:We’re celebrating our 3rd Birthday in Leucadia! We will be enjoying the sun\, jammin’ to good tunes\, grabbing tasty bites\, and slangin’ beers all day! \n\nVinyl DJ from 3-8pm\nHawaiian Food Truck\nNew Photo Booth!\nSpecial Release Beers:\n\nLemonade Radler\nThe debut release of our new summer crushing beer! \n  \nSt. Alfonzo’s Imperial Stout\nw/ Toasted Coconut\, 12.8% \n  \nMURBON! \nImperial Stout Aged 18mo in Maple-Bourbon Barrels\, 11.0% \n  \nDraft Punk\nBlonde Ale w/ Roaster Coffee & Vanilla Bean\, 5.0% \n  \nHoney Blu Blu\nHoney Ale w/ Blueberry\, 6.5% \n  \n2am Micheladas\nMexican Lager Cocktail w/ Lime\, 4.5% \n  \nAviator Glasses\nBelgian Blonde Ale\, 6.5% \n  \nDuck Dry\nUnfiltered Japanese Rice Lager\, 4.1%
URL:https://duckfootbeer.com/event/3-yr-anniversary/
LOCATION:Duck Foot Leucadia\, 978 N Coast Hwy 101\, Encinitas\, CA\, 92024\, United States
CATEGORIES:Featured,Leucadia,Music,Release
ATTACH;FMTTYPE=image/png:https://duckfootbeer.com/wp-content/uploads/2026/02/Leucadia-3rd-1x1-1.png
END:VEVENT
BEGIN:VEVENT
DTSTART;TZID=America/Los_Angeles:20260425T130000
DTEND;TZID=America/Los_Angeles:20260425T200000
DTSTAMP:20260420T075333
CREATED:20240123T011332Z
LAST-MODIFIED:20260403T163738Z
UID:10007291-1777122000-1777147200@duckfootbeer.com
SUMMARY:Josue Cooks
DESCRIPTION:Josue Cooks serving up Tacos\, Pambazos & Huaraches fresh to order.
URL:https://duckfootbeer.com/event/josu/2026-04-25/
LOCATION:Duck Foot Miramar\, 8920 Kenamar Drive #210\, San Diego\, CA\, 92121\, United States
CATEGORIES:Food Truck,Miramar
ATTACH;FMTTYPE=image/jpeg:https://duckfootbeer.com/wp-content/uploads/2024/01/food-truck-MM-Josue-Cooks.jpg
END:VEVENT
BEGIN:VEVENT
DTSTART;TZID=America/Los_Angeles:20260425T150000
DTEND;TZID=America/Los_Angeles:20260425T173000
DTSTAMP:20260420T075333
CREATED:20250815T174635Z
LAST-MODIFIED:20260403T170258Z
UID:10007370-1777129200-1777138200@duckfootbeer.com
SUMMARY:Padres Happy Hours
DESCRIPTION:Padres baseball\, cold beer\, and good company—what more do you need?\nWe’re showing the game at the brewery\, and our staff will be right there cheering along. Come grab a pint and root for the Padres with us! \nBeer Special:\n$5 pints and $25 pitchers of all core beers to anyone in Padre gear\, DURING PADRES GAME HOURS ONLY!
URL:https://duckfootbeer.com/event/padres-bogo/2026-04-25/
LOCATION:CA
CATEGORIES:Featured,Leucadia,Miramar
ATTACH;FMTTYPE=image/jpeg:https://duckfootbeer.com/wp-content/uploads/2025/08/padres-happyhour-BoGo.jpg
END:VEVENT
BEGIN:VEVENT
DTSTART;TZID=America/Los_Angeles:20260425T183000
DTEND;TZID=America/Los_Angeles:20260425T220000
DTSTAMP:20260420T075333
CREATED:20220909T152919Z
LAST-MODIFIED:20260327T172140Z
UID:10001108-1777141800-1777154400@duckfootbeer.com
SUMMARY:Strange Crew - Clapton Tribute Night!
DESCRIPTION:Free Live Classic Rock Show \nStrange Crew  \nStrange Crew is a local Clapton Tribute band playing anything Clapton has ever touched. \n \nStrange Crew is:\nPhil Tish – Guitar & Vocals\nBahar Shahidi – Guitar & Vocals\nJeff Parker – Guitar & Vocals\nCobby Brzeski – Flute & Vocals\nJeremy Mercer – Drums\nChris Cahoon – Keys\nNeville Billimoria – Percussion \n  \n 
URL:https://duckfootbeer.com/event/strange-crew-clapton-tribute-night/
LOCATION:Duck Foot Miramar\, 8920 Kenamar Drive #210\, San Diego\, CA\, 92121\, United States
CATEGORIES:Featured,Miramar,Music
ATTACH;FMTTYPE=image/jpeg:https://duckfootbeer.com/wp-content/uploads/2022/09/Strange-Crew.jpg
END:VEVENT
BEGIN:VEVENT
DTSTART;TZID=America/Los_Angeles:20260426T130000
DTEND;TZID=America/Los_Angeles:20260426T150000
DTSTAMP:20260420T075333
CREATED:20231228T235954Z
LAST-MODIFIED:20260408T220107Z
UID:10007305-1777208400-1777215600@duckfootbeer.com
SUMMARY:Sunday Bluegrass Jam
DESCRIPTION:Join us at Duck Foot Brewing Company for a lively afternoon of bluegrass music with talented musicians from the San Diego Bluegrass Society\, Sunday 1-3PM! Sip on our delicious selection of craft beers while tapping your toes to the upbeat tunes and enjoying the company of fellow music and beer lovers.
URL:https://duckfootbeer.com/event/sunday-bluegrass-2/2026-04-26/
LOCATION:Duck Foot Miramar\, 8920 Kenamar Drive #210\, San Diego\, CA\, 92121\, United States
CATEGORIES:Featured,Miramar,Music
ATTACH;FMTTYPE=image/jpeg:https://duckfootbeer.com/wp-content/uploads/2023/02/bluegrasssunday2b.jpg
END:VEVENT
BEGIN:VEVENT
DTSTART;TZID=America/Los_Angeles:20260426T130000
DTEND;TZID=America/Los_Angeles:20260426T153000
DTSTAMP:20260420T075333
CREATED:20250815T174635Z
LAST-MODIFIED:20260403T170258Z
UID:10007371-1777208400-1777217400@duckfootbeer.com
SUMMARY:Padres Happy Hours
DESCRIPTION:Padres baseball\, cold beer\, and good company—what more do you need?\nWe’re showing the game at the brewery\, and our staff will be right there cheering along. Come grab a pint and root for the Padres with us! \nBeer Special:\n$5 pints and $25 pitchers of all core beers to anyone in Padre gear\, DURING PADRES GAME HOURS ONLY!
URL:https://duckfootbeer.com/event/padres-bogo/2026-04-26/
LOCATION:CA
CATEGORIES:Featured,Leucadia,Miramar
ATTACH;FMTTYPE=image/jpeg:https://duckfootbeer.com/wp-content/uploads/2025/08/padres-happyhour-BoGo.jpg
END:VEVENT
BEGIN:VEVENT
DTSTART;TZID=America/Los_Angeles:20260426T130000
DTEND;TZID=America/Los_Angeles:20260426T190000
DTSTAMP:20260420T075333
CREATED:20260123T220906Z
LAST-MODIFIED:20260417T193235Z
UID:10007297-1777208400-1777230000@duckfootbeer.com
SUMMARY:Sourdough Shoppe
DESCRIPTION:Sourdough Shoppe Boulangeire & Pizza \nServing fresh artisan pizza\, made to order.
URL:https://duckfootbeer.com/event/sourdough-shoppe/2026-04-26/
LOCATION:Duck Foot Miramar\, 8920 Kenamar Drive #210\, San Diego\, CA\, 92121\, United States
CATEGORIES:Food Truck,Miramar
ATTACH;FMTTYPE=image/jpeg:https://duckfootbeer.com/wp-content/uploads/2026/01/food-truck-Sourdough_Shoppe.jpg
END:VEVENT
BEGIN:VEVENT
DTSTART;VALUE=DATE:20260427
DTEND;VALUE=DATE:20260428
DTSTAMP:20260420T075333
CREATED:20251105T024541Z
LAST-MODIFIED:20260122T190743Z
UID:10005777-1777248000-1777334399@duckfootbeer.com
SUMMARY:$5 Mondays
DESCRIPTION:Just like the poster says\, we are serving up $5 Pints of our core beers all day\, every Monday at both locations.
URL:https://duckfootbeer.com/event/32112/2026-04-27/
LOCATION:CA
CATEGORIES:Deals,Featured,Leucadia,Miramar,Weekly
ATTACH;FMTTYPE=image/jpeg:https://duckfootbeer.com/wp-content/uploads/2025/11/monday-happy-hour-core.jpg
END:VEVENT
BEGIN:VEVENT
DTSTART;TZID=America/Los_Angeles:20260427T183000
DTEND;TZID=America/Los_Angeles:20260427T210000
DTSTAMP:20260420T075333
CREATED:20250815T174635Z
LAST-MODIFIED:20260403T170258Z
UID:10007372-1777314600-1777323600@duckfootbeer.com
SUMMARY:Padres Happy Hours
DESCRIPTION:Padres baseball\, cold beer\, and good company—what more do you need?\nWe’re showing the game at the brewery\, and our staff will be right there cheering along. Come grab a pint and root for the Padres with us! \nBeer Special:\n$5 pints and $25 pitchers of all core beers to anyone in Padre gear\, DURING PADRES GAME HOURS ONLY!
URL:https://duckfootbeer.com/event/padres-bogo/2026-04-27/
LOCATION:CA
CATEGORIES:Featured,Leucadia,Miramar
ATTACH;FMTTYPE=image/jpeg:https://duckfootbeer.com/wp-content/uploads/2025/08/padres-happyhour-BoGo.jpg
END:VEVENT
BEGIN:VEVENT
DTSTART;TZID=America/Los_Angeles:20260428T160000
DTEND;TZID=America/Los_Angeles:20260428T200000
DTSTAMP:20260420T075333
CREATED:20231025T200816Z
LAST-MODIFIED:20260403T164509Z
UID:10007278-1777392000-1777406400@duckfootbeer.com
SUMMARY:Antoyitos Borincanos
DESCRIPTION:Antoyitos Borincanos Puerto Rican Cuisine \n \n \nClick images to expand menus
URL:https://duckfootbeer.com/event/antoyitos/2026-04-28/
LOCATION:Duck Foot Miramar\, 8920 Kenamar Drive #210\, San Diego\, CA\, 92121\, United States
CATEGORIES:Food Truck,Miramar
ATTACH;FMTTYPE=image/jpeg:https://duckfootbeer.com/wp-content/uploads/2023/10/food-truck-MM-Antoyitos-Borincanos.jpg
END:VEVENT
BEGIN:VEVENT
DTSTART;TZID=America/Los_Angeles:20260428T183000
DTEND;TZID=America/Los_Angeles:20260428T210000
DTSTAMP:20260420T075333
CREATED:20250815T174635Z
LAST-MODIFIED:20260403T170258Z
UID:10007373-1777401000-1777410000@duckfootbeer.com
SUMMARY:Padres Happy Hours
DESCRIPTION:Padres baseball\, cold beer\, and good company—what more do you need?\nWe’re showing the game at the brewery\, and our staff will be right there cheering along. Come grab a pint and root for the Padres with us! \nBeer Special:\n$5 pints and $25 pitchers of all core beers to anyone in Padre gear\, DURING PADRES GAME HOURS ONLY!
URL:https://duckfootbeer.com/event/padres-bogo/2026-04-28/
LOCATION:CA
CATEGORIES:Featured,Leucadia,Miramar
ATTACH;FMTTYPE=image/jpeg:https://duckfootbeer.com/wp-content/uploads/2025/08/padres-happyhour-BoGo.jpg
END:VEVENT
BEGIN:VEVENT
DTSTART;TZID=America/Los_Angeles:20260428T190000
DTEND;TZID=America/Los_Angeles:20260428T210000
DTSTAMP:20260420T075333
CREATED:20260408T215500Z
LAST-MODIFIED:20260408T215928Z
UID:10007381-1777402800-1777410000@duckfootbeer.com
SUMMARY:How The Stars Made
DESCRIPTION:Take a break from the ordinary and look up\, way up. Join us for an unforgettable evening under the stars\, with Madison Middle School science teacher Patrick Pezzoli bringing the universe a little closer to home. In his engaging presentation\, “How the Stars Made Planets\, Barley & Hops\, and YOU!” you’ll discover the cosmic connections between the galaxies above and the very ingredients in your glass. \nFrom the birth of stars to the elements that make up life (and great beer)\, this is science told in a way that’s fascinating\, approachable\, and just the right amount of mind-blowing. \nAnd if the skies cooperate\, the experience doesn’t stop there. A 16-inch telescope will be set up for live stargazing\, giving you the chance to catch a real-time glimpse of Jupiter and beyond.
URL:https://duckfootbeer.com/event/how-the-stars-made/
LOCATION:Duck Foot Leucadia\, 978 N Coast Hwy 101\, Encinitas\, CA\, 92024\, United States
CATEGORIES:Featured,Miramar
ATTACH;FMTTYPE=image/png:https://duckfootbeer.com/wp-content/uploads/2026/04/Pezzoli-Space-Event-3.png
END:VEVENT
BEGIN:VEVENT
DTSTART;TZID=America/Los_Angeles:20260428T190000
DTEND;TZID=America/Los_Angeles:20260428T213000
DTSTAMP:20260420T075333
CREATED:20250819T234203Z
LAST-MODIFIED:20260327T172400Z
UID:10007307-1777402800-1777411800@duckfootbeer.com
SUMMARY:San Diego Jazz Collective - Jam Session
DESCRIPTION:Come join us for free live music\, as we welcome the San Diego Jazz Collective for a night of unrehearsed musical collaboration. This event is a great intimate experience held in our tasting room\, where musicians will cycle in and out through the night.
URL:https://duckfootbeer.com/event/jazz-jam/2026-04-28/
LOCATION:Duck Foot Miramar\, 8920 Kenamar Drive #210\, San Diego\, CA\, 92121\, United States
CATEGORIES:Featured,Miramar,Music
ATTACH;FMTTYPE=image/jpeg:https://duckfootbeer.com/wp-content/uploads/2023/01/jazznight2.jpg
END:VEVENT
BEGIN:VEVENT
DTSTART;TZID=America/Los_Angeles:20260429T130000
DTEND;TZID=America/Los_Angeles:20260429T153000
DTSTAMP:20260420T075333
CREATED:20250815T174635Z
LAST-MODIFIED:20260403T170258Z
UID:10007374-1777467600-1777476600@duckfootbeer.com
SUMMARY:Padres Happy Hours
DESCRIPTION:Padres baseball\, cold beer\, and good company—what more do you need?\nWe’re showing the game at the brewery\, and our staff will be right there cheering along. Come grab a pint and root for the Padres with us! \nBeer Special:\n$5 pints and $25 pitchers of all core beers to anyone in Padre gear\, DURING PADRES GAME HOURS ONLY!
URL:https://duckfootbeer.com/event/padres-bogo/2026-04-29/
LOCATION:CA
CATEGORIES:Featured,Leucadia,Miramar
ATTACH;FMTTYPE=image/jpeg:https://duckfootbeer.com/wp-content/uploads/2025/08/padres-happyhour-BoGo.jpg
END:VEVENT
BEGIN:VEVENT
DTSTART;TZID=America/Los_Angeles:20260429T160000
DTEND;TZID=America/Los_Angeles:20260429T210000
DTSTAMP:20260420T075333
CREATED:20260211T214751Z
LAST-MODIFIED:20260401T165505Z
UID:10007292-1777478400-1777496400@duckfootbeer.com
SUMMARY:Papas Pacific Island BBQ
DESCRIPTION:Papas Pacific Island BBQ \nIsland BBQ Comfort Food\n• Huli Chicken\, Beef Kalbi\, & Garlic Shrimp bowls\n• Island BBQ skewer plates
URL:https://duckfootbeer.com/event/papas/2026-04-29/
LOCATION:Duck Foot Miramar\, 8920 Kenamar Drive #210\, San Diego\, CA\, 92121\, United States
CATEGORIES:Food Truck,Miramar
ATTACH;FMTTYPE=image/jpeg:https://duckfootbeer.com/wp-content/uploads/2026/02/Papas_BBQ-MM-food-truck.jpg
END:VEVENT
BEGIN:VEVENT
DTSTART;TZID=America/Los_Angeles:20260429T190000
DTEND;TZID=America/Los_Angeles:20260429T210000
DTSTAMP:20260420T075333
CREATED:20240118T170426Z
LAST-MODIFIED:20260129T182136Z
UID:10004886-1777489200-1777496400@duckfootbeer.com
SUMMARY:Bingo Night
DESCRIPTION:Join us every Wednesday from 7-9 PM with host Adam Jara! Get ready to quack up at our Bingo Night hosted at Duck Foot Brewing Leucadia! With awesome prizes up for grabs\, this is no ordinary duck hunt – it’s a night of lucky ducky fun!
URL:https://duckfootbeer.com/event/bingo-leucadia-2/2026-04-29/
LOCATION:Duck Foot Leucadia\, 978 N Coast Hwy 101\, Encinitas\, CA\, 92024\, United States
CATEGORIES:Featured,Games,Leucadia
ATTACH;FMTTYPE=image/jpeg:https://duckfootbeer.com/wp-content/uploads/2023/03/bingo-w-leucadia.jpg
END:VEVENT
BEGIN:VEVENT
DTSTART;TZID=UTC:20260429T190000
DTEND;TZID=UTC:20260429T210000
DTSTAMP:20260420T075333
CREATED:20250430T231756Z
LAST-MODIFIED:20260327T172524Z
UID:10002329-1777489200-1777496400@duckfootbeer.com
SUMMARY:Miramar Trivia Night
DESCRIPTION:Come quack up with us at our weekly Trivia Nights! Our hosts are full of feather-brained questions\, waddle with us and see who can rule the roost as the ultimate trivia champ!
URL:https://duckfootbeer.com/event/trivia-night-2/2026-04-29/
LOCATION:Duck Foot Miramar\, 8920 Kenamar Drive #210\, San Diego\, CA\, 92121\, United States
CATEGORIES:Featured,Games,Miramar,Poster,Weekly
ATTACH;FMTTYPE=image/jpeg:https://duckfootbeer.com/wp-content/uploads/2022/03/2023MiramarTrivia.jpg
END:VEVENT
BEGIN:VEVENT
DTSTART;TZID=UTC:20260430T120000
DTEND;TZID=UTC:20260430T210000
DTSTAMP:20260420T075333
CREATED:20220302T111111Z
LAST-MODIFIED:20260122T183410Z
UID:10006954-1777550400-1777582800@duckfootbeer.com
SUMMARY:Thirsty Thursdays
DESCRIPTION:Every Thursday = To-Go Fills Day.Save 20% on all crowler & growler fills\, open to close\, at Miramar and Leucadia.Stock up\, share (or don’t)\, repeat weekly.
URL:https://duckfootbeer.com/event/thirsty-thursdays/2026-04-30/
LOCATION:Duck Foot Miramar\, 8920 Kenamar Drive #210\, San Diego\, CA\, 92121\, United States
CATEGORIES:Deals,Featured,Leucadia,Miramar,Weekly
ATTACH;FMTTYPE=image/jpeg:https://duckfootbeer.com/wp-content/uploads/2022/03/IMG_2362.jpeg
END:VEVENT
BEGIN:VEVENT
DTSTART;TZID=America/Los_Angeles:20260430T160000
DTEND;TZID=America/Los_Angeles:20260430T210000
DTSTAMP:20260420T075333
CREATED:20241217T012350Z
LAST-MODIFIED:20260417T185157Z
UID:10007290-1777564800-1777582800@duckfootbeer.com
SUMMARY:MJ's Philly Cheesesteaks
DESCRIPTION:Cheese Steaks and more
URL:https://duckfootbeer.com/event/mj-philly/2026-04-30/
LOCATION:Duck Foot Miramar\, 8920 Kenamar Drive #210\, San Diego\, CA\, 92121\, United States
CATEGORIES:Featured,Food Truck,Miramar
ATTACH;FMTTYPE=image/jpeg:https://duckfootbeer.com/wp-content/uploads/2024/12/food-truck-MJs.jpg
END:VEVENT
BEGIN:VEVENT
DTSTART;TZID=America/Los_Angeles:20260430T183000
DTEND;TZID=America/Los_Angeles:20260430T203000
DTSTAMP:20260420T075333
CREATED:20251114T213246Z
LAST-MODIFIED:20260327T172920Z
UID:10006031-1777573800-1777581000@duckfootbeer.com
SUMMARY:Authentic Handmade Dumplings Class
DESCRIPTION:Discover the flavor-packed world of dumplings! These juicy and plump morsels filled with hearty ingredients such as ground meat\, vegetables and classic seasoning such as soy sauce and sesame oil wrapped in fun shapes and folds will bring such joy as soon as you take a big bite. This class is hands-on\, yet casual and easy going\, making it a perfect occasion for a romantic date night or a fun outing with your family and friends! \nMaster the basics of dumpling wrapping in various different shapes. You will get a chance to work with high-quality store-bought dumpling wrappers and also learn valuable knife skills and learn how to create your own fillings from scratch. You will learn to make a traditional pork-based mixture as well as a vegetable filling. \nNo experience is required! We provide all the equipment and ingredients\, which are easy to find at local markets if you do not already have them in your home kitchen. Our events are casual and meant to be fun and instructive\, not hardcore. This class is designed to be just as fun for the cooking enthusiast who wants to be a part of every step as it is for the first-timer who is happier observing and assisting (or taste testing). \nPlease arrive 15 minutes early to check in. BYOB is restricted. Our venue partner\, Duckfoot Brewing will have a great selection of crafted pour available for purchase. 21+ only.
URL:https://duckfootbeer.com/event/authentic-handmade-dumplings-class/
LOCATION:Duck Foot Miramar\, 8920 Kenamar Drive #210\, San Diego\, CA\, 92121\, United States
CATEGORIES:Featured,Miramar,Workshop
ATTACH;FMTTYPE=image/jpeg:https://duckfootbeer.com/wp-content/uploads/2025/08/Cooking-Class-Dumplings.jpg
END:VEVENT
BEGIN:VEVENT
DTSTART;TZID=America/Los_Angeles:20260430T190000
DTEND;TZID=America/Los_Angeles:20260430T210000
DTSTAMP:20260420T075333
CREATED:20230328T045112Z
LAST-MODIFIED:20260218T014549Z
UID:10004539-1777575600-1777582800@duckfootbeer.com
SUMMARY:Leucadia Trivia Night
DESCRIPTION:Come quack up with us at our weekly Trivia Nights! Our hosts are full of feather-brained questions\, waddle with us and see who can rule the roost as the ultimate trivia champ. \nRSVP & MORE DEETS ON EVENTBRITE
URL:https://duckfootbeer.com/event/trivia-leucadia/2026-04-30/
LOCATION:Duck Foot Leucadia\, 978 N Coast Hwy 101\, Encinitas\, CA\, 92024\, United States
CATEGORIES:Leucadia,Trivia Night
ATTACH;FMTTYPE=image/jpeg:https://duckfootbeer.com/wp-content/uploads/2022/03/2023LeucadiaTrivia.jpg
END:VEVENT
BEGIN:VEVENT
DTSTART;TZID=America/Los_Angeles:20260501T160000
DTEND;TZID=America/Los_Angeles:20260501T210000
DTSTAMP:20260420T075333
CREATED:20240123T011332Z
LAST-MODIFIED:20260403T163738Z
UID:10007338-1777651200-1777669200@duckfootbeer.com
SUMMARY:Josue Cooks
DESCRIPTION:Josue Cooks serving up Tacos\, Pambazos & Huaraches fresh to order.
URL:https://duckfootbeer.com/event/josu/2026-05-01/
LOCATION:Duck Foot Miramar\, 8920 Kenamar Drive #210\, San Diego\, CA\, 92121\, United States
CATEGORIES:Food Truck,Miramar
ATTACH;FMTTYPE=image/jpeg:https://duckfootbeer.com/wp-content/uploads/2024/01/food-truck-MM-Josue-Cooks.jpg
END:VEVENT
BEGIN:VEVENT
DTSTART;TZID=America/Los_Angeles:20260502T120000
DTEND;TZID=America/Los_Angeles:20260502T200000
DTSTAMP:20260420T075333
CREATED:20231025T200816Z
LAST-MODIFIED:20260403T164509Z
UID:10007343-1777723200-1777752000@duckfootbeer.com
SUMMARY:Antoyitos Borincanos
DESCRIPTION:Antoyitos Borincanos Puerto Rican Cuisine \n \n \nClick images to expand menus
URL:https://duckfootbeer.com/event/antoyitos/2026-05-02/
LOCATION:Duck Foot Miramar\, 8920 Kenamar Drive #210\, San Diego\, CA\, 92121\, United States
CATEGORIES:Food Truck,Miramar
ATTACH;FMTTYPE=image/jpeg:https://duckfootbeer.com/wp-content/uploads/2023/10/food-truck-MM-Antoyitos-Borincanos.jpg
END:VEVENT
BEGIN:VEVENT
DTSTART;TZID=America/Los_Angeles:20260503T123000
DTEND;TZID=America/Los_Angeles:20260503T190000
DTSTAMP:20260420T075333
CREATED:20241217T012350Z
LAST-MODIFIED:20260417T185157Z
UID:10007377-1777811400-1777834800@duckfootbeer.com
SUMMARY:MJ's Philly Cheesesteaks
DESCRIPTION:Cheese Steaks and more
URL:https://duckfootbeer.com/event/mj-philly/2026-05-03/
LOCATION:Duck Foot Miramar\, 8920 Kenamar Drive #210\, San Diego\, CA\, 92121\, United States
CATEGORIES:Featured,Food Truck,Miramar
ATTACH;FMTTYPE=image/jpeg:https://duckfootbeer.com/wp-content/uploads/2024/12/food-truck-MJs.jpg
END:VEVENT
BEGIN:VEVENT
DTSTART;TZID=America/Los_Angeles:20260503T130000
DTEND;TZID=America/Los_Angeles:20260503T150000
DTSTAMP:20260420T075333
CREATED:20251001T193500Z
LAST-MODIFIED:20260327T173019Z
UID:10005618-1777813200-1777820400@duckfootbeer.com
SUMMARY:Authentic Handmade Dumplings Class
DESCRIPTION:Discover the flavor-packed world of dumplings! These juicy and plump morsels filled with hearty ingredients such as ground meat\, vegetables and classic seasoning such as soy sauce and sesame oil wrapped in fun shapes and folds will bring such joy as soon as you take a big bite. This class is hands-on\, yet casual and easy going\, making it a perfect occasion for a romantic date night or a fun outing with your family and friends! \nMaster the basics of dumpling wrapping in various different shapes. You will get a chance to work with high-quality store-bought dumpling wrappers and also learn valuable knife skills and learn how to create your own fillings from scratch. You will learn to make a traditional pork-based mixture as well as a vegetable filling. \nNo experience is required! We provide all the equipment and ingredients\, which are easy to find at local markets if you do not already have them in your home kitchen. Our events are casual and meant to be fun and instructive\, not hardcore. This class is designed to be just as fun for the cooking enthusiast who wants to be a part of every step as it is for the first-timer who is happier observing and assisting (or taste testing). \nPlease arrive 15 minutes early to check in. BYOB is restricted. Our venue partner\, Duckfoot Brewing will have a great selection of crafted pour available for purchase. 21+ only.
URL:https://duckfootbeer.com/event/dumplings-2/
LOCATION:CA
CATEGORIES:Featured,Miramar,Workshop
ATTACH;FMTTYPE=image/jpeg:https://duckfootbeer.com/wp-content/uploads/2025/08/Cooking-Class-Dumplings.jpg
END:VEVENT
BEGIN:VEVENT
DTSTART;VALUE=DATE:20260504
DTEND;VALUE=DATE:20260505
DTSTAMP:20260420T075333
CREATED:20251105T024541Z
LAST-MODIFIED:20260122T190743Z
UID:10005778-1777852800-1777939199@duckfootbeer.com
SUMMARY:$5 Mondays
DESCRIPTION:Just like the poster says\, we are serving up $5 Pints of our core beers all day\, every Monday at both locations.
URL:https://duckfootbeer.com/event/32112/2026-05-04/
LOCATION:CA
CATEGORIES:Deals,Featured,Leucadia,Miramar,Weekly
ATTACH;FMTTYPE=image/jpeg:https://duckfootbeer.com/wp-content/uploads/2025/11/monday-happy-hour-core.jpg
END:VEVENT
END:VCALENDAR