BEGIN:VCALENDAR
VERSION:2.0
PRODID:-//Duck Foot Brewing Co - ECPv6.15.12.1//NONSGML v1.0//EN
CALSCALE:GREGORIAN
METHOD:PUBLISH
X-WR-CALNAME:Duck Foot Brewing Co
X-ORIGINAL-URL:https://duckfootbeer.com
X-WR-CALDESC:Events for Duck Foot Brewing Co
REFRESH-INTERVAL;VALUE=DURATION:PT1H
X-Robots-Tag:noindex
X-PUBLISHED-TTL:PT1H
BEGIN:VTIMEZONE
TZID:America/Los_Angeles
BEGIN:DAYLIGHT
TZOFFSETFROM:-0800
TZOFFSETTO:-0700
TZNAME:PDT
DTSTART:20220313T100000
END:DAYLIGHT
BEGIN:STANDARD
TZOFFSETFROM:-0700
TZOFFSETTO:-0800
TZNAME:PST
DTSTART:20221106T090000
END:STANDARD
BEGIN:DAYLIGHT
TZOFFSETFROM:-0800
TZOFFSETTO:-0700
TZNAME:PDT
DTSTART:20230312T100000
END:DAYLIGHT
BEGIN:STANDARD
TZOFFSETFROM:-0700
TZOFFSETTO:-0800
TZNAME:PST
DTSTART:20231105T090000
END:STANDARD
BEGIN:DAYLIGHT
TZOFFSETFROM:-0800
TZOFFSETTO:-0700
TZNAME:PDT
DTSTART:20240310T100000
END:DAYLIGHT
BEGIN:STANDARD
TZOFFSETFROM:-0700
TZOFFSETTO:-0800
TZNAME:PST
DTSTART:20241103T090000
END:STANDARD
END:VTIMEZONE
BEGIN:VEVENT
DTSTART;TZID=America/Los_Angeles:20230603T190000
DTEND;TZID=America/Los_Angeles:20230603T210000
DTSTAMP:20260421T001645
CREATED:20230519T000941Z
LAST-MODIFIED:20230519T000941Z
UID:9483-1685818800-1685826000@duckfootbeer.com
SUMMARY:Wicked Echoes
DESCRIPTION:FREE SHOW! \nWicked Echoes\nNominated for Best Rock Album 2019 by the San Diego Music Academy\, Wicked Echoes present a tactile\, gritty\, emotive ride through musical wreckage and redemption.\nMembers include Nox Anger – Lead Vocals and Guitar\, Chris Strothers – Drums\, and Jovi Olivas on backing Vox and Keys.\nEstablished in 2017\, The band has been on a steady growth trajectory until the Pandemic hit. Back on track\, all is GO! \nWicked Echoes Social Media \nWebsite\nFacebook\nInstagram \nWicked Echoes Sample \nVideo 1\nVideo 2
URL:https://duckfootbeer.com/event/wicked-echoes/
LOCATION:Duck Foot Miramar\, 8920 Kenamar Drive #210\, San Diego\, CA\, 92121\, United States
CATEGORIES:Featured,Miramar,Music
ATTACH;FMTTYPE=image/jpeg:https://duckfootbeer.com/wp-content/uploads/2023/05/Wicked-Echoes-6-3.jpg
END:VEVENT
END:VCALENDAR