BEGIN:VCALENDAR
VERSION:2.0
PRODID:-//Duck Foot Brewing Co - ECPv6.15.12.1//NONSGML v1.0//EN
CALSCALE:GREGORIAN
METHOD:PUBLISH
X-WR-CALNAME:Duck Foot Brewing Co
X-ORIGINAL-URL:https://duckfootbeer.com
X-WR-CALDESC:Events for Duck Foot Brewing Co
REFRESH-INTERVAL;VALUE=DURATION:PT1H
X-Robots-Tag:noindex
X-PUBLISHED-TTL:PT1H
BEGIN:VTIMEZONE
TZID:America/Los_Angeles
BEGIN:DAYLIGHT
TZOFFSETFROM:-0800
TZOFFSETTO:-0700
TZNAME:PDT
DTSTART:20230312T100000
END:DAYLIGHT
BEGIN:STANDARD
TZOFFSETFROM:-0700
TZOFFSETTO:-0800
TZNAME:PST
DTSTART:20231105T090000
END:STANDARD
BEGIN:DAYLIGHT
TZOFFSETFROM:-0800
TZOFFSETTO:-0700
TZNAME:PDT
DTSTART:20240310T100000
END:DAYLIGHT
BEGIN:STANDARD
TZOFFSETFROM:-0700
TZOFFSETTO:-0800
TZNAME:PST
DTSTART:20241103T090000
END:STANDARD
BEGIN:DAYLIGHT
TZOFFSETFROM:-0800
TZOFFSETTO:-0700
TZNAME:PDT
DTSTART:20250309T100000
END:DAYLIGHT
BEGIN:STANDARD
TZOFFSETFROM:-0700
TZOFFSETTO:-0800
TZNAME:PST
DTSTART:20251102T090000
END:STANDARD
END:VTIMEZONE
BEGIN:VEVENT
DTSTART;TZID=America/Los_Angeles:20240217T190000
DTEND;TZID=America/Los_Angeles:20240217T210000
DTSTAMP:20260424T091440
CREATED:20230620T232400Z
LAST-MODIFIED:20240117T234526Z
UID:9884-1708196400-1708203600@duckfootbeer.com
SUMMARY:The Gravities
DESCRIPTION:The Gravities \nThe Gravities is a powerhouse Soul/funk collaboration from San Diego California\, and always leads with an intention to get you moving and keep you grooving. The gravities performs an intimate show experience with music that ranges from soul groove\, blues\, roots\, and funk. Founder\, Isaac Guerra\, serves as lead vocals and plays the drums\, Co-Founder\, Samuel Pierce is guitarist and back up vocalist. Together\, The Gravities have written and arranged all original music and tunes. Going on 8 years strong as a band unit\, The Gravities are most certainly a force to be reckoned with. \n  \nThe Gravities Socials\nWebsite\nFacebook\nInstagram\nSoundcloud\nYouTube \nThe Gravities Video\nVideo 1\nVideo 2
URL:https://duckfootbeer.com/event/the-gravities/
LOCATION:Duck Foot Miramar\, 8920 Kenamar Drive #210\, San Diego\, CA\, 92121\, United States
CATEGORIES:Featured,Miramar,Music
ATTACH;FMTTYPE=image/jpeg:https://duckfootbeer.com/wp-content/uploads/2023/06/The-Gravities-banner.jpg
END:VEVENT
END:VCALENDAR