BEGIN:VCALENDAR
VERSION:2.0
PRODID:-//Duck Foot Brewing Co - ECPv6.15.12.1//NONSGML v1.0//EN
CALSCALE:GREGORIAN
METHOD:PUBLISH
X-WR-CALNAME:Duck Foot Brewing Co
X-ORIGINAL-URL:https://duckfootbeer.com
X-WR-CALDESC:Events for Duck Foot Brewing Co
REFRESH-INTERVAL;VALUE=DURATION:PT1H
X-Robots-Tag:noindex
X-PUBLISHED-TTL:PT1H
BEGIN:VTIMEZONE
TZID:America/Los_Angeles
BEGIN:DAYLIGHT
TZOFFSETFROM:-0800
TZOFFSETTO:-0700
TZNAME:PDT
DTSTART:20250309T100000
END:DAYLIGHT
BEGIN:STANDARD
TZOFFSETFROM:-0700
TZOFFSETTO:-0800
TZNAME:PST
DTSTART:20251102T090000
END:STANDARD
BEGIN:DAYLIGHT
TZOFFSETFROM:-0800
TZOFFSETTO:-0700
TZNAME:PDT
DTSTART:20260308T100000
END:DAYLIGHT
BEGIN:STANDARD
TZOFFSETFROM:-0700
TZOFFSETTO:-0800
TZNAME:PST
DTSTART:20261101T090000
END:STANDARD
BEGIN:DAYLIGHT
TZOFFSETFROM:-0800
TZOFFSETTO:-0700
TZNAME:PDT
DTSTART:20270314T100000
END:DAYLIGHT
BEGIN:STANDARD
TZOFFSETFROM:-0700
TZOFFSETTO:-0800
TZNAME:PST
DTSTART:20271107T090000
END:STANDARD
END:VTIMEZONE
BEGIN:VEVENT
DTSTART;TZID=America/Los_Angeles:20260423T190000
DTEND;TZID=America/Los_Angeles:20260423T210000
DTSTAMP:20260421T045445
CREATED:20230328T045112Z
LAST-MODIFIED:20260218T014549Z
UID:10004538-1776970800-1776978000@duckfootbeer.com
SUMMARY:Leucadia Trivia Night
DESCRIPTION:Come quack up with us at our weekly Trivia Nights! Our hosts are full of feather-brained questions\, waddle with us and see who can rule the roost as the ultimate trivia champ. \nRSVP & MORE DEETS ON EVENTBRITE
URL:https://duckfootbeer.com/event/trivia-leucadia/2026-04-23/
LOCATION:Duck Foot Leucadia\, 978 N Coast Hwy 101\, Encinitas\, CA\, 92024\, United States
CATEGORIES:Leucadia,Trivia Night
ATTACH;FMTTYPE=image/jpeg:https://duckfootbeer.com/wp-content/uploads/2022/03/2023LeucadiaTrivia.jpg
END:VEVENT
BEGIN:VEVENT
DTSTART;TZID=America/Los_Angeles:20260430T190000
DTEND;TZID=America/Los_Angeles:20260430T210000
DTSTAMP:20260421T045445
CREATED:20230328T045112Z
LAST-MODIFIED:20260218T014549Z
UID:10004539-1777575600-1777582800@duckfootbeer.com
SUMMARY:Leucadia Trivia Night
DESCRIPTION:Come quack up with us at our weekly Trivia Nights! Our hosts are full of feather-brained questions\, waddle with us and see who can rule the roost as the ultimate trivia champ. \nRSVP & MORE DEETS ON EVENTBRITE
URL:https://duckfootbeer.com/event/trivia-leucadia/2026-04-30/
LOCATION:Duck Foot Leucadia\, 978 N Coast Hwy 101\, Encinitas\, CA\, 92024\, United States
CATEGORIES:Leucadia,Trivia Night
ATTACH;FMTTYPE=image/jpeg:https://duckfootbeer.com/wp-content/uploads/2022/03/2023LeucadiaTrivia.jpg
END:VEVENT
BEGIN:VEVENT
DTSTART;TZID=America/Los_Angeles:20260507T190000
DTEND;TZID=America/Los_Angeles:20260507T210000
DTSTAMP:20260421T045445
CREATED:20230328T045112Z
LAST-MODIFIED:20260218T014549Z
UID:10004540-1778180400-1778187600@duckfootbeer.com
SUMMARY:Leucadia Trivia Night
DESCRIPTION:Come quack up with us at our weekly Trivia Nights! Our hosts are full of feather-brained questions\, waddle with us and see who can rule the roost as the ultimate trivia champ. \nRSVP & MORE DEETS ON EVENTBRITE
URL:https://duckfootbeer.com/event/trivia-leucadia/2026-05-07/
LOCATION:Duck Foot Leucadia\, 978 N Coast Hwy 101\, Encinitas\, CA\, 92024\, United States
CATEGORIES:Leucadia,Trivia Night
ATTACH;FMTTYPE=image/jpeg:https://duckfootbeer.com/wp-content/uploads/2022/03/2023LeucadiaTrivia.jpg
END:VEVENT
BEGIN:VEVENT
DTSTART;TZID=America/Los_Angeles:20260514T190000
DTEND;TZID=America/Los_Angeles:20260514T210000
DTSTAMP:20260421T045445
CREATED:20230328T045112Z
LAST-MODIFIED:20260218T014549Z
UID:10004541-1778785200-1778792400@duckfootbeer.com
SUMMARY:Leucadia Trivia Night
DESCRIPTION:Come quack up with us at our weekly Trivia Nights! Our hosts are full of feather-brained questions\, waddle with us and see who can rule the roost as the ultimate trivia champ. \nRSVP & MORE DEETS ON EVENTBRITE
URL:https://duckfootbeer.com/event/trivia-leucadia/2026-05-14/
LOCATION:Duck Foot Leucadia\, 978 N Coast Hwy 101\, Encinitas\, CA\, 92024\, United States
CATEGORIES:Leucadia,Trivia Night
ATTACH;FMTTYPE=image/jpeg:https://duckfootbeer.com/wp-content/uploads/2022/03/2023LeucadiaTrivia.jpg
END:VEVENT
BEGIN:VEVENT
DTSTART;TZID=America/Los_Angeles:20260521T190000
DTEND;TZID=America/Los_Angeles:20260521T210000
DTSTAMP:20260421T045445
CREATED:20230328T045112Z
LAST-MODIFIED:20260218T014549Z
UID:10004542-1779390000-1779397200@duckfootbeer.com
SUMMARY:Leucadia Trivia Night
DESCRIPTION:Come quack up with us at our weekly Trivia Nights! Our hosts are full of feather-brained questions\, waddle with us and see who can rule the roost as the ultimate trivia champ. \nRSVP & MORE DEETS ON EVENTBRITE
URL:https://duckfootbeer.com/event/trivia-leucadia/2026-05-21/
LOCATION:Duck Foot Leucadia\, 978 N Coast Hwy 101\, Encinitas\, CA\, 92024\, United States
CATEGORIES:Leucadia,Trivia Night
ATTACH;FMTTYPE=image/jpeg:https://duckfootbeer.com/wp-content/uploads/2022/03/2023LeucadiaTrivia.jpg
END:VEVENT
BEGIN:VEVENT
DTSTART;TZID=America/Los_Angeles:20260528T190000
DTEND;TZID=America/Los_Angeles:20260528T210000
DTSTAMP:20260421T045445
CREATED:20230328T045112Z
LAST-MODIFIED:20260218T014549Z
UID:10004543-1779994800-1780002000@duckfootbeer.com
SUMMARY:Leucadia Trivia Night
DESCRIPTION:Come quack up with us at our weekly Trivia Nights! Our hosts are full of feather-brained questions\, waddle with us and see who can rule the roost as the ultimate trivia champ. \nRSVP & MORE DEETS ON EVENTBRITE
URL:https://duckfootbeer.com/event/trivia-leucadia/2026-05-28/
LOCATION:Duck Foot Leucadia\, 978 N Coast Hwy 101\, Encinitas\, CA\, 92024\, United States
CATEGORIES:Leucadia,Trivia Night
ATTACH;FMTTYPE=image/jpeg:https://duckfootbeer.com/wp-content/uploads/2022/03/2023LeucadiaTrivia.jpg
END:VEVENT
BEGIN:VEVENT
DTSTART;TZID=America/Los_Angeles:20260604T190000
DTEND;TZID=America/Los_Angeles:20260604T210000
DTSTAMP:20260421T045445
CREATED:20230328T045112Z
LAST-MODIFIED:20260218T014549Z
UID:10004544-1780599600-1780606800@duckfootbeer.com
SUMMARY:Leucadia Trivia Night
DESCRIPTION:Come quack up with us at our weekly Trivia Nights! Our hosts are full of feather-brained questions\, waddle with us and see who can rule the roost as the ultimate trivia champ. \nRSVP & MORE DEETS ON EVENTBRITE
URL:https://duckfootbeer.com/event/trivia-leucadia/2026-06-04/
LOCATION:Duck Foot Leucadia\, 978 N Coast Hwy 101\, Encinitas\, CA\, 92024\, United States
CATEGORIES:Leucadia,Trivia Night
ATTACH;FMTTYPE=image/jpeg:https://duckfootbeer.com/wp-content/uploads/2022/03/2023LeucadiaTrivia.jpg
END:VEVENT
BEGIN:VEVENT
DTSTART;TZID=America/Los_Angeles:20260611T190000
DTEND;TZID=America/Los_Angeles:20260611T210000
DTSTAMP:20260421T045445
CREATED:20230328T045112Z
LAST-MODIFIED:20260218T014549Z
UID:10004545-1781204400-1781211600@duckfootbeer.com
SUMMARY:Leucadia Trivia Night
DESCRIPTION:Come quack up with us at our weekly Trivia Nights! Our hosts are full of feather-brained questions\, waddle with us and see who can rule the roost as the ultimate trivia champ. \nRSVP & MORE DEETS ON EVENTBRITE
URL:https://duckfootbeer.com/event/trivia-leucadia/2026-06-11/
LOCATION:Duck Foot Leucadia\, 978 N Coast Hwy 101\, Encinitas\, CA\, 92024\, United States
CATEGORIES:Leucadia,Trivia Night
ATTACH;FMTTYPE=image/jpeg:https://duckfootbeer.com/wp-content/uploads/2022/03/2023LeucadiaTrivia.jpg
END:VEVENT
BEGIN:VEVENT
DTSTART;TZID=America/Los_Angeles:20260618T190000
DTEND;TZID=America/Los_Angeles:20260618T210000
DTSTAMP:20260421T045445
CREATED:20230328T045112Z
LAST-MODIFIED:20260218T014549Z
UID:10004546-1781809200-1781816400@duckfootbeer.com
SUMMARY:Leucadia Trivia Night
DESCRIPTION:Come quack up with us at our weekly Trivia Nights! Our hosts are full of feather-brained questions\, waddle with us and see who can rule the roost as the ultimate trivia champ. \nRSVP & MORE DEETS ON EVENTBRITE
URL:https://duckfootbeer.com/event/trivia-leucadia/2026-06-18/
LOCATION:Duck Foot Leucadia\, 978 N Coast Hwy 101\, Encinitas\, CA\, 92024\, United States
CATEGORIES:Leucadia,Trivia Night
ATTACH;FMTTYPE=image/jpeg:https://duckfootbeer.com/wp-content/uploads/2022/03/2023LeucadiaTrivia.jpg
END:VEVENT
BEGIN:VEVENT
DTSTART;TZID=America/Los_Angeles:20260625T190000
DTEND;TZID=America/Los_Angeles:20260625T210000
DTSTAMP:20260421T045445
CREATED:20230328T045112Z
LAST-MODIFIED:20260218T014549Z
UID:10004547-1782414000-1782421200@duckfootbeer.com
SUMMARY:Leucadia Trivia Night
DESCRIPTION:Come quack up with us at our weekly Trivia Nights! Our hosts are full of feather-brained questions\, waddle with us and see who can rule the roost as the ultimate trivia champ. \nRSVP & MORE DEETS ON EVENTBRITE
URL:https://duckfootbeer.com/event/trivia-leucadia/2026-06-25/
LOCATION:Duck Foot Leucadia\, 978 N Coast Hwy 101\, Encinitas\, CA\, 92024\, United States
CATEGORIES:Leucadia,Trivia Night
ATTACH;FMTTYPE=image/jpeg:https://duckfootbeer.com/wp-content/uploads/2022/03/2023LeucadiaTrivia.jpg
END:VEVENT
BEGIN:VEVENT
DTSTART;TZID=America/Los_Angeles:20260702T190000
DTEND;TZID=America/Los_Angeles:20260702T210000
DTSTAMP:20260421T045445
CREATED:20230328T045112Z
LAST-MODIFIED:20260218T014549Z
UID:10004548-1783018800-1783026000@duckfootbeer.com
SUMMARY:Leucadia Trivia Night
DESCRIPTION:Come quack up with us at our weekly Trivia Nights! Our hosts are full of feather-brained questions\, waddle with us and see who can rule the roost as the ultimate trivia champ. \nRSVP & MORE DEETS ON EVENTBRITE
URL:https://duckfootbeer.com/event/trivia-leucadia/2026-07-02/
LOCATION:Duck Foot Leucadia\, 978 N Coast Hwy 101\, Encinitas\, CA\, 92024\, United States
CATEGORIES:Leucadia,Trivia Night
ATTACH;FMTTYPE=image/jpeg:https://duckfootbeer.com/wp-content/uploads/2022/03/2023LeucadiaTrivia.jpg
END:VEVENT
BEGIN:VEVENT
DTSTART;TZID=America/Los_Angeles:20260709T190000
DTEND;TZID=America/Los_Angeles:20260709T210000
DTSTAMP:20260421T045445
CREATED:20230328T045112Z
LAST-MODIFIED:20260218T014549Z
UID:10004549-1783623600-1783630800@duckfootbeer.com
SUMMARY:Leucadia Trivia Night
DESCRIPTION:Come quack up with us at our weekly Trivia Nights! Our hosts are full of feather-brained questions\, waddle with us and see who can rule the roost as the ultimate trivia champ. \nRSVP & MORE DEETS ON EVENTBRITE
URL:https://duckfootbeer.com/event/trivia-leucadia/2026-07-09/
LOCATION:Duck Foot Leucadia\, 978 N Coast Hwy 101\, Encinitas\, CA\, 92024\, United States
CATEGORIES:Leucadia,Trivia Night
ATTACH;FMTTYPE=image/jpeg:https://duckfootbeer.com/wp-content/uploads/2022/03/2023LeucadiaTrivia.jpg
END:VEVENT
BEGIN:VEVENT
DTSTART;TZID=America/Los_Angeles:20260716T190000
DTEND;TZID=America/Los_Angeles:20260716T210000
DTSTAMP:20260421T045445
CREATED:20230328T045112Z
LAST-MODIFIED:20260218T014549Z
UID:10004550-1784228400-1784235600@duckfootbeer.com
SUMMARY:Leucadia Trivia Night
DESCRIPTION:Come quack up with us at our weekly Trivia Nights! Our hosts are full of feather-brained questions\, waddle with us and see who can rule the roost as the ultimate trivia champ. \nRSVP & MORE DEETS ON EVENTBRITE
URL:https://duckfootbeer.com/event/trivia-leucadia/2026-07-16/
LOCATION:Duck Foot Leucadia\, 978 N Coast Hwy 101\, Encinitas\, CA\, 92024\, United States
CATEGORIES:Leucadia,Trivia Night
ATTACH;FMTTYPE=image/jpeg:https://duckfootbeer.com/wp-content/uploads/2022/03/2023LeucadiaTrivia.jpg
END:VEVENT
BEGIN:VEVENT
DTSTART;TZID=America/Los_Angeles:20260723T190000
DTEND;TZID=America/Los_Angeles:20260723T210000
DTSTAMP:20260421T045445
CREATED:20230328T045112Z
LAST-MODIFIED:20260218T014549Z
UID:10004551-1784833200-1784840400@duckfootbeer.com
SUMMARY:Leucadia Trivia Night
DESCRIPTION:Come quack up with us at our weekly Trivia Nights! Our hosts are full of feather-brained questions\, waddle with us and see who can rule the roost as the ultimate trivia champ. \nRSVP & MORE DEETS ON EVENTBRITE
URL:https://duckfootbeer.com/event/trivia-leucadia/2026-07-23/
LOCATION:Duck Foot Leucadia\, 978 N Coast Hwy 101\, Encinitas\, CA\, 92024\, United States
CATEGORIES:Leucadia,Trivia Night
ATTACH;FMTTYPE=image/jpeg:https://duckfootbeer.com/wp-content/uploads/2022/03/2023LeucadiaTrivia.jpg
END:VEVENT
BEGIN:VEVENT
DTSTART;TZID=America/Los_Angeles:20260730T190000
DTEND;TZID=America/Los_Angeles:20260730T210000
DTSTAMP:20260421T045445
CREATED:20230328T045112Z
LAST-MODIFIED:20260218T014549Z
UID:10004552-1785438000-1785445200@duckfootbeer.com
SUMMARY:Leucadia Trivia Night
DESCRIPTION:Come quack up with us at our weekly Trivia Nights! Our hosts are full of feather-brained questions\, waddle with us and see who can rule the roost as the ultimate trivia champ. \nRSVP & MORE DEETS ON EVENTBRITE
URL:https://duckfootbeer.com/event/trivia-leucadia/2026-07-30/
LOCATION:Duck Foot Leucadia\, 978 N Coast Hwy 101\, Encinitas\, CA\, 92024\, United States
CATEGORIES:Leucadia,Trivia Night
ATTACH;FMTTYPE=image/jpeg:https://duckfootbeer.com/wp-content/uploads/2022/03/2023LeucadiaTrivia.jpg
END:VEVENT
BEGIN:VEVENT
DTSTART;TZID=America/Los_Angeles:20260806T190000
DTEND;TZID=America/Los_Angeles:20260806T210000
DTSTAMP:20260421T045445
CREATED:20230328T045112Z
LAST-MODIFIED:20260218T014549Z
UID:10004553-1786042800-1786050000@duckfootbeer.com
SUMMARY:Leucadia Trivia Night
DESCRIPTION:Come quack up with us at our weekly Trivia Nights! Our hosts are full of feather-brained questions\, waddle with us and see who can rule the roost as the ultimate trivia champ. \nRSVP & MORE DEETS ON EVENTBRITE
URL:https://duckfootbeer.com/event/trivia-leucadia/2026-08-06/
LOCATION:Duck Foot Leucadia\, 978 N Coast Hwy 101\, Encinitas\, CA\, 92024\, United States
CATEGORIES:Leucadia,Trivia Night
ATTACH;FMTTYPE=image/jpeg:https://duckfootbeer.com/wp-content/uploads/2022/03/2023LeucadiaTrivia.jpg
END:VEVENT
BEGIN:VEVENT
DTSTART;TZID=America/Los_Angeles:20260813T190000
DTEND;TZID=America/Los_Angeles:20260813T210000
DTSTAMP:20260421T045445
CREATED:20230328T045112Z
LAST-MODIFIED:20260218T014549Z
UID:10004554-1786647600-1786654800@duckfootbeer.com
SUMMARY:Leucadia Trivia Night
DESCRIPTION:Come quack up with us at our weekly Trivia Nights! Our hosts are full of feather-brained questions\, waddle with us and see who can rule the roost as the ultimate trivia champ. \nRSVP & MORE DEETS ON EVENTBRITE
URL:https://duckfootbeer.com/event/trivia-leucadia/2026-08-13/
LOCATION:Duck Foot Leucadia\, 978 N Coast Hwy 101\, Encinitas\, CA\, 92024\, United States
CATEGORIES:Leucadia,Trivia Night
ATTACH;FMTTYPE=image/jpeg:https://duckfootbeer.com/wp-content/uploads/2022/03/2023LeucadiaTrivia.jpg
END:VEVENT
BEGIN:VEVENT
DTSTART;TZID=America/Los_Angeles:20260820T190000
DTEND;TZID=America/Los_Angeles:20260820T210000
DTSTAMP:20260421T045445
CREATED:20230328T045112Z
LAST-MODIFIED:20260218T014549Z
UID:10004555-1787252400-1787259600@duckfootbeer.com
SUMMARY:Leucadia Trivia Night
DESCRIPTION:Come quack up with us at our weekly Trivia Nights! Our hosts are full of feather-brained questions\, waddle with us and see who can rule the roost as the ultimate trivia champ. \nRSVP & MORE DEETS ON EVENTBRITE
URL:https://duckfootbeer.com/event/trivia-leucadia/2026-08-20/
LOCATION:Duck Foot Leucadia\, 978 N Coast Hwy 101\, Encinitas\, CA\, 92024\, United States
CATEGORIES:Leucadia,Trivia Night
ATTACH;FMTTYPE=image/jpeg:https://duckfootbeer.com/wp-content/uploads/2022/03/2023LeucadiaTrivia.jpg
END:VEVENT
BEGIN:VEVENT
DTSTART;TZID=America/Los_Angeles:20260827T190000
DTEND;TZID=America/Los_Angeles:20260827T210000
DTSTAMP:20260421T045445
CREATED:20230328T045112Z
LAST-MODIFIED:20260218T014549Z
UID:10004556-1787857200-1787864400@duckfootbeer.com
SUMMARY:Leucadia Trivia Night
DESCRIPTION:Come quack up with us at our weekly Trivia Nights! Our hosts are full of feather-brained questions\, waddle with us and see who can rule the roost as the ultimate trivia champ. \nRSVP & MORE DEETS ON EVENTBRITE
URL:https://duckfootbeer.com/event/trivia-leucadia/2026-08-27/
LOCATION:Duck Foot Leucadia\, 978 N Coast Hwy 101\, Encinitas\, CA\, 92024\, United States
CATEGORIES:Leucadia,Trivia Night
ATTACH;FMTTYPE=image/jpeg:https://duckfootbeer.com/wp-content/uploads/2022/03/2023LeucadiaTrivia.jpg
END:VEVENT
BEGIN:VEVENT
DTSTART;TZID=America/Los_Angeles:20260903T190000
DTEND;TZID=America/Los_Angeles:20260903T210000
DTSTAMP:20260421T045445
CREATED:20230328T045112Z
LAST-MODIFIED:20260218T014549Z
UID:10004557-1788462000-1788469200@duckfootbeer.com
SUMMARY:Leucadia Trivia Night
DESCRIPTION:Come quack up with us at our weekly Trivia Nights! Our hosts are full of feather-brained questions\, waddle with us and see who can rule the roost as the ultimate trivia champ. \nRSVP & MORE DEETS ON EVENTBRITE
URL:https://duckfootbeer.com/event/trivia-leucadia/2026-09-03/
LOCATION:Duck Foot Leucadia\, 978 N Coast Hwy 101\, Encinitas\, CA\, 92024\, United States
CATEGORIES:Leucadia,Trivia Night
ATTACH;FMTTYPE=image/jpeg:https://duckfootbeer.com/wp-content/uploads/2022/03/2023LeucadiaTrivia.jpg
END:VEVENT
BEGIN:VEVENT
DTSTART;TZID=America/Los_Angeles:20260910T190000
DTEND;TZID=America/Los_Angeles:20260910T210000
DTSTAMP:20260421T045445
CREATED:20230328T045112Z
LAST-MODIFIED:20260218T014549Z
UID:10004558-1789066800-1789074000@duckfootbeer.com
SUMMARY:Leucadia Trivia Night
DESCRIPTION:Come quack up with us at our weekly Trivia Nights! Our hosts are full of feather-brained questions\, waddle with us and see who can rule the roost as the ultimate trivia champ. \nRSVP & MORE DEETS ON EVENTBRITE
URL:https://duckfootbeer.com/event/trivia-leucadia/2026-09-10/
LOCATION:Duck Foot Leucadia\, 978 N Coast Hwy 101\, Encinitas\, CA\, 92024\, United States
CATEGORIES:Leucadia,Trivia Night
ATTACH;FMTTYPE=image/jpeg:https://duckfootbeer.com/wp-content/uploads/2022/03/2023LeucadiaTrivia.jpg
END:VEVENT
BEGIN:VEVENT
DTSTART;TZID=America/Los_Angeles:20260917T190000
DTEND;TZID=America/Los_Angeles:20260917T210000
DTSTAMP:20260421T045445
CREATED:20230328T045112Z
LAST-MODIFIED:20260218T014549Z
UID:10004559-1789671600-1789678800@duckfootbeer.com
SUMMARY:Leucadia Trivia Night
DESCRIPTION:Come quack up with us at our weekly Trivia Nights! Our hosts are full of feather-brained questions\, waddle with us and see who can rule the roost as the ultimate trivia champ. \nRSVP & MORE DEETS ON EVENTBRITE
URL:https://duckfootbeer.com/event/trivia-leucadia/2026-09-17/
LOCATION:Duck Foot Leucadia\, 978 N Coast Hwy 101\, Encinitas\, CA\, 92024\, United States
CATEGORIES:Leucadia,Trivia Night
ATTACH;FMTTYPE=image/jpeg:https://duckfootbeer.com/wp-content/uploads/2022/03/2023LeucadiaTrivia.jpg
END:VEVENT
BEGIN:VEVENT
DTSTART;TZID=America/Los_Angeles:20260924T190000
DTEND;TZID=America/Los_Angeles:20260924T210000
DTSTAMP:20260421T045445
CREATED:20230328T045112Z
LAST-MODIFIED:20260218T014549Z
UID:10004560-1790276400-1790283600@duckfootbeer.com
SUMMARY:Leucadia Trivia Night
DESCRIPTION:Come quack up with us at our weekly Trivia Nights! Our hosts are full of feather-brained questions\, waddle with us and see who can rule the roost as the ultimate trivia champ. \nRSVP & MORE DEETS ON EVENTBRITE
URL:https://duckfootbeer.com/event/trivia-leucadia/2026-09-24/
LOCATION:Duck Foot Leucadia\, 978 N Coast Hwy 101\, Encinitas\, CA\, 92024\, United States
CATEGORIES:Leucadia,Trivia Night
ATTACH;FMTTYPE=image/jpeg:https://duckfootbeer.com/wp-content/uploads/2022/03/2023LeucadiaTrivia.jpg
END:VEVENT
BEGIN:VEVENT
DTSTART;TZID=America/Los_Angeles:20261001T190000
DTEND;TZID=America/Los_Angeles:20261001T210000
DTSTAMP:20260421T045445
CREATED:20230328T045112Z
LAST-MODIFIED:20260218T014549Z
UID:10004561-1790881200-1790888400@duckfootbeer.com
SUMMARY:Leucadia Trivia Night
DESCRIPTION:Come quack up with us at our weekly Trivia Nights! Our hosts are full of feather-brained questions\, waddle with us and see who can rule the roost as the ultimate trivia champ. \nRSVP & MORE DEETS ON EVENTBRITE
URL:https://duckfootbeer.com/event/trivia-leucadia/2026-10-01/
LOCATION:Duck Foot Leucadia\, 978 N Coast Hwy 101\, Encinitas\, CA\, 92024\, United States
CATEGORIES:Leucadia,Trivia Night
ATTACH;FMTTYPE=image/jpeg:https://duckfootbeer.com/wp-content/uploads/2022/03/2023LeucadiaTrivia.jpg
END:VEVENT
BEGIN:VEVENT
DTSTART;TZID=America/Los_Angeles:20261008T190000
DTEND;TZID=America/Los_Angeles:20261008T210000
DTSTAMP:20260421T045445
CREATED:20230328T045112Z
LAST-MODIFIED:20260218T014549Z
UID:10004562-1791486000-1791493200@duckfootbeer.com
SUMMARY:Leucadia Trivia Night
DESCRIPTION:Come quack up with us at our weekly Trivia Nights! Our hosts are full of feather-brained questions\, waddle with us and see who can rule the roost as the ultimate trivia champ. \nRSVP & MORE DEETS ON EVENTBRITE
URL:https://duckfootbeer.com/event/trivia-leucadia/2026-10-08/
LOCATION:Duck Foot Leucadia\, 978 N Coast Hwy 101\, Encinitas\, CA\, 92024\, United States
CATEGORIES:Leucadia,Trivia Night
ATTACH;FMTTYPE=image/jpeg:https://duckfootbeer.com/wp-content/uploads/2022/03/2023LeucadiaTrivia.jpg
END:VEVENT
BEGIN:VEVENT
DTSTART;TZID=America/Los_Angeles:20261015T190000
DTEND;TZID=America/Los_Angeles:20261015T210000
DTSTAMP:20260421T045445
CREATED:20230328T045112Z
LAST-MODIFIED:20260218T014549Z
UID:10004563-1792090800-1792098000@duckfootbeer.com
SUMMARY:Leucadia Trivia Night
DESCRIPTION:Come quack up with us at our weekly Trivia Nights! Our hosts are full of feather-brained questions\, waddle with us and see who can rule the roost as the ultimate trivia champ. \nRSVP & MORE DEETS ON EVENTBRITE
URL:https://duckfootbeer.com/event/trivia-leucadia/2026-10-15/
LOCATION:Duck Foot Leucadia\, 978 N Coast Hwy 101\, Encinitas\, CA\, 92024\, United States
CATEGORIES:Leucadia,Trivia Night
ATTACH;FMTTYPE=image/jpeg:https://duckfootbeer.com/wp-content/uploads/2022/03/2023LeucadiaTrivia.jpg
END:VEVENT
BEGIN:VEVENT
DTSTART;TZID=America/Los_Angeles:20261022T190000
DTEND;TZID=America/Los_Angeles:20261022T210000
DTSTAMP:20260421T045445
CREATED:20230328T045112Z
LAST-MODIFIED:20260218T014549Z
UID:10004564-1792695600-1792702800@duckfootbeer.com
SUMMARY:Leucadia Trivia Night
DESCRIPTION:Come quack up with us at our weekly Trivia Nights! Our hosts are full of feather-brained questions\, waddle with us and see who can rule the roost as the ultimate trivia champ. \nRSVP & MORE DEETS ON EVENTBRITE
URL:https://duckfootbeer.com/event/trivia-leucadia/2026-10-22/
LOCATION:Duck Foot Leucadia\, 978 N Coast Hwy 101\, Encinitas\, CA\, 92024\, United States
CATEGORIES:Leucadia,Trivia Night
ATTACH;FMTTYPE=image/jpeg:https://duckfootbeer.com/wp-content/uploads/2022/03/2023LeucadiaTrivia.jpg
END:VEVENT
BEGIN:VEVENT
DTSTART;TZID=America/Los_Angeles:20261029T190000
DTEND;TZID=America/Los_Angeles:20261029T210000
DTSTAMP:20260421T045445
CREATED:20230328T045112Z
LAST-MODIFIED:20260218T014549Z
UID:10004565-1793300400-1793307600@duckfootbeer.com
SUMMARY:Leucadia Trivia Night
DESCRIPTION:Come quack up with us at our weekly Trivia Nights! Our hosts are full of feather-brained questions\, waddle with us and see who can rule the roost as the ultimate trivia champ. \nRSVP & MORE DEETS ON EVENTBRITE
URL:https://duckfootbeer.com/event/trivia-leucadia/2026-10-29/
LOCATION:Duck Foot Leucadia\, 978 N Coast Hwy 101\, Encinitas\, CA\, 92024\, United States
CATEGORIES:Leucadia,Trivia Night
ATTACH;FMTTYPE=image/jpeg:https://duckfootbeer.com/wp-content/uploads/2022/03/2023LeucadiaTrivia.jpg
END:VEVENT
BEGIN:VEVENT
DTSTART;TZID=America/Los_Angeles:20261105T190000
DTEND;TZID=America/Los_Angeles:20261105T210000
DTSTAMP:20260421T045445
CREATED:20230328T045112Z
LAST-MODIFIED:20260218T014549Z
UID:10004566-1793905200-1793912400@duckfootbeer.com
SUMMARY:Leucadia Trivia Night
DESCRIPTION:Come quack up with us at our weekly Trivia Nights! Our hosts are full of feather-brained questions\, waddle with us and see who can rule the roost as the ultimate trivia champ. \nRSVP & MORE DEETS ON EVENTBRITE
URL:https://duckfootbeer.com/event/trivia-leucadia/2026-11-05/
LOCATION:Duck Foot Leucadia\, 978 N Coast Hwy 101\, Encinitas\, CA\, 92024\, United States
CATEGORIES:Leucadia,Trivia Night
ATTACH;FMTTYPE=image/jpeg:https://duckfootbeer.com/wp-content/uploads/2022/03/2023LeucadiaTrivia.jpg
END:VEVENT
BEGIN:VEVENT
DTSTART;TZID=America/Los_Angeles:20261112T190000
DTEND;TZID=America/Los_Angeles:20261112T210000
DTSTAMP:20260421T045445
CREATED:20230328T045112Z
LAST-MODIFIED:20260218T014549Z
UID:10004567-1794510000-1794517200@duckfootbeer.com
SUMMARY:Leucadia Trivia Night
DESCRIPTION:Come quack up with us at our weekly Trivia Nights! Our hosts are full of feather-brained questions\, waddle with us and see who can rule the roost as the ultimate trivia champ. \nRSVP & MORE DEETS ON EVENTBRITE
URL:https://duckfootbeer.com/event/trivia-leucadia/2026-11-12/
LOCATION:Duck Foot Leucadia\, 978 N Coast Hwy 101\, Encinitas\, CA\, 92024\, United States
CATEGORIES:Leucadia,Trivia Night
ATTACH;FMTTYPE=image/jpeg:https://duckfootbeer.com/wp-content/uploads/2022/03/2023LeucadiaTrivia.jpg
END:VEVENT
END:VCALENDAR