BEGIN:VCALENDAR
VERSION:2.0
PRODID:-//Duck Foot Brewing Co - ECPv6.15.12.1//NONSGML v1.0//EN
CALSCALE:GREGORIAN
METHOD:PUBLISH
X-WR-CALNAME:Duck Foot Brewing Co
X-ORIGINAL-URL:https://duckfootbeer.com
X-WR-CALDESC:Events for Duck Foot Brewing Co
REFRESH-INTERVAL;VALUE=DURATION:PT1H
X-Robots-Tag:noindex
X-PUBLISHED-TTL:PT1H
BEGIN:VTIMEZONE
TZID:America/Los_Angeles
BEGIN:DAYLIGHT
TZOFFSETFROM:-0800
TZOFFSETTO:-0700
TZNAME:PDT
DTSTART:20250309T100000
END:DAYLIGHT
BEGIN:STANDARD
TZOFFSETFROM:-0700
TZOFFSETTO:-0800
TZNAME:PST
DTSTART:20251102T090000
END:STANDARD
BEGIN:DAYLIGHT
TZOFFSETFROM:-0800
TZOFFSETTO:-0700
TZNAME:PDT
DTSTART:20260308T100000
END:DAYLIGHT
BEGIN:STANDARD
TZOFFSETFROM:-0700
TZOFFSETTO:-0800
TZNAME:PST
DTSTART:20261101T090000
END:STANDARD
BEGIN:DAYLIGHT
TZOFFSETFROM:-0800
TZOFFSETTO:-0700
TZNAME:PDT
DTSTART:20270314T100000
END:DAYLIGHT
BEGIN:STANDARD
TZOFFSETFROM:-0700
TZOFFSETTO:-0800
TZNAME:PST
DTSTART:20271107T090000
END:STANDARD
END:VTIMEZONE
BEGIN:VTIMEZONE
TZID:UTC
BEGIN:STANDARD
TZOFFSETFROM:+0000
TZOFFSETTO:+0000
TZNAME:UTC
DTSTART:20250101T000000
END:STANDARD
END:VTIMEZONE
BEGIN:VEVENT
DTSTART;TZID=America/Los_Angeles:20260317T190000
DTEND;TZID=America/Los_Angeles:20260317T210000
DTSTAMP:20260420T180614
CREATED:20260226T213013Z
LAST-MODIFIED:20260228T004130Z
UID:10007267-1773774000-1773781200@duckfootbeer.com
SUMMARY:Hazy Quartet
DESCRIPTION:In honor of St. Patrick’s Day\, Hazy Quartet will be playing Irish inspired tunes all night.\nYes\, please.  Hazy Quartet brings smooth rhythms and an energy that pair perfectly with a pint (or two). Don’t miss them live at Duck Foot Brewing\, Miramar!
URL:https://duckfootbeer.com/event/hazy-quartet-2/2026-03-17/
LOCATION:Duck Foot Miramar\, 8920 Kenamar Drive #210\, San Diego\, CA\, 92121\, United States
CATEGORIES:Featured,Miramar,Music
ATTACH;FMTTYPE=image/jpeg:https://duckfootbeer.com/wp-content/uploads/2025/09/IMG_2391.jpeg
END:VEVENT
BEGIN:VEVENT
DTSTART;TZID=America/Los_Angeles:20260316T183000
DTEND;TZID=America/Los_Angeles:20260316T203000
DTSTAMP:20260420T180614
CREATED:20241220T173449Z
LAST-MODIFIED:20251218T003229Z
UID:10006183-1773685800-1773693000@duckfootbeer.com
SUMMARY:Monday Bluegrass Jam - Leucadia
DESCRIPTION:The North Country Bluegrass & Folk Club is excited to announce a monthly evening bluegrass jam and indoor open mic at Duck Foot Leucadia on Monday\, from 6:30 pm until 8:30. Acoustic musicians and listeners alike are invited.
URL:https://duckfootbeer.com/event/bluegrass-monday-ltr-2/2026-03-16/
LOCATION:Duck Foot Leucadia\, 978 N Coast Hwy 101\, Encinitas\, CA\, 92024\, United States
CATEGORIES:Featured,Leucadia,Music
ATTACH;FMTTYPE=image/jpeg:https://duckfootbeer.com/wp-content/uploads/2024/02/Bluegrass-Monday-Luecadia-1000.jpg
END:VEVENT
BEGIN:VEVENT
DTSTART;VALUE=DATE:20260316
DTEND;VALUE=DATE:20260317
DTSTAMP:20260420T180614
CREATED:20251105T024541Z
LAST-MODIFIED:20260122T190743Z
UID:10005771-1773619200-1773705599@duckfootbeer.com
SUMMARY:$5 Mondays
DESCRIPTION:Just like the poster says\, we are serving up $5 Pints of our core beers all day\, every Monday at both locations.
URL:https://duckfootbeer.com/event/32112/2026-03-16/
CATEGORIES:Deals,Featured,Leucadia,Miramar,Weekly
ATTACH;FMTTYPE=image/jpeg:https://duckfootbeer.com/wp-content/uploads/2025/11/monday-happy-hour-core.jpg
END:VEVENT
BEGIN:VEVENT
DTSTART;TZID=America/Los_Angeles:20260313T170000
DTEND;TZID=America/Los_Angeles:20260313T210000
DTSTAMP:20260420T180614
CREATED:20260211T214751Z
LAST-MODIFIED:20260401T165505Z
UID:10007247-1773421200-1773435600@duckfootbeer.com
SUMMARY:Papas Pacific Island BBQ
DESCRIPTION:Papas Pacific Island BBQ \nIsland BBQ Comfort Food\n• Huli Chicken\, Beef Kalbi\, & Garlic Shrimp bowls\n• Island BBQ skewer plates
URL:https://duckfootbeer.com/event/papas/2026-03-13/
LOCATION:Duck Foot Miramar\, 8920 Kenamar Drive #210\, San Diego\, CA\, 92121\, United States
CATEGORIES:Food Truck,Miramar
ATTACH;FMTTYPE=image/jpeg:https://duckfootbeer.com/wp-content/uploads/2026/02/Papas_BBQ-MM-food-truck.jpg
END:VEVENT
BEGIN:VEVENT
DTSTART;TZID=America/Los_Angeles:20260313T160000
DTEND;TZID=America/Los_Angeles:20260313T210000
DTSTAMP:20260420T180614
CREATED:20260129T022131Z
LAST-MODIFIED:20260407T175330Z
UID:10007233-1773417600-1773435600@duckfootbeer.com
SUMMARY:Driana - A Taste of Spain
DESCRIPTION:A Taste of Spain \nDriana Catering is consistently recognized as one of the best Spanish catering in San Diego for private parties\, corporate events and weddings. Our paella has been voted “Best paella 2023” by San Diego Tribune. Let us bring the essence of Spanish cuisine to your event\, for you and your guests.
URL:https://duckfootbeer.com/event/driana/2026-03-13/
CATEGORIES:Featured,Food Truck,Miramar
ATTACH;FMTTYPE=image/jpeg:https://duckfootbeer.com/wp-content/uploads/2026/01/Driana-MM-food-truck.jpg
END:VEVENT
BEGIN:VEVENT
DTSTART;TZID=America/Los_Angeles:20260312T190000
DTEND;TZID=America/Los_Angeles:20260312T210000
DTSTAMP:20260420T180614
CREATED:20230328T045112Z
LAST-MODIFIED:20260218T014549Z
UID:10004532-1773342000-1773349200@duckfootbeer.com
SUMMARY:Leucadia Trivia Night
DESCRIPTION:Come quack up with us at our weekly Trivia Nights! Our hosts are full of feather-brained questions\, waddle with us and see who can rule the roost as the ultimate trivia champ. \nRSVP & MORE DEETS ON EVENTBRITE
URL:https://duckfootbeer.com/event/trivia-leucadia/2026-03-12/
LOCATION:Duck Foot Leucadia\, 978 N Coast Hwy 101\, Encinitas\, CA\, 92024\, United States
CATEGORIES:Leucadia,Trivia Night
ATTACH;FMTTYPE=image/jpeg:https://duckfootbeer.com/wp-content/uploads/2022/03/2023LeucadiaTrivia.jpg
END:VEVENT
BEGIN:VEVENT
DTSTART;TZID=America/Los_Angeles:20260312T180000
DTEND;TZID=America/Los_Angeles:20260312T210000
DTSTAMP:20260420T180614
CREATED:20250428T215530Z
LAST-MODIFIED:20260420T201628Z
UID:10005739-1773338400-1773349200@duckfootbeer.com
SUMMARY:La Libertad
DESCRIPTION:La Libertad Cocina Urbana\nHave you heard of Birria? If not\, then you don’t know Mexican food! Come try out some delicious homestyle mexican food to go along with our beers. Get yourself hungry by checking out their instagram.
URL:https://duckfootbeer.com/event/libertad-leucadia/2026-03-12/
LOCATION:Duck Foot Leucadia\, 978 N Coast Hwy 101\, Encinitas\, CA\, 92024\, United States
CATEGORIES:Featured,Food Truck,Leucadia
ATTACH;FMTTYPE=image/jpeg:https://duckfootbeer.com/wp-content/uploads/2025/04/Libertad-Leucadia-food-truck.jpg
END:VEVENT
BEGIN:VEVENT
DTSTART;TZID=America/Los_Angeles:20260312T160000
DTEND;TZID=America/Los_Angeles:20260312T210000
DTSTAMP:20260420T180614
CREATED:20241217T012350Z
LAST-MODIFIED:20260417T185157Z
UID:10007229-1773331200-1773349200@duckfootbeer.com
SUMMARY:MJ's Philly Cheesesteaks
DESCRIPTION:Cheese Steaks and more
URL:https://duckfootbeer.com/event/mj-philly/2026-03-12/
LOCATION:Duck Foot Miramar\, 8920 Kenamar Drive #210\, San Diego\, CA\, 92121\, United States
CATEGORIES:Featured,Food Truck,Miramar
ATTACH;FMTTYPE=image/jpeg:https://duckfootbeer.com/wp-content/uploads/2024/12/food-truck-MJs.jpg
END:VEVENT
BEGIN:VEVENT
DTSTART;TZID=UTC:20260312T120000
DTEND;TZID=UTC:20260312T210000
DTSTAMP:20260420T180614
CREATED:20220302T111111Z
LAST-MODIFIED:20260122T183410Z
UID:10006947-1773316800-1773349200@duckfootbeer.com
SUMMARY:Thirsty Thursdays
DESCRIPTION:Every Thursday = To-Go Fills Day.Save 20% on all crowler & growler fills\, open to close\, at Miramar and Leucadia.Stock up\, share (or don’t)\, repeat weekly.
URL:https://duckfootbeer.com/event/thirsty-thursdays/2026-03-12/
LOCATION:Duck Foot Miramar\, 8920 Kenamar Drive #210\, San Diego\, CA\, 92121\, United States
CATEGORIES:Deals,Featured,Leucadia,Miramar,Weekly
ATTACH;FMTTYPE=image/jpeg:https://duckfootbeer.com/wp-content/uploads/2022/03/IMG_2362.jpeg
END:VEVENT
BEGIN:VEVENT
DTSTART;TZID=UTC:20260311T190000
DTEND;TZID=UTC:20260311T210000
DTSTAMP:20260420T180614
CREATED:20250430T231756Z
LAST-MODIFIED:20260327T172524Z
UID:10002322-1773255600-1773262800@duckfootbeer.com
SUMMARY:Miramar Trivia Night
DESCRIPTION:Come quack up with us at our weekly Trivia Nights! Our hosts are full of feather-brained questions\, waddle with us and see who can rule the roost as the ultimate trivia champ!
URL:https://duckfootbeer.com/event/trivia-night-2/2026-03-11/
LOCATION:Duck Foot Miramar\, 8920 Kenamar Drive #210\, San Diego\, CA\, 92121\, United States
CATEGORIES:Featured,Games,Miramar,Poster,Weekly
ATTACH;FMTTYPE=image/jpeg:https://duckfootbeer.com/wp-content/uploads/2022/03/2023MiramarTrivia.jpg
END:VEVENT
BEGIN:VEVENT
DTSTART;TZID=America/Los_Angeles:20260311T190000
DTEND;TZID=America/Los_Angeles:20260311T210000
DTSTAMP:20260420T180614
CREATED:20240118T170426Z
LAST-MODIFIED:20260129T182136Z
UID:10004879-1773255600-1773262800@duckfootbeer.com
SUMMARY:Bingo Night
DESCRIPTION:Join us every Wednesday from 7-9 PM with host Adam Jara! Get ready to quack up at our Bingo Night hosted at Duck Foot Brewing Leucadia! With awesome prizes up for grabs\, this is no ordinary duck hunt – it’s a night of lucky ducky fun!
URL:https://duckfootbeer.com/event/bingo-leucadia-2/2026-03-11/
LOCATION:Duck Foot Leucadia\, 978 N Coast Hwy 101\, Encinitas\, CA\, 92024\, United States
CATEGORIES:Featured,Games,Leucadia
ATTACH;FMTTYPE=image/jpeg:https://duckfootbeer.com/wp-content/uploads/2023/03/bingo-w-leucadia.jpg
END:VEVENT
BEGIN:VEVENT
DTSTART;TZID=America/Los_Angeles:20260310T190000
DTEND;TZID=America/Los_Angeles:20260310T213000
DTSTAMP:20260420T180614
CREATED:20230104T014635Z
LAST-MODIFIED:20260327T180753Z
UID:10007244-1773169200-1773178200@duckfootbeer.com
SUMMARY:San Diego Jazz Collective - Jam Session
DESCRIPTION:Come join us for free live music\, as we welcome the San Diego Jazz Collective for a night of unrehearsed musical collaboration. This event is a great intimate experience held in our tasting room\, where musicians will cycle in and out through the night.
URL:https://duckfootbeer.com/event/san-diego-jazz-collective-jam-session-december-2023-3-14/2026-03-10/
LOCATION:Duck Foot Miramar\, 8920 Kenamar Drive #210\, San Diego\, CA\, 92121\, United States
CATEGORIES:Featured,Miramar,Music
ATTACH;FMTTYPE=image/jpeg:https://duckfootbeer.com/wp-content/uploads/2023/01/jazznight2.jpg
END:VEVENT
BEGIN:VEVENT
DTSTART;TZID=America/Los_Angeles:20260309T183000
DTEND;TZID=America/Los_Angeles:20260309T210000
DTSTAMP:20260420T180614
CREATED:20230331T020406Z
LAST-MODIFIED:20251218T003039Z
UID:10006124-1773081000-1773090000@duckfootbeer.com
SUMMARY:Monday Bluegrass Jam
DESCRIPTION:The San Diego Bluegrass Society is excited to bring you a monthly evening bluegrass jam and indoor open mic at Duck Foot Brewing on the second Monday of the month\, from 6:30 pm until 9:00 pm. Acoustic musicians and listeners alike are invited.
URL:https://duckfootbeer.com/event/bluegrass-monday/2026-03-09/
LOCATION:Duck Foot Miramar\, 8920 Kenamar Drive #210\, San Diego\, CA\, 92121\, United States
CATEGORIES:Miramar,Music
ATTACH;FMTTYPE=image/jpeg:https://duckfootbeer.com/wp-content/uploads/2023/03/bluegrassmonday.jpg
END:VEVENT
BEGIN:VEVENT
DTSTART;VALUE=DATE:20260309
DTEND;VALUE=DATE:20260310
DTSTAMP:20260420T180614
CREATED:20251105T024541Z
LAST-MODIFIED:20260122T190743Z
UID:10005770-1773014400-1773100799@duckfootbeer.com
SUMMARY:$5 Mondays
DESCRIPTION:Just like the poster says\, we are serving up $5 Pints of our core beers all day\, every Monday at both locations.
URL:https://duckfootbeer.com/event/32112/2026-03-09/
CATEGORIES:Deals,Featured,Leucadia,Miramar,Weekly
ATTACH;FMTTYPE=image/jpeg:https://duckfootbeer.com/wp-content/uploads/2025/11/monday-happy-hour-core.jpg
END:VEVENT
BEGIN:VEVENT
DTSTART;TZID=America/Los_Angeles:20260308T123000
DTEND;TZID=America/Los_Angeles:20260308T190000
DTSTAMP:20260420T180614
CREATED:20241217T012350Z
LAST-MODIFIED:20260417T185157Z
UID:10007228-1772973000-1772996400@duckfootbeer.com
SUMMARY:MJ's Philly Cheesesteaks
DESCRIPTION:Cheese Steaks and more
URL:https://duckfootbeer.com/event/mj-philly/2026-03-08/
LOCATION:Duck Foot Miramar\, 8920 Kenamar Drive #210\, San Diego\, CA\, 92121\, United States
CATEGORIES:Featured,Food Truck,Miramar
ATTACH;FMTTYPE=image/jpeg:https://duckfootbeer.com/wp-content/uploads/2024/12/food-truck-MJs.jpg
END:VEVENT
BEGIN:VEVENT
DTSTART;TZID=America/Los_Angeles:20260306T180000
DTEND;TZID=America/Los_Angeles:20260306T210000
DTSTAMP:20260420T180614
CREATED:20260303T010411Z
LAST-MODIFIED:20260303T010625Z
UID:10007285-1772820000-1772830800@duckfootbeer.com
SUMMARY:Bloom
DESCRIPTION:
URL:https://duckfootbeer.com/event/bloom/
LOCATION:Duck Foot Leucadia\, 978 N Coast Hwy 101\, Encinitas\, CA\, 92024\, United States
CATEGORIES:Featured,Food Truck,Leucadia
ATTACH;FMTTYPE=image/jpeg:https://duckfootbeer.com/wp-content/uploads/2025/12/Bloom-Leucadia-food-truck.jpg
END:VEVENT
BEGIN:VEVENT
DTSTART;TZID=America/Los_Angeles:20260305T190000
DTEND;TZID=America/Los_Angeles:20260305T210000
DTSTAMP:20260420T180614
CREATED:20230328T045112Z
LAST-MODIFIED:20260218T014549Z
UID:10004531-1772737200-1772744400@duckfootbeer.com
SUMMARY:Leucadia Trivia Night
DESCRIPTION:Come quack up with us at our weekly Trivia Nights! Our hosts are full of feather-brained questions\, waddle with us and see who can rule the roost as the ultimate trivia champ. \nRSVP & MORE DEETS ON EVENTBRITE
URL:https://duckfootbeer.com/event/trivia-leucadia/2026-03-05/
LOCATION:Duck Foot Leucadia\, 978 N Coast Hwy 101\, Encinitas\, CA\, 92024\, United States
CATEGORIES:Leucadia,Trivia Night
ATTACH;FMTTYPE=image/jpeg:https://duckfootbeer.com/wp-content/uploads/2022/03/2023LeucadiaTrivia.jpg
END:VEVENT
BEGIN:VEVENT
DTSTART;TZID=America/Los_Angeles:20260305T180000
DTEND;TZID=America/Los_Angeles:20260305T210000
DTSTAMP:20260420T180614
CREATED:20250428T215530Z
LAST-MODIFIED:20260420T201628Z
UID:10005738-1772733600-1772744400@duckfootbeer.com
SUMMARY:La Libertad
DESCRIPTION:La Libertad Cocina Urbana\nHave you heard of Birria? If not\, then you don’t know Mexican food! Come try out some delicious homestyle mexican food to go along with our beers. Get yourself hungry by checking out their instagram.
URL:https://duckfootbeer.com/event/libertad-leucadia/2026-03-05/
LOCATION:Duck Foot Leucadia\, 978 N Coast Hwy 101\, Encinitas\, CA\, 92024\, United States
CATEGORIES:Featured,Food Truck,Leucadia
ATTACH;FMTTYPE=image/jpeg:https://duckfootbeer.com/wp-content/uploads/2025/04/Libertad-Leucadia-food-truck.jpg
END:VEVENT
BEGIN:VEVENT
DTSTART;TZID=UTC:20260305T120000
DTEND;TZID=UTC:20260305T210000
DTSTAMP:20260420T180614
CREATED:20220302T111111Z
LAST-MODIFIED:20260122T183410Z
UID:10006946-1772712000-1772744400@duckfootbeer.com
SUMMARY:Thirsty Thursdays
DESCRIPTION:Every Thursday = To-Go Fills Day.Save 20% on all crowler & growler fills\, open to close\, at Miramar and Leucadia.Stock up\, share (or don’t)\, repeat weekly.
URL:https://duckfootbeer.com/event/thirsty-thursdays/2026-03-05/
LOCATION:Duck Foot Miramar\, 8920 Kenamar Drive #210\, San Diego\, CA\, 92121\, United States
CATEGORIES:Deals,Featured,Leucadia,Miramar,Weekly
ATTACH;FMTTYPE=image/jpeg:https://duckfootbeer.com/wp-content/uploads/2022/03/IMG_2362.jpeg
END:VEVENT
BEGIN:VEVENT
DTSTART;TZID=UTC:20260304T190000
DTEND;TZID=UTC:20260304T210000
DTSTAMP:20260420T180614
CREATED:20250430T231756Z
LAST-MODIFIED:20260327T172524Z
UID:10002321-1772650800-1772658000@duckfootbeer.com
SUMMARY:Miramar Trivia Night
DESCRIPTION:Come quack up with us at our weekly Trivia Nights! Our hosts are full of feather-brained questions\, waddle with us and see who can rule the roost as the ultimate trivia champ!
URL:https://duckfootbeer.com/event/trivia-night-2/2026-03-04/
LOCATION:Duck Foot Miramar\, 8920 Kenamar Drive #210\, San Diego\, CA\, 92121\, United States
CATEGORIES:Featured,Games,Miramar,Poster,Weekly
ATTACH;FMTTYPE=image/jpeg:https://duckfootbeer.com/wp-content/uploads/2022/03/2023MiramarTrivia.jpg
END:VEVENT
BEGIN:VEVENT
DTSTART;TZID=America/Los_Angeles:20260304T190000
DTEND;TZID=America/Los_Angeles:20260304T210000
DTSTAMP:20260420T180614
CREATED:20240118T170426Z
LAST-MODIFIED:20260129T182136Z
UID:10004878-1772650800-1772658000@duckfootbeer.com
SUMMARY:Bingo Night
DESCRIPTION:Join us every Wednesday from 7-9 PM with host Adam Jara! Get ready to quack up at our Bingo Night hosted at Duck Foot Brewing Leucadia! With awesome prizes up for grabs\, this is no ordinary duck hunt – it’s a night of lucky ducky fun!
URL:https://duckfootbeer.com/event/bingo-leucadia-2/2026-03-04/
LOCATION:Duck Foot Leucadia\, 978 N Coast Hwy 101\, Encinitas\, CA\, 92024\, United States
CATEGORIES:Featured,Games,Leucadia
ATTACH;FMTTYPE=image/jpeg:https://duckfootbeer.com/wp-content/uploads/2023/03/bingo-w-leucadia.jpg
END:VEVENT
BEGIN:VEVENT
DTSTART;VALUE=DATE:20260302
DTEND;VALUE=DATE:20260303
DTSTAMP:20260420T180614
CREATED:20251105T024541Z
LAST-MODIFIED:20260122T190743Z
UID:10005769-1772409600-1772495999@duckfootbeer.com
SUMMARY:$5 Mondays
DESCRIPTION:Just like the poster says\, we are serving up $5 Pints of our core beers all day\, every Monday at both locations.
URL:https://duckfootbeer.com/event/32112/2026-03-02/
CATEGORIES:Deals,Featured,Leucadia,Miramar,Weekly
ATTACH;FMTTYPE=image/jpeg:https://duckfootbeer.com/wp-content/uploads/2025/11/monday-happy-hour-core.jpg
END:VEVENT
BEGIN:VEVENT
DTSTART;TZID=America/Los_Angeles:20260301T000000
DTEND;TZID=America/Los_Angeles:20260331T000000
DTSTAMP:20260420T180614
CREATED:20260224T194413Z
LAST-MODIFIED:20260224T194413Z
UID:10007265-1772323200-1774915200@duckfootbeer.com
SUMMARY:Lucky Lemon Lime Beer Slushie
DESCRIPTION:Lucky Lemon Lime Beer Slushie\nServing up at Miramar & Leucadia \nFeeling lucky? We heard you like green beer on St. Patty’s! This month’s beer slushie is a Lucky Lemon Lime treat\, topped with a sour rainbow belt.
URL:https://duckfootbeer.com/event/lllbs/
CATEGORIES:Featured,Leucadia,Miramar,Slushie
ATTACH;FMTTYPE=image/jpeg:https://duckfootbeer.com/wp-content/uploads/2026/02/LLLBS-1x1-1.jpg
END:VEVENT
BEGIN:VEVENT
DTSTART;TZID=America/Los_Angeles:20260226T190000
DTEND;TZID=America/Los_Angeles:20260226T210000
DTSTAMP:20260420T180614
CREATED:20230328T045112Z
LAST-MODIFIED:20260218T014549Z
UID:10004530-1772132400-1772139600@duckfootbeer.com
SUMMARY:Leucadia Trivia Night
DESCRIPTION:Come quack up with us at our weekly Trivia Nights! Our hosts are full of feather-brained questions\, waddle with us and see who can rule the roost as the ultimate trivia champ. \nRSVP & MORE DEETS ON EVENTBRITE
URL:https://duckfootbeer.com/event/trivia-leucadia/2026-02-26/
LOCATION:Duck Foot Leucadia\, 978 N Coast Hwy 101\, Encinitas\, CA\, 92024\, United States
CATEGORIES:Leucadia,Trivia Night
ATTACH;FMTTYPE=image/jpeg:https://duckfootbeer.com/wp-content/uploads/2022/03/2023LeucadiaTrivia.jpg
END:VEVENT
BEGIN:VEVENT
DTSTART;TZID=America/Los_Angeles:20260226T180000
DTEND;TZID=America/Los_Angeles:20260226T210000
DTSTAMP:20260420T180614
CREATED:20250428T215530Z
LAST-MODIFIED:20260420T201628Z
UID:10005737-1772128800-1772139600@duckfootbeer.com
SUMMARY:La Libertad
DESCRIPTION:La Libertad Cocina Urbana\nHave you heard of Birria? If not\, then you don’t know Mexican food! Come try out some delicious homestyle mexican food to go along with our beers. Get yourself hungry by checking out their instagram.
URL:https://duckfootbeer.com/event/libertad-leucadia/2026-02-26/
LOCATION:Duck Foot Leucadia\, 978 N Coast Hwy 101\, Encinitas\, CA\, 92024\, United States
CATEGORIES:Featured,Food Truck,Leucadia
ATTACH;FMTTYPE=image/jpeg:https://duckfootbeer.com/wp-content/uploads/2025/04/Libertad-Leucadia-food-truck.jpg
END:VEVENT
BEGIN:VEVENT
DTSTART;TZID=UTC:20260226T120000
DTEND;TZID=UTC:20260226T210000
DTSTAMP:20260420T180614
CREATED:20220302T111111Z
LAST-MODIFIED:20260122T183410Z
UID:10006945-1772107200-1772139600@duckfootbeer.com
SUMMARY:Thirsty Thursdays
DESCRIPTION:Every Thursday = To-Go Fills Day.Save 20% on all crowler & growler fills\, open to close\, at Miramar and Leucadia.Stock up\, share (or don’t)\, repeat weekly.
URL:https://duckfootbeer.com/event/thirsty-thursdays/2026-02-26/
LOCATION:Duck Foot Miramar\, 8920 Kenamar Drive #210\, San Diego\, CA\, 92121\, United States
CATEGORIES:Deals,Featured,Leucadia,Miramar,Weekly
ATTACH;FMTTYPE=image/jpeg:https://duckfootbeer.com/wp-content/uploads/2022/03/IMG_2362.jpeg
END:VEVENT
BEGIN:VEVENT
DTSTART;TZID=UTC:20260225T190000
DTEND;TZID=UTC:20260225T210000
DTSTAMP:20260420T180614
CREATED:20250430T231756Z
LAST-MODIFIED:20260327T172524Z
UID:10002320-1772046000-1772053200@duckfootbeer.com
SUMMARY:Miramar Trivia Night
DESCRIPTION:Come quack up with us at our weekly Trivia Nights! Our hosts are full of feather-brained questions\, waddle with us and see who can rule the roost as the ultimate trivia champ!
URL:https://duckfootbeer.com/event/trivia-night-2/2026-02-25/
LOCATION:Duck Foot Miramar\, 8920 Kenamar Drive #210\, San Diego\, CA\, 92121\, United States
CATEGORIES:Featured,Games,Miramar,Poster,Weekly
ATTACH;FMTTYPE=image/jpeg:https://duckfootbeer.com/wp-content/uploads/2022/03/2023MiramarTrivia.jpg
END:VEVENT
BEGIN:VEVENT
DTSTART;TZID=America/Los_Angeles:20260225T190000
DTEND;TZID=America/Los_Angeles:20260225T210000
DTSTAMP:20260420T180614
CREATED:20240118T170426Z
LAST-MODIFIED:20260129T182136Z
UID:10004877-1772046000-1772053200@duckfootbeer.com
SUMMARY:Bingo Night
DESCRIPTION:Join us every Wednesday from 7-9 PM with host Adam Jara! Get ready to quack up at our Bingo Night hosted at Duck Foot Brewing Leucadia! With awesome prizes up for grabs\, this is no ordinary duck hunt – it’s a night of lucky ducky fun!
URL:https://duckfootbeer.com/event/bingo-leucadia-2/2026-02-25/
LOCATION:Duck Foot Leucadia\, 978 N Coast Hwy 101\, Encinitas\, CA\, 92024\, United States
CATEGORIES:Featured,Games,Leucadia
ATTACH;FMTTYPE=image/jpeg:https://duckfootbeer.com/wp-content/uploads/2023/03/bingo-w-leucadia.jpg
END:VEVENT
BEGIN:VEVENT
DTSTART;TZID=America/Los_Angeles:20260224T190000
DTEND;TZID=America/Los_Angeles:20260224T213000
DTSTAMP:20260420T180614
CREATED:20250819T234203Z
LAST-MODIFIED:20260327T172400Z
UID:10006253-1771959600-1771968600@duckfootbeer.com
SUMMARY:San Diego Jazz Collective - Jam Session
DESCRIPTION:Come join us for free live music\, as we welcome the San Diego Jazz Collective for a night of unrehearsed musical collaboration. This event is a great intimate experience held in our tasting room\, where musicians will cycle in and out through the night.
URL:https://duckfootbeer.com/event/jazz-jam/2026-02-24/
LOCATION:Duck Foot Miramar\, 8920 Kenamar Drive #210\, San Diego\, CA\, 92121\, United States
CATEGORIES:Featured,Miramar,Music
ATTACH;FMTTYPE=image/jpeg:https://duckfootbeer.com/wp-content/uploads/2023/01/jazznight2.jpg
END:VEVENT
BEGIN:VEVENT
DTSTART;TZID=America/Los_Angeles:20260223T180000
DTEND;TZID=America/Los_Angeles:20260223T193000
DTSTAMP:20260420T180614
CREATED:20260218T014012Z
LAST-MODIFIED:20260218T014415Z
UID:10007250-1771869600-1771875000@duckfootbeer.com
SUMMARY:Candle Making Class
DESCRIPTION:Commonplace and Soul Scent guides you through the process of how to GraGe ️ \n$35 all materials provided $30 if you bring your own glass 10oz container \nAll are welcome \nAny questions? Email info@commonplacegroup.com or dm @commonplacesd \nTo see our cancellation/refund policy\, please click here.
URL:https://duckfootbeer.com/event/candle/
LOCATION:Duck Foot Miramar\, 8920 Kenamar Drive #210\, San Diego\, CA\, 92121\, United States
CATEGORIES:Featured,Miramar,Workshop
ATTACH;FMTTYPE=image/jpeg:https://duckfootbeer.com/wp-content/uploads/2026/02/Candle-Class.jpg
END:VEVENT
END:VCALENDAR