BEGIN:VCALENDAR
VERSION:2.0
PRODID:-//Duck Foot Brewing Co - ECPv6.15.12.1//NONSGML v1.0//EN
CALSCALE:GREGORIAN
METHOD:PUBLISH
X-WR-CALNAME:Duck Foot Brewing Co
X-ORIGINAL-URL:https://duckfootbeer.com
X-WR-CALDESC:Events for Duck Foot Brewing Co
REFRESH-INTERVAL;VALUE=DURATION:PT1H
X-Robots-Tag:noindex
X-PUBLISHED-TTL:PT1H
BEGIN:VTIMEZONE
TZID:America/Los_Angeles
BEGIN:DAYLIGHT
TZOFFSETFROM:-0800
TZOFFSETTO:-0700
TZNAME:PDT
DTSTART:20250309T100000
END:DAYLIGHT
BEGIN:STANDARD
TZOFFSETFROM:-0700
TZOFFSETTO:-0800
TZNAME:PST
DTSTART:20251102T090000
END:STANDARD
BEGIN:DAYLIGHT
TZOFFSETFROM:-0800
TZOFFSETTO:-0700
TZNAME:PDT
DTSTART:20260308T100000
END:DAYLIGHT
BEGIN:STANDARD
TZOFFSETFROM:-0700
TZOFFSETTO:-0800
TZNAME:PST
DTSTART:20261101T090000
END:STANDARD
BEGIN:DAYLIGHT
TZOFFSETFROM:-0800
TZOFFSETTO:-0700
TZNAME:PDT
DTSTART:20270314T100000
END:DAYLIGHT
BEGIN:STANDARD
TZOFFSETFROM:-0700
TZOFFSETTO:-0800
TZNAME:PST
DTSTART:20271107T090000
END:STANDARD
END:VTIMEZONE
BEGIN:VTIMEZONE
TZID:UTC
BEGIN:STANDARD
TZOFFSETFROM:+0000
TZOFFSETTO:+0000
TZNAME:UTC
DTSTART:20250101T000000
END:STANDARD
END:VTIMEZONE
BEGIN:VEVENT
DTSTART;TZID=America/Los_Angeles:20260430T190000
DTEND;TZID=America/Los_Angeles:20260430T210000
DTSTAMP:20260420T130517
CREATED:20230328T045112Z
LAST-MODIFIED:20260218T014549Z
UID:10004539-1777575600-1777582800@duckfootbeer.com
SUMMARY:Leucadia Trivia Night
DESCRIPTION:Come quack up with us at our weekly Trivia Nights! Our hosts are full of feather-brained questions\, waddle with us and see who can rule the roost as the ultimate trivia champ. \nRSVP & MORE DEETS ON EVENTBRITE
URL:https://duckfootbeer.com/event/trivia-leucadia/2026-04-30/
LOCATION:Duck Foot Leucadia\, 978 N Coast Hwy 101\, Encinitas\, CA\, 92024\, United States
CATEGORIES:Leucadia,Trivia Night
ATTACH;FMTTYPE=image/jpeg:https://duckfootbeer.com/wp-content/uploads/2022/03/2023LeucadiaTrivia.jpg
END:VEVENT
BEGIN:VEVENT
DTSTART;TZID=America/Los_Angeles:20260501T160000
DTEND;TZID=America/Los_Angeles:20260501T210000
DTSTAMP:20260420T130517
CREATED:20240123T011332Z
LAST-MODIFIED:20260403T163738Z
UID:10007338-1777651200-1777669200@duckfootbeer.com
SUMMARY:Josue Cooks
DESCRIPTION:Josue Cooks serving up Tacos\, Pambazos & Huaraches fresh to order.
URL:https://duckfootbeer.com/event/josu/2026-05-01/
LOCATION:Duck Foot Miramar\, 8920 Kenamar Drive #210\, San Diego\, CA\, 92121\, United States
CATEGORIES:Food Truck,Miramar
ATTACH;FMTTYPE=image/jpeg:https://duckfootbeer.com/wp-content/uploads/2024/01/food-truck-MM-Josue-Cooks.jpg
END:VEVENT
BEGIN:VEVENT
DTSTART;TZID=America/Los_Angeles:20260502T120000
DTEND;TZID=America/Los_Angeles:20260502T200000
DTSTAMP:20260420T130517
CREATED:20231025T200816Z
LAST-MODIFIED:20260403T164509Z
UID:10007343-1777723200-1777752000@duckfootbeer.com
SUMMARY:Antoyitos Borincanos
DESCRIPTION:Antoyitos Borincanos Puerto Rican Cuisine \n \n \nClick images to expand menus
URL:https://duckfootbeer.com/event/antoyitos/2026-05-02/
LOCATION:Duck Foot Miramar\, 8920 Kenamar Drive #210\, San Diego\, CA\, 92121\, United States
CATEGORIES:Food Truck,Miramar
ATTACH;FMTTYPE=image/jpeg:https://duckfootbeer.com/wp-content/uploads/2023/10/food-truck-MM-Antoyitos-Borincanos.jpg
END:VEVENT
BEGIN:VEVENT
DTSTART;TZID=America/Los_Angeles:20260503T123000
DTEND;TZID=America/Los_Angeles:20260503T190000
DTSTAMP:20260420T130517
CREATED:20241217T012350Z
LAST-MODIFIED:20260417T185157Z
UID:10007377-1777811400-1777834800@duckfootbeer.com
SUMMARY:MJ's Philly Cheesesteaks
DESCRIPTION:Cheese Steaks and more
URL:https://duckfootbeer.com/event/mj-philly/2026-05-03/
LOCATION:Duck Foot Miramar\, 8920 Kenamar Drive #210\, San Diego\, CA\, 92121\, United States
CATEGORIES:Featured,Food Truck,Miramar
ATTACH;FMTTYPE=image/jpeg:https://duckfootbeer.com/wp-content/uploads/2024/12/food-truck-MJs.jpg
END:VEVENT
BEGIN:VEVENT
DTSTART;TZID=America/Los_Angeles:20260503T130000
DTEND;TZID=America/Los_Angeles:20260503T150000
DTSTAMP:20260420T130517
CREATED:20251001T193500Z
LAST-MODIFIED:20260327T173019Z
UID:10005618-1777813200-1777820400@duckfootbeer.com
SUMMARY:Authentic Handmade Dumplings Class
DESCRIPTION:Discover the flavor-packed world of dumplings! These juicy and plump morsels filled with hearty ingredients such as ground meat\, vegetables and classic seasoning such as soy sauce and sesame oil wrapped in fun shapes and folds will bring such joy as soon as you take a big bite. This class is hands-on\, yet casual and easy going\, making it a perfect occasion for a romantic date night or a fun outing with your family and friends! \nMaster the basics of dumpling wrapping in various different shapes. You will get a chance to work with high-quality store-bought dumpling wrappers and also learn valuable knife skills and learn how to create your own fillings from scratch. You will learn to make a traditional pork-based mixture as well as a vegetable filling. \nNo experience is required! We provide all the equipment and ingredients\, which are easy to find at local markets if you do not already have them in your home kitchen. Our events are casual and meant to be fun and instructive\, not hardcore. This class is designed to be just as fun for the cooking enthusiast who wants to be a part of every step as it is for the first-timer who is happier observing and assisting (or taste testing). \nPlease arrive 15 minutes early to check in. BYOB is restricted. Our venue partner\, Duckfoot Brewing will have a great selection of crafted pour available for purchase. 21+ only.
URL:https://duckfootbeer.com/event/dumplings-2/
LOCATION:CA
CATEGORIES:Featured,Miramar,Workshop
ATTACH;FMTTYPE=image/jpeg:https://duckfootbeer.com/wp-content/uploads/2025/08/Cooking-Class-Dumplings.jpg
END:VEVENT
BEGIN:VEVENT
DTSTART;VALUE=DATE:20260504
DTEND;VALUE=DATE:20260505
DTSTAMP:20260420T130517
CREATED:20251105T024541Z
LAST-MODIFIED:20260122T190743Z
UID:10005778-1777852800-1777939199@duckfootbeer.com
SUMMARY:$5 Mondays
DESCRIPTION:Just like the poster says\, we are serving up $5 Pints of our core beers all day\, every Monday at both locations.
URL:https://duckfootbeer.com/event/32112/2026-05-04/
LOCATION:CA
CATEGORIES:Deals,Featured,Leucadia,Miramar,Weekly
ATTACH;FMTTYPE=image/jpeg:https://duckfootbeer.com/wp-content/uploads/2025/11/monday-happy-hour-core.jpg
END:VEVENT
BEGIN:VEVENT
DTSTART;TZID=America/Los_Angeles:20260505T160000
DTEND;TZID=America/Los_Angeles:20260505T200000
DTSTAMP:20260420T130517
CREATED:20231025T200816Z
LAST-MODIFIED:20260403T164509Z
UID:10007344-1777996800-1778011200@duckfootbeer.com
SUMMARY:Antoyitos Borincanos
DESCRIPTION:Antoyitos Borincanos Puerto Rican Cuisine \n \n \nClick images to expand menus
URL:https://duckfootbeer.com/event/antoyitos/2026-05-05/
LOCATION:Duck Foot Miramar\, 8920 Kenamar Drive #210\, San Diego\, CA\, 92121\, United States
CATEGORIES:Food Truck,Miramar
ATTACH;FMTTYPE=image/jpeg:https://duckfootbeer.com/wp-content/uploads/2023/10/food-truck-MM-Antoyitos-Borincanos.jpg
END:VEVENT
BEGIN:VEVENT
DTSTART;TZID=America/Los_Angeles:20260505T180000
DTEND;TZID=America/Los_Angeles:20260505T210000
DTSTAMP:20260420T130517
CREATED:20240815T221429Z
LAST-MODIFIED:20260420T200158Z
UID:10007390-1778004000-1778014800@duckfootbeer.com
SUMMARY:Deadhead Night - Leucadia
DESCRIPTION:Join us for Leucadia’s newest Deadhead’s Night with a free live tribute from Patrick and Friends of Easy Wind. Experience the spirit of The Dead right in our tasting room as they perform acoustic renditions of your favorite tunes!
URL:https://duckfootbeer.com/event/deadhead-night-leu/2026-05-05/
LOCATION:Duck Foot Leucadia\, 978 N Coast Hwy 101\, Encinitas\, CA\, 92024\, United States
CATEGORIES:Featured,Leucadia,Music
ATTACH;FMTTYPE=image/jpeg:https://duckfootbeer.com/wp-content/uploads/2024/08/Leucadia-Deadheads-8-25.jpg
END:VEVENT
BEGIN:VEVENT
DTSTART;TZID=America/Los_Angeles:20260505T183000
DTEND;TZID=America/Los_Angeles:20260505T203000
DTSTAMP:20260420T130517
CREATED:20260327T173242Z
LAST-MODIFIED:20260327T180352Z
UID:10007328-1778005800-1778013000@duckfootbeer.com
SUMMARY:Pad Thai Cooking Class
DESCRIPTION:Escape to the streets of Thailand as we create one of the most famous Thai classics\, Pad Thai! \nIn this fun and hands-on class\, you will be guided step-by-step in recreating this Thai classic known for its diverse flavor profile of sweet\, salty\, sour and spicy. You will learn basic knife skills\, how to properly prepare the traditional noodles and how to build the flavor profile of an authentic Pad Thai sauce from scratch! Once you have created your masterpiece\, you will then plate\, garnish and devour your creations with your fellow foodies in class. You will also gain insight on how to source fresh\, seasonal ingredients and specialty spices in order to recreate the perfect Pad Thai again at home. \nNo experience is required! We provide all the equipment and ingredients\, which are easy to find at local markets if you don’t already have them in your home kitchen. Our events are casual and meant to be fun and instructive\, not hardcore. This class is designed to be just as fun for the cooking enthusiast who wants to be a part of every step as it is for the first-timer who’s happier observing and assisting (or taste testing). \nPlease arrive 15 minutes early to check in. You will be seated with your booking party and socially distanced from other guests. Please notify us of your dietary restrictions by emailing hello@cocusocial.com with at least 48 hours advance notice. Our venue partner\, Quigley Fine Wines\, will have a wonderful selection of pours waiting for you. Please note that drinks are available for purchase from the venue and are NOT included in your ticket price. Outside drinks are not available.
URL:https://duckfootbeer.com/event/pad-thai-cooking-class-2/
LOCATION:Duck Foot Miramar\, 8920 Kenamar Drive #210\, San Diego\, CA\, 92121\, United States
CATEGORIES:Featured,Miramar,Workshop
ATTACH;FMTTYPE=image/jpeg:https://duckfootbeer.com/wp-content/uploads/2025/03/Cooking-Class-Pad-Thai.jpg
END:VEVENT
BEGIN:VEVENT
DTSTART;TZID=America/Los_Angeles:20260506T160000
DTEND;TZID=America/Los_Angeles:20260506T210000
DTSTAMP:20260420T130517
CREATED:20241016T014017Z
LAST-MODIFIED:20260408T214504Z
UID:10007334-1778083200-1778101200@duckfootbeer.com
SUMMARY:Beach Bum Burgers
DESCRIPTION:Beach Bum Burgers\nSpecialty Brgers and more! \n \n 
URL:https://duckfootbeer.com/event/beach-bum/2026-05-06/
LOCATION:Duck Foot Miramar\, 8920 Kenamar Drive #210\, San Diego\, CA\, 92121\, United States
CATEGORIES:Food Truck,Miramar
ATTACH;FMTTYPE=image/jpeg:https://duckfootbeer.com/wp-content/uploads/2024/10/Beach-Bum-MM-food-truck.jpg
END:VEVENT
BEGIN:VEVENT
DTSTART;TZID=America/Los_Angeles:20260506T190000
DTEND;TZID=America/Los_Angeles:20260506T210000
DTSTAMP:20260420T130517
CREATED:20240118T170426Z
LAST-MODIFIED:20260129T182136Z
UID:10004887-1778094000-1778101200@duckfootbeer.com
SUMMARY:Bingo Night
DESCRIPTION:Join us every Wednesday from 7-9 PM with host Adam Jara! Get ready to quack up at our Bingo Night hosted at Duck Foot Brewing Leucadia! With awesome prizes up for grabs\, this is no ordinary duck hunt – it’s a night of lucky ducky fun!
URL:https://duckfootbeer.com/event/bingo-leucadia-2/2026-05-06/
LOCATION:Duck Foot Leucadia\, 978 N Coast Hwy 101\, Encinitas\, CA\, 92024\, United States
CATEGORIES:Featured,Games,Leucadia
ATTACH;FMTTYPE=image/jpeg:https://duckfootbeer.com/wp-content/uploads/2023/03/bingo-w-leucadia.jpg
END:VEVENT
BEGIN:VEVENT
DTSTART;TZID=UTC:20260506T190000
DTEND;TZID=UTC:20260506T210000
DTSTAMP:20260420T130517
CREATED:20250430T231756Z
LAST-MODIFIED:20260327T172524Z
UID:10002330-1778094000-1778101200@duckfootbeer.com
SUMMARY:Miramar Trivia Night
DESCRIPTION:Come quack up with us at our weekly Trivia Nights! Our hosts are full of feather-brained questions\, waddle with us and see who can rule the roost as the ultimate trivia champ!
URL:https://duckfootbeer.com/event/trivia-night-2/2026-05-06/
LOCATION:Duck Foot Miramar\, 8920 Kenamar Drive #210\, San Diego\, CA\, 92121\, United States
CATEGORIES:Featured,Games,Miramar,Poster,Weekly
ATTACH;FMTTYPE=image/jpeg:https://duckfootbeer.com/wp-content/uploads/2022/03/2023MiramarTrivia.jpg
END:VEVENT
BEGIN:VEVENT
DTSTART;TZID=UTC:20260507T120000
DTEND;TZID=UTC:20260507T210000
DTSTAMP:20260420T130517
CREATED:20220302T111111Z
LAST-MODIFIED:20260122T183410Z
UID:10006955-1778155200-1778187600@duckfootbeer.com
SUMMARY:Thirsty Thursdays
DESCRIPTION:Every Thursday = To-Go Fills Day.Save 20% on all crowler & growler fills\, open to close\, at Miramar and Leucadia.Stock up\, share (or don’t)\, repeat weekly.
URL:https://duckfootbeer.com/event/thirsty-thursdays/2026-05-07/
LOCATION:Duck Foot Miramar\, 8920 Kenamar Drive #210\, San Diego\, CA\, 92121\, United States
CATEGORIES:Deals,Featured,Leucadia,Miramar,Weekly
ATTACH;FMTTYPE=image/jpeg:https://duckfootbeer.com/wp-content/uploads/2022/03/IMG_2362.jpeg
END:VEVENT
BEGIN:VEVENT
DTSTART;TZID=America/Los_Angeles:20260507T160000
DTEND;TZID=America/Los_Angeles:20260507T210000
DTSTAMP:20260420T130517
CREATED:20241217T012350Z
LAST-MODIFIED:20260417T185157Z
UID:10007378-1778169600-1778187600@duckfootbeer.com
SUMMARY:MJ's Philly Cheesesteaks
DESCRIPTION:Cheese Steaks and more
URL:https://duckfootbeer.com/event/mj-philly/2026-05-07/
LOCATION:Duck Foot Miramar\, 8920 Kenamar Drive #210\, San Diego\, CA\, 92121\, United States
CATEGORIES:Featured,Food Truck,Miramar
ATTACH;FMTTYPE=image/jpeg:https://duckfootbeer.com/wp-content/uploads/2024/12/food-truck-MJs.jpg
END:VEVENT
BEGIN:VEVENT
DTSTART;TZID=America/Los_Angeles:20260507T190000
DTEND;TZID=America/Los_Angeles:20260507T210000
DTSTAMP:20260420T130517
CREATED:20230328T045112Z
LAST-MODIFIED:20260218T014549Z
UID:10004540-1778180400-1778187600@duckfootbeer.com
SUMMARY:Leucadia Trivia Night
DESCRIPTION:Come quack up with us at our weekly Trivia Nights! Our hosts are full of feather-brained questions\, waddle with us and see who can rule the roost as the ultimate trivia champ. \nRSVP & MORE DEETS ON EVENTBRITE
URL:https://duckfootbeer.com/event/trivia-leucadia/2026-05-07/
LOCATION:Duck Foot Leucadia\, 978 N Coast Hwy 101\, Encinitas\, CA\, 92024\, United States
CATEGORIES:Leucadia,Trivia Night
ATTACH;FMTTYPE=image/jpeg:https://duckfootbeer.com/wp-content/uploads/2022/03/2023LeucadiaTrivia.jpg
END:VEVENT
BEGIN:VEVENT
DTSTART;TZID=America/Los_Angeles:20260508T170000
DTEND;TZID=America/Los_Angeles:20260508T200000
DTSTAMP:20260420T130517
CREATED:20260129T022131Z
LAST-MODIFIED:20260407T175330Z
UID:10007375-1778259600-1778270400@duckfootbeer.com
SUMMARY:Driana - A Taste of Spain
DESCRIPTION:A Taste of Spain \nDriana Catering is consistently recognized as one of the best Spanish catering in San Diego for private parties\, corporate events and weddings. Our paella has been voted “Best paella 2023” by San Diego Tribune. Let us bring the essence of Spanish cuisine to your event\, for you and your guests.
URL:https://duckfootbeer.com/event/driana/2026-05-08/
LOCATION:CA
CATEGORIES:Featured,Food Truck,Miramar
ATTACH;FMTTYPE=image/jpeg:https://duckfootbeer.com/wp-content/uploads/2026/01/Driana-MM-food-truck.jpg
END:VEVENT
BEGIN:VEVENT
DTSTART;TZID=America/Los_Angeles:20260508T183000
DTEND;TZID=America/Los_Angeles:20260508T203000
DTSTAMP:20260420T130517
CREATED:20250826T213318Z
LAST-MODIFIED:20260420T200050Z
UID:10005290-1778265000-1778272200@duckfootbeer.com
SUMMARY:Jay Caine
DESCRIPTION:Get ready for a night of live music with Jay Caine a local favorite bringing a mix of popular rock hits from across the decades.\nFrom classics you know by heart to modern favorites\, Jay’s setlist is all about sing-along vibes and feel-good energy. Pair that with fresh beer on tap\, and you’ve got the perfect night out.\nCome grab a pint\, kick back\, and enjoy the music!
URL:https://duckfootbeer.com/event/jay-caine/
LOCATION:Duck Foot Leucadia\, 978 N Coast Hwy 101\, Encinitas\, CA\, 92024\, United States
CATEGORIES:Featured,Leucadia,Music
ATTACH;FMTTYPE=image/jpeg:https://duckfootbeer.com/wp-content/uploads/2025/08/Jay-Caine.jpg
END:VEVENT
BEGIN:VEVENT
DTSTART;TZID=America/Los_Angeles:20260508T200000
DTEND;TZID=America/Los_Angeles:20260508T220000
DTSTAMP:20260420T130517
CREATED:20230818T204157Z
LAST-MODIFIED:20260417T065304Z
UID:10001388-1778270400-1778277600@duckfootbeer.com
SUMMARY:Comedy Night
DESCRIPTION:  \nAttend a night of laughter and good beer at Duck Foot Brewing Company’s Comedy Night Under the Stars. Enjoy the best comedy acts in San Diego for free while sipping on some of the brewery’s signature brews! \nScan or click this code for RSVP & MORE DEETS \n\nPLEASE NOTE: Seats are first come first serve. We suggest arriving early to get your desired seating. If you plan to eat\, come and order early! \n \nKatie K Headlines!\nFeaturing:\nBijan Mostafvi \nRichard Mathis \nLauren Thomas \nKyle Wang \nwith Host Alex Petit!\nNAMED ONE OF THE BEST PLACES TO SEE STAND UP COMEDY IN ALL OF SAN DIEGO BY THE SD UNION TRIBUNE! \nFood truck onsite with great Duck Foot beer! Comedy under the stars! (It’s outside but quite ambient) Please be advised this is a COMEDY SHOW\, for ADULTS at a BREWERY! \nThere will be adult language and situations\, or your money back! There is a suggested 2 drink minimum. Tips for the comedians are appreciated! \nPlease send any questions you may have about the event to alexpetitsd@gmail.com!   Follow @duckfootcomedy for updates.
URL:https://duckfootbeer.com/event/comedy-night/
LOCATION:Duck Foot Miramar\, 8920 Kenamar Drive #210\, San Diego\, CA\, 92121\, United States
CATEGORIES:Comedy,Featured,Miramar
ATTACH;FMTTYPE=image/jpeg:https://duckfootbeer.com/wp-content/uploads/2021/11/comedy-night-logo.jpg
END:VEVENT
BEGIN:VEVENT
DTSTART;TZID=America/Los_Angeles:20260509T120000
DTEND;TZID=America/Los_Angeles:20260509T200000
DTSTAMP:20260420T130517
CREATED:20231025T200816Z
LAST-MODIFIED:20260403T164509Z
UID:10007345-1778328000-1778356800@duckfootbeer.com
SUMMARY:Antoyitos Borincanos
DESCRIPTION:Antoyitos Borincanos Puerto Rican Cuisine \n \n \nClick images to expand menus
URL:https://duckfootbeer.com/event/antoyitos/2026-05-09/
LOCATION:Duck Foot Miramar\, 8920 Kenamar Drive #210\, San Diego\, CA\, 92121\, United States
CATEGORIES:Food Truck,Miramar
ATTACH;FMTTYPE=image/jpeg:https://duckfootbeer.com/wp-content/uploads/2023/10/food-truck-MM-Antoyitos-Borincanos.jpg
END:VEVENT
BEGIN:VEVENT
DTSTART;TZID=America/Los_Angeles:20260510T123000
DTEND;TZID=America/Los_Angeles:20260510T190000
DTSTAMP:20260420T130517
CREATED:20260123T220906Z
LAST-MODIFIED:20260417T193235Z
UID:10007386-1778416200-1778439600@duckfootbeer.com
SUMMARY:Sourdough Shoppe
DESCRIPTION:Sourdough Shoppe Boulangeire & Pizza \nServing fresh artisan pizza\, made to order.
URL:https://duckfootbeer.com/event/sourdough-shoppe/2026-05-10/
LOCATION:Duck Foot Miramar\, 8920 Kenamar Drive #210\, San Diego\, CA\, 92121\, United States
CATEGORIES:Food Truck,Miramar
ATTACH;FMTTYPE=image/jpeg:https://duckfootbeer.com/wp-content/uploads/2026/01/food-truck-Sourdough_Shoppe.jpg
END:VEVENT
BEGIN:VEVENT
DTSTART;VALUE=DATE:20260511
DTEND;VALUE=DATE:20260512
DTSTAMP:20260420T130517
CREATED:20251105T024541Z
LAST-MODIFIED:20260122T190743Z
UID:10005779-1778457600-1778543999@duckfootbeer.com
SUMMARY:$5 Mondays
DESCRIPTION:Just like the poster says\, we are serving up $5 Pints of our core beers all day\, every Monday at both locations.
URL:https://duckfootbeer.com/event/32112/2026-05-11/
LOCATION:CA
CATEGORIES:Deals,Featured,Leucadia,Miramar,Weekly
ATTACH;FMTTYPE=image/jpeg:https://duckfootbeer.com/wp-content/uploads/2025/11/monday-happy-hour-core.jpg
END:VEVENT
BEGIN:VEVENT
DTSTART;TZID=America/Los_Angeles:20260511T183000
DTEND;TZID=America/Los_Angeles:20260511T210000
DTSTAMP:20260420T130517
CREATED:20230331T020406Z
LAST-MODIFIED:20251218T003039Z
UID:10006126-1778524200-1778533200@duckfootbeer.com
SUMMARY:Monday Bluegrass Jam
DESCRIPTION:The San Diego Bluegrass Society is excited to bring you a monthly evening bluegrass jam and indoor open mic at Duck Foot Brewing on the second Monday of the month\, from 6:30 pm until 9:00 pm. Acoustic musicians and listeners alike are invited.
URL:https://duckfootbeer.com/event/bluegrass-monday/2026-05-11/
LOCATION:Duck Foot Miramar\, 8920 Kenamar Drive #210\, San Diego\, CA\, 92121\, United States
CATEGORIES:Miramar,Music
ATTACH;FMTTYPE=image/jpeg:https://duckfootbeer.com/wp-content/uploads/2023/03/bluegrassmonday.jpg
END:VEVENT
BEGIN:VEVENT
DTSTART;TZID=America/Los_Angeles:20260512T160000
DTEND;TZID=America/Los_Angeles:20260512T210000
DTSTAMP:20260420T130517
CREATED:20231025T200816Z
LAST-MODIFIED:20260403T164509Z
UID:10007346-1778601600-1778619600@duckfootbeer.com
SUMMARY:Antoyitos Borincanos
DESCRIPTION:Antoyitos Borincanos Puerto Rican Cuisine \n \n \nClick images to expand menus
URL:https://duckfootbeer.com/event/antoyitos/2026-05-12/
LOCATION:Duck Foot Miramar\, 8920 Kenamar Drive #210\, San Diego\, CA\, 92121\, United States
CATEGORIES:Food Truck,Miramar
ATTACH;FMTTYPE=image/jpeg:https://duckfootbeer.com/wp-content/uploads/2023/10/food-truck-MM-Antoyitos-Borincanos.jpg
END:VEVENT
BEGIN:VEVENT
DTSTART;TZID=America/Los_Angeles:20260512T190000
DTEND;TZID=America/Los_Angeles:20260512T213000
DTSTAMP:20260420T130517
CREATED:20230104T014635Z
LAST-MODIFIED:20260327T180753Z
UID:10007329-1778612400-1778621400@duckfootbeer.com
SUMMARY:San Diego Jazz Collective - Jam Session
DESCRIPTION:Come join us for free live music\, as we welcome the San Diego Jazz Collective for a night of unrehearsed musical collaboration. This event is a great intimate experience held in our tasting room\, where musicians will cycle in and out through the night.
URL:https://duckfootbeer.com/event/san-diego-jazz-collective-jam-session-december-2023-3-14/2026-05-12/
LOCATION:Duck Foot Miramar\, 8920 Kenamar Drive #210\, San Diego\, CA\, 92121\, United States
CATEGORIES:Featured,Miramar,Music
ATTACH;FMTTYPE=image/jpeg:https://duckfootbeer.com/wp-content/uploads/2023/01/jazznight2.jpg
END:VEVENT
BEGIN:VEVENT
DTSTART;TZID=America/Los_Angeles:20260513T160000
DTEND;TZID=America/Los_Angeles:20260513T210000
DTSTAMP:20260420T130517
CREATED:20231025T200816Z
LAST-MODIFIED:20260403T164509Z
UID:10007288-1778688000-1778706000@duckfootbeer.com
SUMMARY:Antoyitos Borincanos
DESCRIPTION:Antoyitos Borincanos Puerto Rican Cuisine \n \n \nClick images to expand menus
URL:https://duckfootbeer.com/event/antoyitos/2026-05-13/
LOCATION:Duck Foot Miramar\, 8920 Kenamar Drive #210\, San Diego\, CA\, 92121\, United States
CATEGORIES:Food Truck,Miramar
ATTACH;FMTTYPE=image/jpeg:https://duckfootbeer.com/wp-content/uploads/2023/10/food-truck-MM-Antoyitos-Borincanos.jpg
END:VEVENT
BEGIN:VEVENT
DTSTART;TZID=America/Los_Angeles:20260513T190000
DTEND;TZID=America/Los_Angeles:20260513T210000
DTSTAMP:20260420T130517
CREATED:20240118T170426Z
LAST-MODIFIED:20260129T182136Z
UID:10004888-1778698800-1778706000@duckfootbeer.com
SUMMARY:Bingo Night
DESCRIPTION:Join us every Wednesday from 7-9 PM with host Adam Jara! Get ready to quack up at our Bingo Night hosted at Duck Foot Brewing Leucadia! With awesome prizes up for grabs\, this is no ordinary duck hunt – it’s a night of lucky ducky fun!
URL:https://duckfootbeer.com/event/bingo-leucadia-2/2026-05-13/
LOCATION:Duck Foot Leucadia\, 978 N Coast Hwy 101\, Encinitas\, CA\, 92024\, United States
CATEGORIES:Featured,Games,Leucadia
ATTACH;FMTTYPE=image/jpeg:https://duckfootbeer.com/wp-content/uploads/2023/03/bingo-w-leucadia.jpg
END:VEVENT
BEGIN:VEVENT
DTSTART;TZID=UTC:20260513T190000
DTEND;TZID=UTC:20260513T210000
DTSTAMP:20260420T130517
CREATED:20250430T231756Z
LAST-MODIFIED:20260327T172524Z
UID:10002331-1778698800-1778706000@duckfootbeer.com
SUMMARY:Miramar Trivia Night
DESCRIPTION:Come quack up with us at our weekly Trivia Nights! Our hosts are full of feather-brained questions\, waddle with us and see who can rule the roost as the ultimate trivia champ!
URL:https://duckfootbeer.com/event/trivia-night-2/2026-05-13/
LOCATION:Duck Foot Miramar\, 8920 Kenamar Drive #210\, San Diego\, CA\, 92121\, United States
CATEGORIES:Featured,Games,Miramar,Poster,Weekly
ATTACH;FMTTYPE=image/jpeg:https://duckfootbeer.com/wp-content/uploads/2022/03/2023MiramarTrivia.jpg
END:VEVENT
BEGIN:VEVENT
DTSTART;TZID=UTC:20260514T120000
DTEND;TZID=UTC:20260514T210000
DTSTAMP:20260420T130517
CREATED:20220302T111111Z
LAST-MODIFIED:20260122T183410Z
UID:10006956-1778760000-1778792400@duckfootbeer.com
SUMMARY:Thirsty Thursdays
DESCRIPTION:Every Thursday = To-Go Fills Day.Save 20% on all crowler & growler fills\, open to close\, at Miramar and Leucadia.Stock up\, share (or don’t)\, repeat weekly.
URL:https://duckfootbeer.com/event/thirsty-thursdays/2026-05-14/
LOCATION:Duck Foot Miramar\, 8920 Kenamar Drive #210\, San Diego\, CA\, 92121\, United States
CATEGORIES:Deals,Featured,Leucadia,Miramar,Weekly
ATTACH;FMTTYPE=image/jpeg:https://duckfootbeer.com/wp-content/uploads/2022/03/IMG_2362.jpeg
END:VEVENT
BEGIN:VEVENT
DTSTART;TZID=America/Los_Angeles:20260514T160000
DTEND;TZID=America/Los_Angeles:20260514T210000
DTSTAMP:20260420T130517
CREATED:20240123T011332Z
LAST-MODIFIED:20260403T163738Z
UID:10007339-1778774400-1778792400@duckfootbeer.com
SUMMARY:Josue Cooks
DESCRIPTION:Josue Cooks serving up Tacos\, Pambazos & Huaraches fresh to order.
URL:https://duckfootbeer.com/event/josu/2026-05-14/
LOCATION:Duck Foot Miramar\, 8920 Kenamar Drive #210\, San Diego\, CA\, 92121\, United States
CATEGORIES:Food Truck,Miramar
ATTACH;FMTTYPE=image/jpeg:https://duckfootbeer.com/wp-content/uploads/2024/01/food-truck-MM-Josue-Cooks.jpg
END:VEVENT
BEGIN:VEVENT
DTSTART;TZID=America/Los_Angeles:20260514T190000
DTEND;TZID=America/Los_Angeles:20260514T210000
DTSTAMP:20260420T130517
CREATED:20230328T045112Z
LAST-MODIFIED:20260218T014549Z
UID:10004541-1778785200-1778792400@duckfootbeer.com
SUMMARY:Leucadia Trivia Night
DESCRIPTION:Come quack up with us at our weekly Trivia Nights! Our hosts are full of feather-brained questions\, waddle with us and see who can rule the roost as the ultimate trivia champ. \nRSVP & MORE DEETS ON EVENTBRITE
URL:https://duckfootbeer.com/event/trivia-leucadia/2026-05-14/
LOCATION:Duck Foot Leucadia\, 978 N Coast Hwy 101\, Encinitas\, CA\, 92024\, United States
CATEGORIES:Leucadia,Trivia Night
ATTACH;FMTTYPE=image/jpeg:https://duckfootbeer.com/wp-content/uploads/2022/03/2023LeucadiaTrivia.jpg
END:VEVENT
END:VCALENDAR