BEGIN:VCALENDAR
VERSION:2.0
PRODID:-//Duck Foot Brewing Co - ECPv6.15.12.1//NONSGML v1.0//EN
CALSCALE:GREGORIAN
METHOD:PUBLISH
X-WR-CALNAME:Duck Foot Brewing Co
X-ORIGINAL-URL:https://duckfootbeer.com
X-WR-CALDESC:Events for Duck Foot Brewing Co
REFRESH-INTERVAL;VALUE=DURATION:PT1H
X-Robots-Tag:noindex
X-PUBLISHED-TTL:PT1H
BEGIN:VTIMEZONE
TZID:America/Los_Angeles
BEGIN:DAYLIGHT
TZOFFSETFROM:-0800
TZOFFSETTO:-0700
TZNAME:PDT
DTSTART:20240310T100000
END:DAYLIGHT
BEGIN:STANDARD
TZOFFSETFROM:-0700
TZOFFSETTO:-0800
TZNAME:PST
DTSTART:20241103T090000
END:STANDARD
BEGIN:DAYLIGHT
TZOFFSETFROM:-0800
TZOFFSETTO:-0700
TZNAME:PDT
DTSTART:20250309T100000
END:DAYLIGHT
BEGIN:STANDARD
TZOFFSETFROM:-0700
TZOFFSETTO:-0800
TZNAME:PST
DTSTART:20251102T090000
END:STANDARD
BEGIN:DAYLIGHT
TZOFFSETFROM:-0800
TZOFFSETTO:-0700
TZNAME:PDT
DTSTART:20260308T100000
END:DAYLIGHT
BEGIN:STANDARD
TZOFFSETFROM:-0700
TZOFFSETTO:-0800
TZNAME:PST
DTSTART:20261101T090000
END:STANDARD
END:VTIMEZONE
BEGIN:VTIMEZONE
TZID:UTC
BEGIN:STANDARD
TZOFFSETFROM:+0000
TZOFFSETTO:+0000
TZNAME:UTC
DTSTART:20240101T000000
END:STANDARD
END:VTIMEZONE
BEGIN:VEVENT
DTSTART;TZID=America/Los_Angeles:20250410T190000
DTEND;TZID=America/Los_Angeles:20250410T210000
DTSTAMP:20260425T191417
CREATED:20230328T045112Z
LAST-MODIFIED:20260218T014549Z
UID:10003999-1744311600-1744318800@duckfootbeer.com
SUMMARY:Leucadia Trivia Night
DESCRIPTION:Come quack up with us at our weekly Trivia Nights! Our hosts are full of feather-brained questions\, waddle with us and see who can rule the roost as the ultimate trivia champ. \nRSVP & MORE DEETS ON EVENTBRITE
URL:https://duckfootbeer.com/event/trivia-leucadia/2025-04-10/
LOCATION:Duck Foot Leucadia\, 978 N Coast Hwy 101\, Encinitas\, CA\, 92024\, United States
CATEGORIES:Leucadia,Trivia Night
ATTACH;FMTTYPE=image/jpeg:https://duckfootbeer.com/wp-content/uploads/2022/03/2023LeucadiaTrivia.jpg
END:VEVENT
BEGIN:VEVENT
DTSTART;TZID=America/Los_Angeles:20250410T183000
DTEND;TZID=America/Los_Angeles:20250410T203000
DTSTAMP:20260425T191417
CREATED:20250228T041007Z
LAST-MODIFIED:20250228T222836Z
UID:10004055-1744309800-1744317000@duckfootbeer.com
SUMMARY:Book Swap
DESCRIPTION:Book lovers\, it’s time to swap & sip! Join San Diego Book Swap Society on Sunday\, April 10th\, from 6:30–8:30 PM\nfor a laid-back afternoon of book trading and good company. \nBring a book to exchange and discover something new!\n$5 tickets – Click here \n#BookSwap #Leucadia #BookLoversUnite #sdbookswapsociety #sdbookstagrammer #letsbuildcommunity
URL:https://duckfootbeer.com/event/book-swap-mm/
LOCATION:Duck Foot Miramar\, 8920 Kenamar Drive #210\, San Diego\, CA\, 92121\, United States
CATEGORIES:Featured,Miramar
ATTACH;FMTTYPE=image/jpeg:https://duckfootbeer.com/wp-content/uploads/2025/02/Swap-4-10.jpg
END:VEVENT
BEGIN:VEVENT
DTSTART;TZID=UTC:20250410T120000
DTEND;TZID=UTC:20250410T210000
DTSTAMP:20260425T191417
CREATED:20220302T111111Z
LAST-MODIFIED:20260122T183410Z
UID:10006899-1744286400-1744318800@duckfootbeer.com
SUMMARY:Thirsty Thursdays
DESCRIPTION:Every Thursday = To-Go Fills Day.Save 20% on all crowler & growler fills\, open to close\, at Miramar and Leucadia.Stock up\, share (or don’t)\, repeat weekly.
URL:https://duckfootbeer.com/event/thirsty-thursdays/2025-04-10/
LOCATION:Duck Foot Miramar\, 8920 Kenamar Drive #210\, San Diego\, CA\, 92121\, United States
CATEGORIES:Deals,Featured,Leucadia,Miramar,Weekly
ATTACH;FMTTYPE=image/jpeg:https://duckfootbeer.com/wp-content/uploads/2022/03/IMG_2362.jpeg
END:VEVENT
BEGIN:VEVENT
DTSTART;TZID=UTC:20250409T190000
DTEND;TZID=UTC:20250409T210000
DTSTAMP:20260425T191417
CREATED:20250430T231756Z
LAST-MODIFIED:20260327T172524Z
UID:10004203-1744225200-1744232400@duckfootbeer.com
SUMMARY:Miramar Trivia Night
DESCRIPTION:Come quack up with us at our weekly Trivia Nights! Our hosts are full of feather-brained questions\, waddle with us and see who can rule the roost as the ultimate trivia champ!
URL:https://duckfootbeer.com/event/trivia-night-2/2025-04-09/
LOCATION:Duck Foot Miramar\, 8920 Kenamar Drive #210\, San Diego\, CA\, 92121\, United States
CATEGORIES:Featured,Games,Miramar,Poster,Weekly
ATTACH;FMTTYPE=image/jpeg:https://duckfootbeer.com/wp-content/uploads/2022/03/2023MiramarTrivia.jpg
END:VEVENT
BEGIN:VEVENT
DTSTART;TZID=America/Los_Angeles:20250409T190000
DTEND;TZID=America/Los_Angeles:20250409T210000
DTSTAMP:20260425T191418
CREATED:20240118T170426Z
LAST-MODIFIED:20260129T182136Z
UID:10004831-1744225200-1744232400@duckfootbeer.com
SUMMARY:Bingo Night
DESCRIPTION:Join us every Wednesday from 7-9 PM with host Adam Jara! Get ready to quack up at our Bingo Night hosted at Duck Foot Brewing Leucadia! With awesome prizes up for grabs\, this is no ordinary duck hunt – it’s a night of lucky ducky fun!
URL:https://duckfootbeer.com/event/bingo-leucadia-2/2025-04-09/
LOCATION:Duck Foot Leucadia\, 978 N Coast Hwy 101\, Encinitas\, CA\, 92024\, United States
CATEGORIES:Featured,Games,Leucadia
ATTACH;FMTTYPE=image/jpeg:https://duckfootbeer.com/wp-content/uploads/2023/03/bingo-w-leucadia.jpg
END:VEVENT
BEGIN:VEVENT
DTSTART;TZID=America/Los_Angeles:20250409T170000
DTEND;TZID=America/Los_Angeles:20250410T200000
DTSTAMP:20260425T191418
CREATED:20250424T011149Z
LAST-MODIFIED:20250424T011231Z
UID:10004141-1744218000-1744315200@duckfootbeer.com
SUMMARY:Haggo's Tacos
DESCRIPTION:Haggo’s Tacos \nWhat’s better than Beer & Taco’s?\nHaggo’s Organic Taco is close to Duck Foot’s heart\, they are a local Mexican eatery specializing in organic cuisine. They will be here Wednesday & Thursday from 5pm to 8pm\, to offer a wide variety of fan favorites with their own twists\, come grab a beer and have a unique\, healthy experience.\nCooking sustainably with non-gmo/organic produce and ingredients\, grass-fed beef\, organic free-range poultry\, and wild-caught seafood\, they have quickly become a local favorite in our funky beach town Leucadia! \n  \n \n 
URL:https://duckfootbeer.com/event/haggos-tacos-2/
LOCATION:Duck Foot Leucadia\, 978 N Coast Hwy 101\, Encinitas\, CA\, 92024\, United States
CATEGORIES:Leucadia
ATTACH;FMTTYPE=image/png:https://duckfootbeer.com/wp-content/uploads/2023/04/Haggos-Square-2K.png
END:VEVENT
BEGIN:VEVENT
DTSTART;TZID=America/Los_Angeles:20250408T190000
DTEND;TZID=America/Los_Angeles:20250408T213000
DTSTAMP:20260425T191418
CREATED:20230104T014635Z
LAST-MODIFIED:20260327T180753Z
UID:10004073-1744138800-1744147800@duckfootbeer.com
SUMMARY:San Diego Jazz Collective - Jam Session
DESCRIPTION:Come join us for free live music\, as we welcome the San Diego Jazz Collective for a night of unrehearsed musical collaboration. This event is a great intimate experience held in our tasting room\, where musicians will cycle in and out through the night.
URL:https://duckfootbeer.com/event/san-diego-jazz-collective-jam-session-december-2023-3-14/2025-04-08/
LOCATION:Duck Foot Miramar\, 8920 Kenamar Drive #210\, San Diego\, CA\, 92121\, United States
CATEGORIES:Featured,Miramar,Music
ATTACH;FMTTYPE=image/jpeg:https://duckfootbeer.com/wp-content/uploads/2023/01/jazznight2.jpg
END:VEVENT
BEGIN:VEVENT
DTSTART;TZID=America/Los_Angeles:20250406T100000
DTEND;TZID=America/Los_Angeles:20250406T140000
DTSTAMP:20260425T191418
CREATED:20230324T051144Z
LAST-MODIFIED:20250206T193431Z
UID:10001303-1743933600-1743948000@duckfootbeer.com
SUMMARY:Rigs & Brews
DESCRIPTION:Join us for Rigs and Brews\,  Its the ultimate event for off-road enthusiasts and beer lovers alike. Held at Duck Foot Brewing Company\, attendees can showcase their tricked-out vehicles and enjoy a cold brew with friends. With food trucks and raffles throughout the day\, Rigs and Brews promises to be a fun and exciting event for all. \n \n 
URL:https://duckfootbeer.com/event/rigs-brew-25/
LOCATION:Duck Foot Miramar\, 8920 Kenamar Drive #210\, San Diego\, CA\, 92121\, United States
CATEGORIES:Featured,Miramar
ATTACH;FMTTYPE=image/jpeg:https://duckfootbeer.com/wp-content/uploads/2023/03/Rigs-Square.jpg
END:VEVENT
BEGIN:VEVENT
DTSTART;TZID=America/Los_Angeles:20250404T160000
DTEND;TZID=America/Los_Angeles:20250404T210000
DTSTAMP:20260425T191418
CREATED:20231020T005005Z
LAST-MODIFIED:20250428T221943Z
UID:10004046-1743782400-1743800400@duckfootbeer.com
SUMMARY:East Coast Connection
DESCRIPTION:Bringing East Coast flavor to sunny San Diego
URL:https://duckfootbeer.com/event/ecc/2025-04-04/
LOCATION:Duck Foot Miramar\, 8920 Kenamar Drive #210\, San Diego\, CA\, 92121\, United States
CATEGORIES:Food Truck,Miramar
ATTACH;FMTTYPE=image/jpeg:https://duckfootbeer.com/wp-content/uploads/2023/10/food-truck-MM-ECC.jpg
END:VEVENT
BEGIN:VEVENT
DTSTART;TZID=America/Los_Angeles:20250403T190000
DTEND;TZID=America/Los_Angeles:20250403T210000
DTSTAMP:20260425T191418
CREATED:20230328T045112Z
LAST-MODIFIED:20260218T014549Z
UID:10003998-1743706800-1743714000@duckfootbeer.com
SUMMARY:Leucadia Trivia Night
DESCRIPTION:Come quack up with us at our weekly Trivia Nights! Our hosts are full of feather-brained questions\, waddle with us and see who can rule the roost as the ultimate trivia champ. \nRSVP & MORE DEETS ON EVENTBRITE
URL:https://duckfootbeer.com/event/trivia-leucadia/2025-04-03/
LOCATION:Duck Foot Leucadia\, 978 N Coast Hwy 101\, Encinitas\, CA\, 92024\, United States
CATEGORIES:Leucadia,Trivia Night
ATTACH;FMTTYPE=image/jpeg:https://duckfootbeer.com/wp-content/uploads/2022/03/2023LeucadiaTrivia.jpg
END:VEVENT
BEGIN:VEVENT
DTSTART;TZID=America/Los_Angeles:20250403T180000
DTEND;TZID=America/Los_Angeles:20250403T210000
DTSTAMP:20260425T191418
CREATED:20230523T174311Z
LAST-MODIFIED:20250311T155249Z
UID:10001170-1743703200-1743714000@duckfootbeer.com
SUMMARY:Travel Agents
DESCRIPTION:The Travel Agents\, special acoustic set \nGet ready to embark on a mind-bending musical journey with “The Travel Agents.” Influenced by the likes of Grateful Dead\, Jerry Garcia Band\, and Allman Bros\, their psychedelic rock and jam sessions will transport you to a musical realm where time and space blend into one harmonious groove.
URL:https://duckfootbeer.com/event/travel-agents/
LOCATION:Duck Foot Miramar\, 8920 Kenamar Drive #210\, San Diego\, CA\, 92121\, United States
CATEGORIES:Featured,Miramar,Music
ATTACH;FMTTYPE=image/jpeg:https://duckfootbeer.com/wp-content/uploads/2023/05/IMG_1568.jpeg
END:VEVENT
BEGIN:VEVENT
DTSTART;TZID=UTC:20250403T120000
DTEND;TZID=UTC:20250403T210000
DTSTAMP:20260425T191418
CREATED:20220302T111111Z
LAST-MODIFIED:20260122T183410Z
UID:10006898-1743681600-1743714000@duckfootbeer.com
SUMMARY:Thirsty Thursdays
DESCRIPTION:Every Thursday = To-Go Fills Day.Save 20% on all crowler & growler fills\, open to close\, at Miramar and Leucadia.Stock up\, share (or don’t)\, repeat weekly.
URL:https://duckfootbeer.com/event/thirsty-thursdays/2025-04-03/
LOCATION:Duck Foot Miramar\, 8920 Kenamar Drive #210\, San Diego\, CA\, 92121\, United States
CATEGORIES:Deals,Featured,Leucadia,Miramar,Weekly
ATTACH;FMTTYPE=image/jpeg:https://duckfootbeer.com/wp-content/uploads/2022/03/IMG_2362.jpeg
END:VEVENT
BEGIN:VEVENT
DTSTART;TZID=UTC:20250402T190000
DTEND;TZID=UTC:20250402T210000
DTSTAMP:20260425T191418
CREATED:20250430T231756Z
LAST-MODIFIED:20260327T172524Z
UID:10002278-1743620400-1743627600@duckfootbeer.com
SUMMARY:Miramar Trivia Night
DESCRIPTION:Come quack up with us at our weekly Trivia Nights! Our hosts are full of feather-brained questions\, waddle with us and see who can rule the roost as the ultimate trivia champ!
URL:https://duckfootbeer.com/event/trivia-night-2/2025-04-02/
LOCATION:Duck Foot Miramar\, 8920 Kenamar Drive #210\, San Diego\, CA\, 92121\, United States
CATEGORIES:Featured,Games,Miramar,Poster,Weekly
ATTACH;FMTTYPE=image/jpeg:https://duckfootbeer.com/wp-content/uploads/2022/03/2023MiramarTrivia.jpg
END:VEVENT
BEGIN:VEVENT
DTSTART;TZID=America/Los_Angeles:20250402T190000
DTEND;TZID=America/Los_Angeles:20250402T210000
DTSTAMP:20260425T191418
CREATED:20240118T170426Z
LAST-MODIFIED:20260129T182136Z
UID:10004830-1743620400-1743627600@duckfootbeer.com
SUMMARY:Bingo Night
DESCRIPTION:Join us every Wednesday from 7-9 PM with host Adam Jara! Get ready to quack up at our Bingo Night hosted at Duck Foot Brewing Leucadia! With awesome prizes up for grabs\, this is no ordinary duck hunt – it’s a night of lucky ducky fun!
URL:https://duckfootbeer.com/event/bingo-leucadia-2/2025-04-02/
LOCATION:Duck Foot Leucadia\, 978 N Coast Hwy 101\, Encinitas\, CA\, 92024\, United States
CATEGORIES:Featured,Games,Leucadia
ATTACH;FMTTYPE=image/jpeg:https://duckfootbeer.com/wp-content/uploads/2023/03/bingo-w-leucadia.jpg
END:VEVENT
BEGIN:VEVENT
DTSTART;VALUE=DATE:20250401
DTEND;VALUE=DATE:20250501
DTSTAMP:20260425T191418
CREATED:20250306T171240Z
LAST-MODIFIED:20250423T195009Z
UID:10004075-1743465600-1746057599@duckfootbeer.com
SUMMARY:Fruity Pebbles Beer Slushie
DESCRIPTION:Serving up at Miramar \nThe Fruity Pebbles Slushie. A creamy and decadent blend of berries and vanilla\, topped with whipped cream and fruity pebbles. \n 
URL:https://duckfootbeer.com/event/pebbles/
CATEGORIES:Featured,Leucadia,Miramar,Slushie
ATTACH;FMTTYPE=image/jpeg:https://duckfootbeer.com/wp-content/uploads/2025/03/Fruity-Pebbles-1x1-1.jpg
END:VEVENT
BEGIN:VEVENT
DTSTART;TZID=America/Los_Angeles:20250327T190000
DTEND;TZID=America/Los_Angeles:20250327T210000
DTSTAMP:20260425T191418
CREATED:20230328T045112Z
LAST-MODIFIED:20260218T014549Z
UID:10003962-1743102000-1743109200@duckfootbeer.com
SUMMARY:Leucadia Trivia Night
DESCRIPTION:Come quack up with us at our weekly Trivia Nights! Our hosts are full of feather-brained questions\, waddle with us and see who can rule the roost as the ultimate trivia champ. \nRSVP & MORE DEETS ON EVENTBRITE
URL:https://duckfootbeer.com/event/trivia-leucadia/2025-03-27/
LOCATION:Duck Foot Leucadia\, 978 N Coast Hwy 101\, Encinitas\, CA\, 92024\, United States
CATEGORIES:Leucadia,Trivia Night
ATTACH;FMTTYPE=image/jpeg:https://duckfootbeer.com/wp-content/uploads/2022/03/2023LeucadiaTrivia.jpg
END:VEVENT
BEGIN:VEVENT
DTSTART;TZID=UTC:20250327T120000
DTEND;TZID=UTC:20250327T210000
DTSTAMP:20260425T191418
CREATED:20220302T111111Z
LAST-MODIFIED:20260122T183410Z
UID:10006897-1743076800-1743109200@duckfootbeer.com
SUMMARY:Thirsty Thursdays
DESCRIPTION:Every Thursday = To-Go Fills Day.Save 20% on all crowler & growler fills\, open to close\, at Miramar and Leucadia.Stock up\, share (or don’t)\, repeat weekly.
URL:https://duckfootbeer.com/event/thirsty-thursdays/2025-03-27/
LOCATION:Duck Foot Miramar\, 8920 Kenamar Drive #210\, San Diego\, CA\, 92121\, United States
CATEGORIES:Deals,Featured,Leucadia,Miramar,Weekly
ATTACH;FMTTYPE=image/jpeg:https://duckfootbeer.com/wp-content/uploads/2022/03/IMG_2362.jpeg
END:VEVENT
BEGIN:VEVENT
DTSTART;TZID=America/Los_Angeles:20250326T190000
DTEND;TZID=America/Los_Angeles:20250326T210000
DTSTAMP:20260425T191418
CREATED:20240118T170426Z
LAST-MODIFIED:20260129T182136Z
UID:10004829-1743015600-1743022800@duckfootbeer.com
SUMMARY:Bingo Night
DESCRIPTION:Join us every Wednesday from 7-9 PM with host Adam Jara! Get ready to quack up at our Bingo Night hosted at Duck Foot Brewing Leucadia! With awesome prizes up for grabs\, this is no ordinary duck hunt – it’s a night of lucky ducky fun!
URL:https://duckfootbeer.com/event/bingo-leucadia-2/2025-03-26/
LOCATION:Duck Foot Leucadia\, 978 N Coast Hwy 101\, Encinitas\, CA\, 92024\, United States
CATEGORIES:Featured,Games,Leucadia
ATTACH;FMTTYPE=image/jpeg:https://duckfootbeer.com/wp-content/uploads/2023/03/bingo-w-leucadia.jpg
END:VEVENT
BEGIN:VEVENT
DTSTART;TZID=America/Los_Angeles:20250323T130000
DTEND;TZID=America/Los_Angeles:20250323T150000
DTSTAMP:20260425T191418
CREATED:20231228T235954Z
LAST-MODIFIED:20260408T220107Z
UID:10003977-1742734800-1742742000@duckfootbeer.com
SUMMARY:Sunday Bluegrass Jam
DESCRIPTION:Join us at Duck Foot Brewing Company for a lively afternoon of bluegrass music with talented musicians from the San Diego Bluegrass Society\, Sunday 1-3PM! Sip on our delicious selection of craft beers while tapping your toes to the upbeat tunes and enjoying the company of fellow music and beer lovers.
URL:https://duckfootbeer.com/event/sunday-bluegrass-2/2025-03-23/
LOCATION:Duck Foot Miramar\, 8920 Kenamar Drive #210\, San Diego\, CA\, 92121\, United States
CATEGORIES:Featured,Miramar,Music
ATTACH;FMTTYPE=image/jpeg:https://duckfootbeer.com/wp-content/uploads/2023/02/bluegrasssunday2b.jpg
END:VEVENT
BEGIN:VEVENT
DTSTART;TZID=America/Los_Angeles:20250320T190000
DTEND;TZID=America/Los_Angeles:20250320T210000
DTSTAMP:20260425T191418
CREATED:20230328T045112Z
LAST-MODIFIED:20260218T014549Z
UID:10003961-1742497200-1742504400@duckfootbeer.com
SUMMARY:Leucadia Trivia Night
DESCRIPTION:Come quack up with us at our weekly Trivia Nights! Our hosts are full of feather-brained questions\, waddle with us and see who can rule the roost as the ultimate trivia champ. \nRSVP & MORE DEETS ON EVENTBRITE
URL:https://duckfootbeer.com/event/trivia-leucadia/2025-03-20/
LOCATION:Duck Foot Leucadia\, 978 N Coast Hwy 101\, Encinitas\, CA\, 92024\, United States
CATEGORIES:Leucadia,Trivia Night
ATTACH;FMTTYPE=image/jpeg:https://duckfootbeer.com/wp-content/uploads/2022/03/2023LeucadiaTrivia.jpg
END:VEVENT
BEGIN:VEVENT
DTSTART;TZID=UTC:20250320T120000
DTEND;TZID=UTC:20250320T210000
DTSTAMP:20260425T191418
CREATED:20220302T111111Z
LAST-MODIFIED:20260122T183410Z
UID:10006896-1742472000-1742504400@duckfootbeer.com
SUMMARY:Thirsty Thursdays
DESCRIPTION:Every Thursday = To-Go Fills Day.Save 20% on all crowler & growler fills\, open to close\, at Miramar and Leucadia.Stock up\, share (or don’t)\, repeat weekly.
URL:https://duckfootbeer.com/event/thirsty-thursdays/2025-03-20/
LOCATION:Duck Foot Miramar\, 8920 Kenamar Drive #210\, San Diego\, CA\, 92121\, United States
CATEGORIES:Deals,Featured,Leucadia,Miramar,Weekly
ATTACH;FMTTYPE=image/jpeg:https://duckfootbeer.com/wp-content/uploads/2022/03/IMG_2362.jpeg
END:VEVENT
BEGIN:VEVENT
DTSTART;TZID=America/Los_Angeles:20250319T190000
DTEND;TZID=America/Los_Angeles:20250319T210000
DTSTAMP:20260425T191418
CREATED:20240118T170426Z
LAST-MODIFIED:20260129T182136Z
UID:10004828-1742410800-1742418000@duckfootbeer.com
SUMMARY:Bingo Night
DESCRIPTION:Join us every Wednesday from 7-9 PM with host Adam Jara! Get ready to quack up at our Bingo Night hosted at Duck Foot Brewing Leucadia! With awesome prizes up for grabs\, this is no ordinary duck hunt – it’s a night of lucky ducky fun!
URL:https://duckfootbeer.com/event/bingo-leucadia-2/2025-03-19/
LOCATION:Duck Foot Leucadia\, 978 N Coast Hwy 101\, Encinitas\, CA\, 92024\, United States
CATEGORIES:Featured,Games,Leucadia
ATTACH;FMTTYPE=image/jpeg:https://duckfootbeer.com/wp-content/uploads/2023/03/bingo-w-leucadia.jpg
END:VEVENT
BEGIN:VEVENT
DTSTART;TZID=America/Los_Angeles:20250314T160000
DTEND;TZID=America/Los_Angeles:20250314T220000
DTSTAMP:20260425T191418
CREATED:20231020T005005Z
LAST-MODIFIED:20250428T221943Z
UID:10003984-1741968000-1741989600@duckfootbeer.com
SUMMARY:East Coast Connection
DESCRIPTION:Bringing East Coast flavor to sunny San Diego
URL:https://duckfootbeer.com/event/ecc/2025-03-14/
LOCATION:Duck Foot Miramar\, 8920 Kenamar Drive #210\, San Diego\, CA\, 92121\, United States
CATEGORIES:Food Truck,Miramar
ATTACH;FMTTYPE=image/jpeg:https://duckfootbeer.com/wp-content/uploads/2023/10/food-truck-MM-ECC.jpg
END:VEVENT
BEGIN:VEVENT
DTSTART;TZID=America/Los_Angeles:20250313T190000
DTEND;TZID=America/Los_Angeles:20250313T210000
DTSTAMP:20260425T191418
CREATED:20230328T045112Z
LAST-MODIFIED:20260218T014549Z
UID:10003960-1741892400-1741899600@duckfootbeer.com
SUMMARY:Leucadia Trivia Night
DESCRIPTION:Come quack up with us at our weekly Trivia Nights! Our hosts are full of feather-brained questions\, waddle with us and see who can rule the roost as the ultimate trivia champ. \nRSVP & MORE DEETS ON EVENTBRITE
URL:https://duckfootbeer.com/event/trivia-leucadia/2025-03-13/
LOCATION:Duck Foot Leucadia\, 978 N Coast Hwy 101\, Encinitas\, CA\, 92024\, United States
CATEGORIES:Leucadia,Trivia Night
ATTACH;FMTTYPE=image/jpeg:https://duckfootbeer.com/wp-content/uploads/2022/03/2023LeucadiaTrivia.jpg
END:VEVENT
BEGIN:VEVENT
DTSTART;TZID=UTC:20250313T120000
DTEND;TZID=UTC:20250313T210000
DTSTAMP:20260425T191418
CREATED:20220302T111111Z
LAST-MODIFIED:20260122T183410Z
UID:10006895-1741867200-1741899600@duckfootbeer.com
SUMMARY:Thirsty Thursdays
DESCRIPTION:Every Thursday = To-Go Fills Day.Save 20% on all crowler & growler fills\, open to close\, at Miramar and Leucadia.Stock up\, share (or don’t)\, repeat weekly.
URL:https://duckfootbeer.com/event/thirsty-thursdays/2025-03-13/
LOCATION:Duck Foot Miramar\, 8920 Kenamar Drive #210\, San Diego\, CA\, 92121\, United States
CATEGORIES:Deals,Featured,Leucadia,Miramar,Weekly
ATTACH;FMTTYPE=image/jpeg:https://duckfootbeer.com/wp-content/uploads/2022/03/IMG_2362.jpeg
END:VEVENT
BEGIN:VEVENT
DTSTART;TZID=America/Los_Angeles:20250312T190000
DTEND;TZID=America/Los_Angeles:20250312T210000
DTSTAMP:20260425T191418
CREATED:20240118T170426Z
LAST-MODIFIED:20260129T182136Z
UID:10004827-1741806000-1741813200@duckfootbeer.com
SUMMARY:Bingo Night
DESCRIPTION:Join us every Wednesday from 7-9 PM with host Adam Jara! Get ready to quack up at our Bingo Night hosted at Duck Foot Brewing Leucadia! With awesome prizes up for grabs\, this is no ordinary duck hunt – it’s a night of lucky ducky fun!
URL:https://duckfootbeer.com/event/bingo-leucadia-2/2025-03-12/
LOCATION:Duck Foot Leucadia\, 978 N Coast Hwy 101\, Encinitas\, CA\, 92024\, United States
CATEGORIES:Featured,Games,Leucadia
ATTACH;FMTTYPE=image/jpeg:https://duckfootbeer.com/wp-content/uploads/2023/03/bingo-w-leucadia.jpg
END:VEVENT
BEGIN:VEVENT
DTSTART;TZID=America/Los_Angeles:20250311T190000
DTEND;TZID=America/Los_Angeles:20250311T213000
DTSTAMP:20260425T191418
CREATED:20230104T014635Z
LAST-MODIFIED:20260327T180753Z
UID:10004002-1741719600-1741728600@duckfootbeer.com
SUMMARY:San Diego Jazz Collective - Jam Session
DESCRIPTION:Come join us for free live music\, as we welcome the San Diego Jazz Collective for a night of unrehearsed musical collaboration. This event is a great intimate experience held in our tasting room\, where musicians will cycle in and out through the night.
URL:https://duckfootbeer.com/event/san-diego-jazz-collective-jam-session-december-2023-3-14/2025-03-11/
LOCATION:Duck Foot Miramar\, 8920 Kenamar Drive #210\, San Diego\, CA\, 92121\, United States
CATEGORIES:Featured,Miramar,Music
ATTACH;FMTTYPE=image/jpeg:https://duckfootbeer.com/wp-content/uploads/2023/01/jazznight2.jpg
END:VEVENT
BEGIN:VEVENT
DTSTART;TZID=America/Los_Angeles:20250309T150000
DTEND;TZID=America/Los_Angeles:20250309T170000
DTSTAMP:20260425T191418
CREATED:20250228T035944Z
LAST-MODIFIED:20250228T041214Z
UID:10004054-1741532400-1741539600@duckfootbeer.com
SUMMARY:Book Swap
DESCRIPTION:Book lovers\, it’s time to swap & sip! Join San Diego Book Swap Society on Sunday\, March 9\, from 3–5 PM\n@duckfootleucadia for a laid-back afternoon of book trading and good company. \nBring a book to exchange and discover something new!\n$5 tickets – Click here \n#BookSwap #Leucadia #BookLoversUnite #sdbookswapsociety #sdbookstagrammer #letsbuildcommunity
URL:https://duckfootbeer.com/event/book-swap/
LOCATION:Duck Foot Leucadia\, 978 N Coast Hwy 101\, Encinitas\, CA\, 92024\, United States
CATEGORIES:Featured,Leucadia
ATTACH;FMTTYPE=image/jpeg:https://duckfootbeer.com/wp-content/uploads/2025/02/Screenshot-2025-02-27-125556.jpg
END:VEVENT
BEGIN:VEVENT
DTSTART;TZID=America/Los_Angeles:20250306T190000
DTEND;TZID=America/Los_Angeles:20250306T210000
DTSTAMP:20260425T191418
CREATED:20230328T045112Z
LAST-MODIFIED:20260218T014549Z
UID:10003959-1741287600-1741294800@duckfootbeer.com
SUMMARY:Leucadia Trivia Night
DESCRIPTION:Come quack up with us at our weekly Trivia Nights! Our hosts are full of feather-brained questions\, waddle with us and see who can rule the roost as the ultimate trivia champ. \nRSVP & MORE DEETS ON EVENTBRITE
URL:https://duckfootbeer.com/event/trivia-leucadia/2025-03-06/
LOCATION:Duck Foot Leucadia\, 978 N Coast Hwy 101\, Encinitas\, CA\, 92024\, United States
CATEGORIES:Leucadia,Trivia Night
ATTACH;FMTTYPE=image/jpeg:https://duckfootbeer.com/wp-content/uploads/2022/03/2023LeucadiaTrivia.jpg
END:VEVENT
BEGIN:VEVENT
DTSTART;TZID=UTC:20250306T120000
DTEND;TZID=UTC:20250306T210000
DTSTAMP:20260425T191418
CREATED:20220302T111111Z
LAST-MODIFIED:20260122T183410Z
UID:10006894-1741262400-1741294800@duckfootbeer.com
SUMMARY:Thirsty Thursdays
DESCRIPTION:Every Thursday = To-Go Fills Day.Save 20% on all crowler & growler fills\, open to close\, at Miramar and Leucadia.Stock up\, share (or don’t)\, repeat weekly.
URL:https://duckfootbeer.com/event/thirsty-thursdays/2025-03-06/
LOCATION:Duck Foot Miramar\, 8920 Kenamar Drive #210\, San Diego\, CA\, 92121\, United States
CATEGORIES:Deals,Featured,Leucadia,Miramar,Weekly
ATTACH;FMTTYPE=image/jpeg:https://duckfootbeer.com/wp-content/uploads/2022/03/IMG_2362.jpeg
END:VEVENT
END:VCALENDAR