BEGIN:VCALENDAR
VERSION:2.0
PRODID:-//Duck Foot Brewing Co - ECPv6.15.12.1//NONSGML v1.0//EN
CALSCALE:GREGORIAN
METHOD:PUBLISH
X-WR-CALNAME:Duck Foot Brewing Co
X-ORIGINAL-URL:https://duckfootbeer.com
X-WR-CALDESC:Events for Duck Foot Brewing Co
REFRESH-INTERVAL;VALUE=DURATION:PT1H
X-Robots-Tag:noindex
X-PUBLISHED-TTL:PT1H
BEGIN:VTIMEZONE
TZID:UTC
BEGIN:STANDARD
TZOFFSETFROM:+0000
TZOFFSETTO:+0000
TZNAME:UTC
DTSTART:20240101T000000
END:STANDARD
END:VTIMEZONE
BEGIN:VTIMEZONE
TZID:America/Los_Angeles
BEGIN:DAYLIGHT
TZOFFSETFROM:-0800
TZOFFSETTO:-0700
TZNAME:PDT
DTSTART:20240310T100000
END:DAYLIGHT
BEGIN:STANDARD
TZOFFSETFROM:-0700
TZOFFSETTO:-0800
TZNAME:PST
DTSTART:20241103T090000
END:STANDARD
BEGIN:DAYLIGHT
TZOFFSETFROM:-0800
TZOFFSETTO:-0700
TZNAME:PDT
DTSTART:20250309T100000
END:DAYLIGHT
BEGIN:STANDARD
TZOFFSETFROM:-0700
TZOFFSETTO:-0800
TZNAME:PST
DTSTART:20251102T090000
END:STANDARD
BEGIN:DAYLIGHT
TZOFFSETFROM:-0800
TZOFFSETTO:-0700
TZNAME:PDT
DTSTART:20260308T100000
END:DAYLIGHT
BEGIN:STANDARD
TZOFFSETFROM:-0700
TZOFFSETTO:-0800
TZNAME:PST
DTSTART:20261101T090000
END:STANDARD
END:VTIMEZONE
BEGIN:VEVENT
DTSTART;TZID=UTC:20250618T190000
DTEND;TZID=UTC:20250618T210000
DTSTAMP:20260423T014002
CREATED:20250430T231756Z
LAST-MODIFIED:20260327T172524Z
UID:10002284-1750273200-1750280400@duckfootbeer.com
SUMMARY:Miramar Trivia Night
DESCRIPTION:Come quack up with us at our weekly Trivia Nights! Our hosts are full of feather-brained questions\, waddle with us and see who can rule the roost as the ultimate trivia champ!
URL:https://duckfootbeer.com/event/trivia-night-2/2025-06-18/
LOCATION:Duck Foot Miramar\, 8920 Kenamar Drive #210\, San Diego\, CA\, 92121\, United States
CATEGORIES:Featured,Games,Miramar,Poster,Weekly
ATTACH;FMTTYPE=image/jpeg:https://duckfootbeer.com/wp-content/uploads/2022/03/2023MiramarTrivia.jpg
END:VEVENT
BEGIN:VEVENT
DTSTART;TZID=America/Los_Angeles:20250618T190000
DTEND;TZID=America/Los_Angeles:20250618T210000
DTSTAMP:20260423T014002
CREATED:20240118T170426Z
LAST-MODIFIED:20260129T182136Z
UID:10004841-1750273200-1750280400@duckfootbeer.com
SUMMARY:Bingo Night
DESCRIPTION:Join us every Wednesday from 7-9 PM with host Adam Jara! Get ready to quack up at our Bingo Night hosted at Duck Foot Brewing Leucadia! With awesome prizes up for grabs\, this is no ordinary duck hunt – it’s a night of lucky ducky fun!
URL:https://duckfootbeer.com/event/bingo-leucadia-2/2025-06-18/
LOCATION:Duck Foot Leucadia\, 978 N Coast Hwy 101\, Encinitas\, CA\, 92024\, United States
CATEGORIES:Featured,Games,Leucadia
ATTACH;FMTTYPE=image/jpeg:https://duckfootbeer.com/wp-content/uploads/2023/03/bingo-w-leucadia.jpg
END:VEVENT
BEGIN:VEVENT
DTSTART;TZID=America/Los_Angeles:20250612T190000
DTEND;TZID=America/Los_Angeles:20250612T210000
DTSTAMP:20260423T014002
CREATED:20230328T045112Z
LAST-MODIFIED:20260218T014549Z
UID:10004493-1749754800-1749762000@duckfootbeer.com
SUMMARY:Leucadia Trivia Night
DESCRIPTION:Come quack up with us at our weekly Trivia Nights! Our hosts are full of feather-brained questions\, waddle with us and see who can rule the roost as the ultimate trivia champ. \nRSVP & MORE DEETS ON EVENTBRITE
URL:https://duckfootbeer.com/event/trivia-leucadia/2025-06-12/
LOCATION:Duck Foot Leucadia\, 978 N Coast Hwy 101\, Encinitas\, CA\, 92024\, United States
CATEGORIES:Leucadia,Trivia Night
ATTACH;FMTTYPE=image/jpeg:https://duckfootbeer.com/wp-content/uploads/2022/03/2023LeucadiaTrivia.jpg
END:VEVENT
BEGIN:VEVENT
DTSTART;TZID=America/Los_Angeles:20250612T160000
DTEND;TZID=America/Los_Angeles:20250612T210000
DTSTAMP:20260423T014002
CREATED:20250606T172657Z
LAST-MODIFIED:20250606T172657Z
UID:10005120-1749744000-1749762000@duckfootbeer.com
SUMMARY:Pizza Break
DESCRIPTION:Delicious Gourmet Pizza pairs perfectly with our beers. \n 
URL:https://duckfootbeer.com/event/pizza-break-leu/
LOCATION:Duck Foot Leucadia\, 978 N Coast Hwy 101\, Encinitas\, CA\, 92024\, United States
CATEGORIES:Food Truck,Leucadia
ATTACH;FMTTYPE=image/jpeg:https://duckfootbeer.com/wp-content/uploads/2025/06/Pizza_Break-food-truck-Leucadia.jpg
END:VEVENT
BEGIN:VEVENT
DTSTART;TZID=UTC:20250612T120000
DTEND;TZID=UTC:20250612T210000
DTSTAMP:20260423T014002
CREATED:20220302T111111Z
LAST-MODIFIED:20260122T183410Z
UID:10006908-1749729600-1749762000@duckfootbeer.com
SUMMARY:Thirsty Thursdays
DESCRIPTION:Every Thursday = To-Go Fills Day.Save 20% on all crowler & growler fills\, open to close\, at Miramar and Leucadia.Stock up\, share (or don’t)\, repeat weekly.
URL:https://duckfootbeer.com/event/thirsty-thursdays/2025-06-12/
LOCATION:Duck Foot Miramar\, 8920 Kenamar Drive #210\, San Diego\, CA\, 92121\, United States
CATEGORIES:Deals,Featured,Leucadia,Miramar,Weekly
ATTACH;FMTTYPE=image/jpeg:https://duckfootbeer.com/wp-content/uploads/2022/03/IMG_2362.jpeg
END:VEVENT
BEGIN:VEVENT
DTSTART;TZID=UTC:20250611T190000
DTEND;TZID=UTC:20250611T210000
DTSTAMP:20260423T014002
CREATED:20250430T231756Z
LAST-MODIFIED:20260327T172524Z
UID:10002283-1749668400-1749675600@duckfootbeer.com
SUMMARY:Miramar Trivia Night
DESCRIPTION:Come quack up with us at our weekly Trivia Nights! Our hosts are full of feather-brained questions\, waddle with us and see who can rule the roost as the ultimate trivia champ!
URL:https://duckfootbeer.com/event/trivia-night-2/2025-06-11/
LOCATION:Duck Foot Miramar\, 8920 Kenamar Drive #210\, San Diego\, CA\, 92121\, United States
CATEGORIES:Featured,Games,Miramar,Poster,Weekly
ATTACH;FMTTYPE=image/jpeg:https://duckfootbeer.com/wp-content/uploads/2022/03/2023MiramarTrivia.jpg
END:VEVENT
BEGIN:VEVENT
DTSTART;TZID=America/Los_Angeles:20250611T190000
DTEND;TZID=America/Los_Angeles:20250611T210000
DTSTAMP:20260423T014002
CREATED:20240118T170426Z
LAST-MODIFIED:20260129T182136Z
UID:10004840-1749668400-1749675600@duckfootbeer.com
SUMMARY:Bingo Night
DESCRIPTION:Join us every Wednesday from 7-9 PM with host Adam Jara! Get ready to quack up at our Bingo Night hosted at Duck Foot Brewing Leucadia! With awesome prizes up for grabs\, this is no ordinary duck hunt – it’s a night of lucky ducky fun!
URL:https://duckfootbeer.com/event/bingo-leucadia-2/2025-06-11/
LOCATION:Duck Foot Leucadia\, 978 N Coast Hwy 101\, Encinitas\, CA\, 92024\, United States
CATEGORIES:Featured,Games,Leucadia
ATTACH;FMTTYPE=image/jpeg:https://duckfootbeer.com/wp-content/uploads/2023/03/bingo-w-leucadia.jpg
END:VEVENT
BEGIN:VEVENT
DTSTART;TZID=America/Los_Angeles:20250610T190000
DTEND;TZID=America/Los_Angeles:20250610T213000
DTSTAMP:20260423T014002
CREATED:20230104T014635Z
LAST-MODIFIED:20260327T180753Z
UID:10004236-1749582000-1749591000@duckfootbeer.com
SUMMARY:San Diego Jazz Collective - Jam Session
DESCRIPTION:Come join us for free live music\, as we welcome the San Diego Jazz Collective for a night of unrehearsed musical collaboration. This event is a great intimate experience held in our tasting room\, where musicians will cycle in and out through the night.
URL:https://duckfootbeer.com/event/san-diego-jazz-collective-jam-session-december-2023-3-14/2025-06-10/
LOCATION:Duck Foot Miramar\, 8920 Kenamar Drive #210\, San Diego\, CA\, 92121\, United States
CATEGORIES:Featured,Miramar,Music
ATTACH;FMTTYPE=image/jpeg:https://duckfootbeer.com/wp-content/uploads/2023/01/jazznight2.jpg
END:VEVENT
BEGIN:VEVENT
DTSTART;TZID=America/Los_Angeles:20250607T110000
DTEND;TZID=America/Los_Angeles:20250607T180000
DTSTAMP:20260423T014002
CREATED:20250425T202146Z
LAST-MODIFIED:20250425T202832Z
UID:10004195-1749294000-1749319200@duckfootbeer.com
SUMMARY:10th Anniversary Party
DESCRIPTION:Come celebrate our 10th anniversary…. \nGet your tickets here\nOur Biggest Annual Event w/ 26 Taps\, Live DJ\, Food Trucks\, Unlimited Arcade Games\, Seating Inside & Out\, Shade and More! \nTWO SESSIONS:\nSession A: 11:00 am – 2:00pm\nSession B: 3:00 am – 6:00pm \nWhere\n8920 Kenamar Drive #210\, San Diego\, CA 92121
URL:https://duckfootbeer.com/event/10th-anniversary/
LOCATION:Duck Foot Miramar\, 8920 Kenamar Drive #210\, San Diego\, CA\, 92121\, United States
CATEGORIES:Featured,Miramar,Music,Release
ATTACH;FMTTYPE=image/jpeg:https://duckfootbeer.com/wp-content/uploads/2025/04/10th-Anniversary-block.jpg
END:VEVENT
BEGIN:VEVENT
DTSTART;TZID=America/Los_Angeles:20250605T190000
DTEND;TZID=America/Los_Angeles:20250605T210000
DTSTAMP:20260423T014002
CREATED:20230328T045112Z
LAST-MODIFIED:20260218T014549Z
UID:10004492-1749150000-1749157200@duckfootbeer.com
SUMMARY:Leucadia Trivia Night
DESCRIPTION:Come quack up with us at our weekly Trivia Nights! Our hosts are full of feather-brained questions\, waddle with us and see who can rule the roost as the ultimate trivia champ. \nRSVP & MORE DEETS ON EVENTBRITE
URL:https://duckfootbeer.com/event/trivia-leucadia/2025-06-05/
LOCATION:Duck Foot Leucadia\, 978 N Coast Hwy 101\, Encinitas\, CA\, 92024\, United States
CATEGORIES:Leucadia,Trivia Night
ATTACH;FMTTYPE=image/jpeg:https://duckfootbeer.com/wp-content/uploads/2022/03/2023LeucadiaTrivia.jpg
END:VEVENT
BEGIN:VEVENT
DTSTART;TZID=America/Los_Angeles:20250605T160000
DTEND;TZID=America/Los_Angeles:20250605T160000
DTSTAMP:20260423T014002
CREATED:20250523T235508Z
LAST-MODIFIED:20250524T001432Z
UID:10004767-1749139200-1749139200@duckfootbeer.com
SUMMARY:Gabby's Munchies
DESCRIPTION:Gabby’s Munchies\nGourmet Hotdogs and other delicious snacks. \n 
URL:https://duckfootbeer.com/event/gabbys/
LOCATION:Duck Foot Miramar\, 8920 Kenamar Drive #210\, San Diego\, CA\, 92121\, United States
CATEGORIES:Food Truck,Miramar
ATTACH;FMTTYPE=image/jpeg:https://duckfootbeer.com/wp-content/uploads/2025/05/Gabbys-MM-food-truck.jpg
END:VEVENT
BEGIN:VEVENT
DTSTART;TZID=UTC:20250605T120000
DTEND;TZID=UTC:20250605T210000
DTSTAMP:20260423T014002
CREATED:20220302T111111Z
LAST-MODIFIED:20260122T183410Z
UID:10006907-1749124800-1749157200@duckfootbeer.com
SUMMARY:Thirsty Thursdays
DESCRIPTION:Every Thursday = To-Go Fills Day.Save 20% on all crowler & growler fills\, open to close\, at Miramar and Leucadia.Stock up\, share (or don’t)\, repeat weekly.
URL:https://duckfootbeer.com/event/thirsty-thursdays/2025-06-05/
LOCATION:Duck Foot Miramar\, 8920 Kenamar Drive #210\, San Diego\, CA\, 92121\, United States
CATEGORIES:Deals,Featured,Leucadia,Miramar,Weekly
ATTACH;FMTTYPE=image/jpeg:https://duckfootbeer.com/wp-content/uploads/2022/03/IMG_2362.jpeg
END:VEVENT
BEGIN:VEVENT
DTSTART;TZID=UTC:20250604T190000
DTEND;TZID=UTC:20250604T210000
DTSTAMP:20260423T014002
CREATED:20250430T231756Z
LAST-MODIFIED:20260327T172524Z
UID:10002282-1749063600-1749070800@duckfootbeer.com
SUMMARY:Miramar Trivia Night
DESCRIPTION:Come quack up with us at our weekly Trivia Nights! Our hosts are full of feather-brained questions\, waddle with us and see who can rule the roost as the ultimate trivia champ!
URL:https://duckfootbeer.com/event/trivia-night-2/2025-06-04/
LOCATION:Duck Foot Miramar\, 8920 Kenamar Drive #210\, San Diego\, CA\, 92121\, United States
CATEGORIES:Featured,Games,Miramar,Poster,Weekly
ATTACH;FMTTYPE=image/jpeg:https://duckfootbeer.com/wp-content/uploads/2022/03/2023MiramarTrivia.jpg
END:VEVENT
BEGIN:VEVENT
DTSTART;TZID=America/Los_Angeles:20250604T190000
DTEND;TZID=America/Los_Angeles:20250604T210000
DTSTAMP:20260423T014002
CREATED:20240118T170426Z
LAST-MODIFIED:20260129T182136Z
UID:10004839-1749063600-1749070800@duckfootbeer.com
SUMMARY:Bingo Night
DESCRIPTION:Join us every Wednesday from 7-9 PM with host Adam Jara! Get ready to quack up at our Bingo Night hosted at Duck Foot Brewing Leucadia! With awesome prizes up for grabs\, this is no ordinary duck hunt – it’s a night of lucky ducky fun!
URL:https://duckfootbeer.com/event/bingo-leucadia-2/2025-06-04/
LOCATION:Duck Foot Leucadia\, 978 N Coast Hwy 101\, Encinitas\, CA\, 92024\, United States
CATEGORIES:Featured,Games,Leucadia
ATTACH;FMTTYPE=image/jpeg:https://duckfootbeer.com/wp-content/uploads/2023/03/bingo-w-leucadia.jpg
END:VEVENT
BEGIN:VEVENT
DTSTART;TZID=America/Los_Angeles:20250529T190000
DTEND;TZID=America/Los_Angeles:20250529T210000
DTSTAMP:20260423T014002
CREATED:20230328T045112Z
LAST-MODIFIED:20260218T014549Z
UID:10004080-1748545200-1748552400@duckfootbeer.com
SUMMARY:Leucadia Trivia Night
DESCRIPTION:Come quack up with us at our weekly Trivia Nights! Our hosts are full of feather-brained questions\, waddle with us and see who can rule the roost as the ultimate trivia champ. \nRSVP & MORE DEETS ON EVENTBRITE
URL:https://duckfootbeer.com/event/trivia-leucadia/2025-05-29/
LOCATION:Duck Foot Leucadia\, 978 N Coast Hwy 101\, Encinitas\, CA\, 92024\, United States
CATEGORIES:Leucadia,Trivia Night
ATTACH;FMTTYPE=image/jpeg:https://duckfootbeer.com/wp-content/uploads/2022/03/2023LeucadiaTrivia.jpg
END:VEVENT
BEGIN:VEVENT
DTSTART;TZID=UTC:20250529T120000
DTEND;TZID=UTC:20250529T210000
DTSTAMP:20260423T014002
CREATED:20220302T111111Z
LAST-MODIFIED:20260122T183410Z
UID:10006906-1748520000-1748552400@duckfootbeer.com
SUMMARY:Thirsty Thursdays
DESCRIPTION:Every Thursday = To-Go Fills Day.Save 20% on all crowler & growler fills\, open to close\, at Miramar and Leucadia.Stock up\, share (or don’t)\, repeat weekly.
URL:https://duckfootbeer.com/event/thirsty-thursdays/2025-05-29/
LOCATION:Duck Foot Miramar\, 8920 Kenamar Drive #210\, San Diego\, CA\, 92121\, United States
CATEGORIES:Deals,Featured,Leucadia,Miramar,Weekly
ATTACH;FMTTYPE=image/jpeg:https://duckfootbeer.com/wp-content/uploads/2022/03/IMG_2362.jpeg
END:VEVENT
BEGIN:VEVENT
DTSTART;TZID=UTC:20250528T190000
DTEND;TZID=UTC:20250528T210000
DTSTAMP:20260423T014002
CREATED:20250430T231756Z
LAST-MODIFIED:20260327T172524Z
UID:10002281-1748458800-1748466000@duckfootbeer.com
SUMMARY:Miramar Trivia Night
DESCRIPTION:Come quack up with us at our weekly Trivia Nights! Our hosts are full of feather-brained questions\, waddle with us and see who can rule the roost as the ultimate trivia champ!
URL:https://duckfootbeer.com/event/trivia-night-2/2025-05-28/
LOCATION:Duck Foot Miramar\, 8920 Kenamar Drive #210\, San Diego\, CA\, 92121\, United States
CATEGORIES:Featured,Games,Miramar,Poster,Weekly
ATTACH;FMTTYPE=image/jpeg:https://duckfootbeer.com/wp-content/uploads/2022/03/2023MiramarTrivia.jpg
END:VEVENT
BEGIN:VEVENT
DTSTART;TZID=America/Los_Angeles:20250528T190000
DTEND;TZID=America/Los_Angeles:20250528T210000
DTSTAMP:20260423T014002
CREATED:20240118T170426Z
LAST-MODIFIED:20260129T182136Z
UID:10004838-1748458800-1748466000@duckfootbeer.com
SUMMARY:Bingo Night
DESCRIPTION:Join us every Wednesday from 7-9 PM with host Adam Jara! Get ready to quack up at our Bingo Night hosted at Duck Foot Brewing Leucadia! With awesome prizes up for grabs\, this is no ordinary duck hunt – it’s a night of lucky ducky fun!
URL:https://duckfootbeer.com/event/bingo-leucadia-2/2025-05-28/
LOCATION:Duck Foot Leucadia\, 978 N Coast Hwy 101\, Encinitas\, CA\, 92024\, United States
CATEGORIES:Featured,Games,Leucadia
ATTACH;FMTTYPE=image/jpeg:https://duckfootbeer.com/wp-content/uploads/2023/03/bingo-w-leucadia.jpg
END:VEVENT
BEGIN:VEVENT
DTSTART;TZID=America/Los_Angeles:20250525T130000
DTEND;TZID=America/Los_Angeles:20250525T150000
DTSTAMP:20260423T014002
CREATED:20231228T235954Z
LAST-MODIFIED:20260408T220107Z
UID:10004116-1748178000-1748185200@duckfootbeer.com
SUMMARY:Sunday Bluegrass Jam
DESCRIPTION:Join us at Duck Foot Brewing Company for a lively afternoon of bluegrass music with talented musicians from the San Diego Bluegrass Society\, Sunday 1-3PM! Sip on our delicious selection of craft beers while tapping your toes to the upbeat tunes and enjoying the company of fellow music and beer lovers.
URL:https://duckfootbeer.com/event/sunday-bluegrass-2/2025-05-25/
LOCATION:Duck Foot Miramar\, 8920 Kenamar Drive #210\, San Diego\, CA\, 92121\, United States
CATEGORIES:Featured,Miramar,Music
ATTACH;FMTTYPE=image/jpeg:https://duckfootbeer.com/wp-content/uploads/2023/02/bluegrasssunday2b.jpg
END:VEVENT
BEGIN:VEVENT
DTSTART;TZID=America/Los_Angeles:20250524T160000
DTEND;TZID=America/Los_Angeles:20250524T190000
DTSTAMP:20260423T014002
CREATED:20240301T012426Z
LAST-MODIFIED:20250415T165909Z
UID:10001806-1748102400-1748113200@duckfootbeer.com
SUMMARY:Just Landed
DESCRIPTION:LIVE MUSIC!  \nJust Landed\nCatch Just Landed\, the solo acoustic project of local musician Landon\, as he plays a mix of beach pop\, reggae\, adult contemporary\, and classic oldies. His stripped-down style and laid-back setlist make for an easygoing night of live music. \n \nMoonage food truck also on site\, enjoy  1-8PM \n 
URL:https://duckfootbeer.com/event/just-landed/
LOCATION:Duck Foot Leucadia\, 978 N Coast Hwy 101\, Encinitas\, CA\, 92024\, United States
CATEGORIES:Featured,Leucadia,Music
ATTACH;FMTTYPE=image/jpeg:https://duckfootbeer.com/wp-content/uploads/2024/02/Just-Landed.jpg
END:VEVENT
BEGIN:VEVENT
DTSTART;TZID=America/Los_Angeles:20250523T160000
DTEND;TZID=America/Los_Angeles:20250523T210000
DTSTAMP:20260423T014002
CREATED:20231020T005005Z
LAST-MODIFIED:20250428T221943Z
UID:10004170-1748016000-1748034000@duckfootbeer.com
SUMMARY:East Coast Connection
DESCRIPTION:Bringing East Coast flavor to sunny San Diego
URL:https://duckfootbeer.com/event/ecc/2025-05-23/
LOCATION:Duck Foot Miramar\, 8920 Kenamar Drive #210\, San Diego\, CA\, 92121\, United States
CATEGORIES:Food Truck,Miramar
ATTACH;FMTTYPE=image/jpeg:https://duckfootbeer.com/wp-content/uploads/2023/10/food-truck-MM-ECC.jpg
END:VEVENT
BEGIN:VEVENT
DTSTART;TZID=America/Los_Angeles:20250522T190000
DTEND;TZID=America/Los_Angeles:20250522T210000
DTSTAMP:20260423T014002
CREATED:20230328T045112Z
LAST-MODIFIED:20260218T014549Z
UID:10004079-1747940400-1747947600@duckfootbeer.com
SUMMARY:Leucadia Trivia Night
DESCRIPTION:Come quack up with us at our weekly Trivia Nights! Our hosts are full of feather-brained questions\, waddle with us and see who can rule the roost as the ultimate trivia champ. \nRSVP & MORE DEETS ON EVENTBRITE
URL:https://duckfootbeer.com/event/trivia-leucadia/2025-05-22/
LOCATION:Duck Foot Leucadia\, 978 N Coast Hwy 101\, Encinitas\, CA\, 92024\, United States
CATEGORIES:Leucadia,Trivia Night
ATTACH;FMTTYPE=image/jpeg:https://duckfootbeer.com/wp-content/uploads/2022/03/2023LeucadiaTrivia.jpg
END:VEVENT
BEGIN:VEVENT
DTSTART;TZID=UTC:20250522T120000
DTEND;TZID=UTC:20250522T210000
DTSTAMP:20260423T014002
CREATED:20220302T111111Z
LAST-MODIFIED:20260122T183410Z
UID:10006905-1747915200-1747947600@duckfootbeer.com
SUMMARY:Thirsty Thursdays
DESCRIPTION:Every Thursday = To-Go Fills Day.Save 20% on all crowler & growler fills\, open to close\, at Miramar and Leucadia.Stock up\, share (or don’t)\, repeat weekly.
URL:https://duckfootbeer.com/event/thirsty-thursdays/2025-05-22/
LOCATION:Duck Foot Miramar\, 8920 Kenamar Drive #210\, San Diego\, CA\, 92121\, United States
CATEGORIES:Deals,Featured,Leucadia,Miramar,Weekly
ATTACH;FMTTYPE=image/jpeg:https://duckfootbeer.com/wp-content/uploads/2022/03/IMG_2362.jpeg
END:VEVENT
BEGIN:VEVENT
DTSTART;TZID=UTC:20250521T190000
DTEND;TZID=UTC:20250521T210000
DTSTAMP:20260423T014002
CREATED:20250430T231756Z
LAST-MODIFIED:20260327T172524Z
UID:10002280-1747854000-1747861200@duckfootbeer.com
SUMMARY:Miramar Trivia Night
DESCRIPTION:Come quack up with us at our weekly Trivia Nights! Our hosts are full of feather-brained questions\, waddle with us and see who can rule the roost as the ultimate trivia champ!
URL:https://duckfootbeer.com/event/trivia-night-2/2025-05-21/
LOCATION:Duck Foot Miramar\, 8920 Kenamar Drive #210\, San Diego\, CA\, 92121\, United States
CATEGORIES:Featured,Games,Miramar,Poster,Weekly
ATTACH;FMTTYPE=image/jpeg:https://duckfootbeer.com/wp-content/uploads/2022/03/2023MiramarTrivia.jpg
END:VEVENT
BEGIN:VEVENT
DTSTART;TZID=America/Los_Angeles:20250521T190000
DTEND;TZID=America/Los_Angeles:20250521T210000
DTSTAMP:20260423T014002
CREATED:20240118T170426Z
LAST-MODIFIED:20260129T182136Z
UID:10004837-1747854000-1747861200@duckfootbeer.com
SUMMARY:Bingo Night
DESCRIPTION:Join us every Wednesday from 7-9 PM with host Adam Jara! Get ready to quack up at our Bingo Night hosted at Duck Foot Brewing Leucadia! With awesome prizes up for grabs\, this is no ordinary duck hunt – it’s a night of lucky ducky fun!
URL:https://duckfootbeer.com/event/bingo-leucadia-2/2025-05-21/
LOCATION:Duck Foot Leucadia\, 978 N Coast Hwy 101\, Encinitas\, CA\, 92024\, United States
CATEGORIES:Featured,Games,Leucadia
ATTACH;FMTTYPE=image/jpeg:https://duckfootbeer.com/wp-content/uploads/2023/03/bingo-w-leucadia.jpg
END:VEVENT
BEGIN:VEVENT
DTSTART;TZID=America/Los_Angeles:20250521T160000
DTEND;TZID=America/Los_Angeles:20250521T210000
DTSTAMP:20260423T014002
CREATED:20231020T005005Z
LAST-MODIFIED:20250428T221943Z
UID:10004087-1747843200-1747861200@duckfootbeer.com
SUMMARY:East Coast Connection
DESCRIPTION:Bringing East Coast flavor to sunny San Diego
URL:https://duckfootbeer.com/event/ecc/2025-05-21/
LOCATION:Duck Foot Miramar\, 8920 Kenamar Drive #210\, San Diego\, CA\, 92121\, United States
CATEGORIES:Food Truck,Miramar
ATTACH;FMTTYPE=image/jpeg:https://duckfootbeer.com/wp-content/uploads/2023/10/food-truck-MM-ECC.jpg
END:VEVENT
BEGIN:VEVENT
DTSTART;TZID=America/Los_Angeles:20250515T190000
DTEND;TZID=America/Los_Angeles:20250515T210000
DTSTAMP:20260423T014002
CREATED:20230328T045112Z
LAST-MODIFIED:20260218T014549Z
UID:10004078-1747335600-1747342800@duckfootbeer.com
SUMMARY:Leucadia Trivia Night
DESCRIPTION:Come quack up with us at our weekly Trivia Nights! Our hosts are full of feather-brained questions\, waddle with us and see who can rule the roost as the ultimate trivia champ. \nRSVP & MORE DEETS ON EVENTBRITE
URL:https://duckfootbeer.com/event/trivia-leucadia/2025-05-15/
LOCATION:Duck Foot Leucadia\, 978 N Coast Hwy 101\, Encinitas\, CA\, 92024\, United States
CATEGORIES:Leucadia,Trivia Night
ATTACH;FMTTYPE=image/jpeg:https://duckfootbeer.com/wp-content/uploads/2022/03/2023LeucadiaTrivia.jpg
END:VEVENT
BEGIN:VEVENT
DTSTART;TZID=UTC:20250515T120000
DTEND;TZID=UTC:20250515T210000
DTSTAMP:20260423T014002
CREATED:20220302T111111Z
LAST-MODIFIED:20260122T183410Z
UID:10006904-1747310400-1747342800@duckfootbeer.com
SUMMARY:Thirsty Thursdays
DESCRIPTION:Every Thursday = To-Go Fills Day.Save 20% on all crowler & growler fills\, open to close\, at Miramar and Leucadia.Stock up\, share (or don’t)\, repeat weekly.
URL:https://duckfootbeer.com/event/thirsty-thursdays/2025-05-15/
LOCATION:Duck Foot Miramar\, 8920 Kenamar Drive #210\, San Diego\, CA\, 92121\, United States
CATEGORIES:Deals,Featured,Leucadia,Miramar,Weekly
ATTACH;FMTTYPE=image/jpeg:https://duckfootbeer.com/wp-content/uploads/2022/03/IMG_2362.jpeg
END:VEVENT
BEGIN:VEVENT
DTSTART;TZID=UTC:20250514T190000
DTEND;TZID=UTC:20250514T210000
DTSTAMP:20260423T014002
CREATED:20250430T231756Z
LAST-MODIFIED:20260327T172524Z
UID:10002279-1747249200-1747256400@duckfootbeer.com
SUMMARY:Miramar Trivia Night
DESCRIPTION:Come quack up with us at our weekly Trivia Nights! Our hosts are full of feather-brained questions\, waddle with us and see who can rule the roost as the ultimate trivia champ!
URL:https://duckfootbeer.com/event/trivia-night-2/2025-05-14/
LOCATION:Duck Foot Miramar\, 8920 Kenamar Drive #210\, San Diego\, CA\, 92121\, United States
CATEGORIES:Featured,Games,Miramar,Poster,Weekly
ATTACH;FMTTYPE=image/jpeg:https://duckfootbeer.com/wp-content/uploads/2022/03/2023MiramarTrivia.jpg
END:VEVENT
BEGIN:VEVENT
DTSTART;TZID=America/Los_Angeles:20250514T190000
DTEND;TZID=America/Los_Angeles:20250514T210000
DTSTAMP:20260423T014002
CREATED:20240118T170426Z
LAST-MODIFIED:20260129T182136Z
UID:10004836-1747249200-1747256400@duckfootbeer.com
SUMMARY:Bingo Night
DESCRIPTION:Join us every Wednesday from 7-9 PM with host Adam Jara! Get ready to quack up at our Bingo Night hosted at Duck Foot Brewing Leucadia! With awesome prizes up for grabs\, this is no ordinary duck hunt – it’s a night of lucky ducky fun!
URL:https://duckfootbeer.com/event/bingo-leucadia-2/2025-05-14/
LOCATION:Duck Foot Leucadia\, 978 N Coast Hwy 101\, Encinitas\, CA\, 92024\, United States
CATEGORIES:Featured,Games,Leucadia
ATTACH;FMTTYPE=image/jpeg:https://duckfootbeer.com/wp-content/uploads/2023/03/bingo-w-leucadia.jpg
END:VEVENT
END:VCALENDAR