BEGIN:VCALENDAR
VERSION:2.0
PRODID:-//Duck Foot Brewing Co - ECPv6.15.12.1//NONSGML v1.0//EN
CALSCALE:GREGORIAN
METHOD:PUBLISH
X-ORIGINAL-URL:https://duckfootbeer.com
X-WR-CALDESC:Events for Duck Foot Brewing Co
REFRESH-INTERVAL;VALUE=DURATION:PT1H
X-Robots-Tag:noindex
X-PUBLISHED-TTL:PT1H
BEGIN:VTIMEZONE
TZID:America/Los_Angeles
BEGIN:DAYLIGHT
TZOFFSETFROM:-0800
TZOFFSETTO:-0700
TZNAME:PDT
DTSTART:20250309T100000
END:DAYLIGHT
BEGIN:STANDARD
TZOFFSETFROM:-0700
TZOFFSETTO:-0800
TZNAME:PST
DTSTART:20251102T090000
END:STANDARD
BEGIN:DAYLIGHT
TZOFFSETFROM:-0800
TZOFFSETTO:-0700
TZNAME:PDT
DTSTART:20260308T100000
END:DAYLIGHT
BEGIN:STANDARD
TZOFFSETFROM:-0700
TZOFFSETTO:-0800
TZNAME:PST
DTSTART:20261101T090000
END:STANDARD
BEGIN:DAYLIGHT
TZOFFSETFROM:-0800
TZOFFSETTO:-0700
TZNAME:PDT
DTSTART:20270314T100000
END:DAYLIGHT
BEGIN:STANDARD
TZOFFSETFROM:-0700
TZOFFSETTO:-0800
TZNAME:PST
DTSTART:20271107T090000
END:STANDARD
END:VTIMEZONE
BEGIN:VTIMEZONE
TZID:UTC
BEGIN:STANDARD
TZOFFSETFROM:+0000
TZOFFSETTO:+0000
TZNAME:UTC
DTSTART:20250101T000000
END:STANDARD
END:VTIMEZONE
BEGIN:VEVENT
DTSTART;TZID=America/Los_Angeles:20260411T120000
DTEND;TZID=America/Los_Angeles:20260411T200000
DTSTAMP:20260420T091222
CREATED:20231025T200816Z
LAST-MODIFIED:20260403T164509Z
UID:10007274-1775908800-1775937600@duckfootbeer.com
SUMMARY:Antoyitos Borincanos
DESCRIPTION:Antoyitos Borincanos Puerto Rican Cuisine \n \n \nClick images to expand menus
URL:https://duckfootbeer.com/event/antoyitos/2026-04-11/
LOCATION:Duck Foot Miramar\, 8920 Kenamar Drive #210\, San Diego\, CA\, 92121\, United States
CATEGORIES:Food Truck,Miramar
ATTACH;FMTTYPE=image/jpeg:https://duckfootbeer.com/wp-content/uploads/2023/10/food-truck-MM-Antoyitos-Borincanos.jpg
END:VEVENT
BEGIN:VEVENT
DTSTART;TZID=America/Los_Angeles:20260410T183000
DTEND;TZID=America/Los_Angeles:20260410T210000
DTSTAMP:20260420T091222
CREATED:20250815T174635Z
LAST-MODIFIED:20260403T170258Z
UID:10007357-1775845800-1775854800@duckfootbeer.com
SUMMARY:Padres Happy Hours
DESCRIPTION:Padres baseball\, cold beer\, and good company—what more do you need?\nWe’re showing the game at the brewery\, and our staff will be right there cheering along. Come grab a pint and root for the Padres with us! \nBeer Special:\n$5 pints and $25 pitchers of all core beers to anyone in Padre gear\, DURING PADRES GAME HOURS ONLY!
URL:https://duckfootbeer.com/event/padres-bogo/2026-04-10/
LOCATION:CA
CATEGORIES:Featured,Leucadia,Miramar
ATTACH;FMTTYPE=image/jpeg:https://duckfootbeer.com/wp-content/uploads/2025/08/padres-happyhour-BoGo.jpg
END:VEVENT
BEGIN:VEVENT
DTSTART;TZID=America/Los_Angeles:20260410T183000
DTEND;TZID=America/Los_Angeles:20260410T203000
DTSTAMP:20260420T091222
CREATED:20250826T213318Z
LAST-MODIFIED:20260313T231143Z
UID:10005290-1775845800-1775853000@duckfootbeer.com
SUMMARY:Jay Caine
DESCRIPTION:Get ready for a night of live music with Jay Caine a local favorite bringing a mix of popular rock hits from across the decades.\nFrom classics you know by heart to modern favorites\, Jay’s setlist is all about sing-along vibes and feel-good energy. Pair that with fresh beer on tap\, and you’ve got the perfect night out.\nCome grab a pint\, kick back\, and enjoy the music!
URL:https://duckfootbeer.com/event/jay-caine/
LOCATION:Duck Foot Leucadia\, 978 N Coast Hwy 101\, Encinitas\, CA\, 92024\, United States
CATEGORIES:Featured,Leucadia,Music
ATTACH;FMTTYPE=image/jpeg:https://duckfootbeer.com/wp-content/uploads/2025/08/Jay-Caine.jpg
END:VEVENT
BEGIN:VEVENT
DTSTART;TZID=America/Los_Angeles:20260410T160000
DTEND;TZID=America/Los_Angeles:20260410T210000
DTSTAMP:20260420T091222
CREATED:20260123T220906Z
LAST-MODIFIED:20260417T193235Z
UID:10007279-1775836800-1775854800@duckfootbeer.com
SUMMARY:Sourdough Shoppe
DESCRIPTION:Sourdough Shoppe Boulangeire & Pizza \nServing fresh artisan pizza\, made to order.
URL:https://duckfootbeer.com/event/sourdough-shoppe/2026-04-10/
LOCATION:Duck Foot Miramar\, 8920 Kenamar Drive #210\, San Diego\, CA\, 92121\, United States
CATEGORIES:Food Truck,Miramar
ATTACH;FMTTYPE=image/jpeg:https://duckfootbeer.com/wp-content/uploads/2026/01/food-truck-Sourdough_Shoppe.jpg
END:VEVENT
BEGIN:VEVENT
DTSTART;TZID=America/Los_Angeles:20260410T160000
DTEND;TZID=America/Los_Angeles:20260410T210000
DTSTAMP:20260420T091222
CREATED:20240123T011332Z
LAST-MODIFIED:20260403T163738Z
UID:10007282-1775836800-1775854800@duckfootbeer.com
SUMMARY:Josue Cooks
DESCRIPTION:Josue Cooks serving up Tacos\, Pambazos & Huaraches fresh to order.
URL:https://duckfootbeer.com/event/josu/2026-04-10/
LOCATION:Duck Foot Miramar\, 8920 Kenamar Drive #210\, San Diego\, CA\, 92121\, United States
CATEGORIES:Food Truck,Miramar
ATTACH;FMTTYPE=image/jpeg:https://duckfootbeer.com/wp-content/uploads/2024/01/food-truck-MM-Josue-Cooks.jpg
END:VEVENT
BEGIN:VEVENT
DTSTART;TZID=America/Los_Angeles:20260409T190000
DTEND;TZID=America/Los_Angeles:20260409T210000
DTSTAMP:20260420T091222
CREATED:20230328T045112Z
LAST-MODIFIED:20260218T014549Z
UID:10004536-1775761200-1775768400@duckfootbeer.com
SUMMARY:Leucadia Trivia Night
DESCRIPTION:Come quack up with us at our weekly Trivia Nights! Our hosts are full of feather-brained questions\, waddle with us and see who can rule the roost as the ultimate trivia champ. \nRSVP & MORE DEETS ON EVENTBRITE
URL:https://duckfootbeer.com/event/trivia-leucadia/2026-04-09/
LOCATION:Duck Foot Leucadia\, 978 N Coast Hwy 101\, Encinitas\, CA\, 92024\, United States
CATEGORIES:Leucadia,Trivia Night
ATTACH;FMTTYPE=image/jpeg:https://duckfootbeer.com/wp-content/uploads/2022/03/2023LeucadiaTrivia.jpg
END:VEVENT
BEGIN:VEVENT
DTSTART;TZID=America/Los_Angeles:20260409T183000
DTEND;TZID=America/Los_Angeles:20260409T210000
DTSTAMP:20260420T091222
CREATED:20250815T174635Z
LAST-MODIFIED:20260403T170258Z
UID:10007356-1775759400-1775768400@duckfootbeer.com
SUMMARY:Padres Happy Hours
DESCRIPTION:Padres baseball\, cold beer\, and good company—what more do you need?\nWe’re showing the game at the brewery\, and our staff will be right there cheering along. Come grab a pint and root for the Padres with us! \nBeer Special:\n$5 pints and $25 pitchers of all core beers to anyone in Padre gear\, DURING PADRES GAME HOURS ONLY!
URL:https://duckfootbeer.com/event/padres-bogo/2026-04-09/
LOCATION:CA
CATEGORIES:Featured,Leucadia,Miramar
ATTACH;FMTTYPE=image/jpeg:https://duckfootbeer.com/wp-content/uploads/2025/08/padres-happyhour-BoGo.jpg
END:VEVENT
BEGIN:VEVENT
DTSTART;TZID=UTC:20260409T120000
DTEND;TZID=UTC:20260409T210000
DTSTAMP:20260420T091222
CREATED:20220302T111111Z
LAST-MODIFIED:20260122T183410Z
UID:10006951-1775736000-1775768400@duckfootbeer.com
SUMMARY:Thirsty Thursdays
DESCRIPTION:Every Thursday = To-Go Fills Day.Save 20% on all crowler & growler fills\, open to close\, at Miramar and Leucadia.Stock up\, share (or don’t)\, repeat weekly.
URL:https://duckfootbeer.com/event/thirsty-thursdays/2026-04-09/
LOCATION:Duck Foot Miramar\, 8920 Kenamar Drive #210\, San Diego\, CA\, 92121\, United States
CATEGORIES:Deals,Featured,Leucadia,Miramar,Weekly
ATTACH;FMTTYPE=image/jpeg:https://duckfootbeer.com/wp-content/uploads/2022/03/IMG_2362.jpeg
END:VEVENT
BEGIN:VEVENT
DTSTART;TZID=UTC:20260408T190000
DTEND;TZID=UTC:20260408T210000
DTSTAMP:20260420T091222
CREATED:20250430T231756Z
LAST-MODIFIED:20260327T172524Z
UID:10002326-1775674800-1775682000@duckfootbeer.com
SUMMARY:Miramar Trivia Night
DESCRIPTION:Come quack up with us at our weekly Trivia Nights! Our hosts are full of feather-brained questions\, waddle with us and see who can rule the roost as the ultimate trivia champ!
URL:https://duckfootbeer.com/event/trivia-night-2/2026-04-08/
LOCATION:Duck Foot Miramar\, 8920 Kenamar Drive #210\, San Diego\, CA\, 92121\, United States
CATEGORIES:Featured,Games,Miramar,Poster,Weekly
ATTACH;FMTTYPE=image/jpeg:https://duckfootbeer.com/wp-content/uploads/2022/03/2023MiramarTrivia.jpg
END:VEVENT
BEGIN:VEVENT
DTSTART;TZID=America/Los_Angeles:20260408T190000
DTEND;TZID=America/Los_Angeles:20260408T210000
DTSTAMP:20260420T091222
CREATED:20240118T170426Z
LAST-MODIFIED:20260129T182136Z
UID:10004883-1775674800-1775682000@duckfootbeer.com
SUMMARY:Bingo Night
DESCRIPTION:Join us every Wednesday from 7-9 PM with host Adam Jara! Get ready to quack up at our Bingo Night hosted at Duck Foot Brewing Leucadia! With awesome prizes up for grabs\, this is no ordinary duck hunt – it’s a night of lucky ducky fun!
URL:https://duckfootbeer.com/event/bingo-leucadia-2/2026-04-08/
LOCATION:Duck Foot Leucadia\, 978 N Coast Hwy 101\, Encinitas\, CA\, 92024\, United States
CATEGORIES:Featured,Games,Leucadia
ATTACH;FMTTYPE=image/jpeg:https://duckfootbeer.com/wp-content/uploads/2023/03/bingo-w-leucadia.jpg
END:VEVENT
BEGIN:VEVENT
DTSTART;TZID=America/Los_Angeles:20260408T160000
DTEND;TZID=America/Los_Angeles:20260408T210000
DTSTAMP:20260420T091222
CREATED:20241016T014017Z
LAST-MODIFIED:20260408T214504Z
UID:10007224-1775664000-1775682000@duckfootbeer.com
SUMMARY:Beach Bum Burgers
DESCRIPTION:Beach Bum Burgers\nSpecialty Brgers and more! \n \n 
URL:https://duckfootbeer.com/event/beach-bum/2026-04-08/
LOCATION:Duck Foot Miramar\, 8920 Kenamar Drive #210\, San Diego\, CA\, 92121\, United States
CATEGORIES:Food Truck,Miramar
ATTACH;FMTTYPE=image/jpeg:https://duckfootbeer.com/wp-content/uploads/2024/10/Beach-Bum-MM-food-truck.jpg
END:VEVENT
BEGIN:VEVENT
DTSTART;TZID=America/Los_Angeles:20260407T190000
DTEND;TZID=America/Los_Angeles:20260407T210000
DTSTAMP:20260420T091222
CREATED:20240506T212410Z
LAST-MODIFIED:20260331T222930Z
UID:10003146-1775588400-1775595600@duckfootbeer.com
SUMMARY:Astronomy on Tap
DESCRIPTION:This month’s event features talks from American Astronomical Society \nThis months scientis are Fergus Donnan (UCSD) and Julie Inglis (UCSD) on supermassive black holes and exoplanetary atmospheres.
URL:https://duckfootbeer.com/event/astronomy-on-tap/
LOCATION:Duck Foot Miramar\, 8920 Kenamar Drive #210\, San Diego\, CA\, 92121\, United States
CATEGORIES:Featured,Miramar
ATTACH;FMTTYPE=image/jpeg:https://duckfootbeer.com/wp-content/uploads/2024/05/Astro-PH.jpg
END:VEVENT
BEGIN:VEVENT
DTSTART;TZID=America/Los_Angeles:20260407T160000
DTEND;TZID=America/Los_Angeles:20260407T200000
DTSTAMP:20260420T091222
CREATED:20231025T200816Z
LAST-MODIFIED:20260403T164509Z
UID:10007273-1775577600-1775592000@duckfootbeer.com
SUMMARY:Antoyitos Borincanos
DESCRIPTION:Antoyitos Borincanos Puerto Rican Cuisine \n \n \nClick images to expand menus
URL:https://duckfootbeer.com/event/antoyitos/2026-04-07/
LOCATION:Duck Foot Miramar\, 8920 Kenamar Drive #210\, San Diego\, CA\, 92121\, United States
CATEGORIES:Food Truck,Miramar
ATTACH;FMTTYPE=image/jpeg:https://duckfootbeer.com/wp-content/uploads/2023/10/food-truck-MM-Antoyitos-Borincanos.jpg
END:VEVENT
BEGIN:VEVENT
DTSTART;TZID=America/Los_Angeles:20260407T153000
DTEND;TZID=America/Los_Angeles:20260407T180000
DTSTAMP:20260420T091222
CREATED:20250815T174635Z
LAST-MODIFIED:20260403T170258Z
UID:10007355-1775575800-1775584800@duckfootbeer.com
SUMMARY:Padres Happy Hours
DESCRIPTION:Padres baseball\, cold beer\, and good company—what more do you need?\nWe’re showing the game at the brewery\, and our staff will be right there cheering along. Come grab a pint and root for the Padres with us! \nBeer Special:\n$5 pints and $25 pitchers of all core beers to anyone in Padre gear\, DURING PADRES GAME HOURS ONLY!
URL:https://duckfootbeer.com/event/padres-bogo/2026-04-07/
LOCATION:CA
CATEGORIES:Featured,Leucadia,Miramar
ATTACH;FMTTYPE=image/jpeg:https://duckfootbeer.com/wp-content/uploads/2025/08/padres-happyhour-BoGo.jpg
END:VEVENT
BEGIN:VEVENT
DTSTART;TZID=America/Los_Angeles:20260406T153000
DTEND;TZID=America/Los_Angeles:20260406T180000
DTSTAMP:20260420T091222
CREATED:20250815T174635Z
LAST-MODIFIED:20260403T170258Z
UID:10007354-1775489400-1775498400@duckfootbeer.com
SUMMARY:Padres Happy Hours
DESCRIPTION:Padres baseball\, cold beer\, and good company—what more do you need?\nWe’re showing the game at the brewery\, and our staff will be right there cheering along. Come grab a pint and root for the Padres with us! \nBeer Special:\n$5 pints and $25 pitchers of all core beers to anyone in Padre gear\, DURING PADRES GAME HOURS ONLY!
URL:https://duckfootbeer.com/event/padres-bogo/2026-04-06/
LOCATION:CA
CATEGORIES:Featured,Leucadia,Miramar
ATTACH;FMTTYPE=image/jpeg:https://duckfootbeer.com/wp-content/uploads/2025/08/padres-happyhour-BoGo.jpg
END:VEVENT
BEGIN:VEVENT
DTSTART;VALUE=DATE:20260406
DTEND;VALUE=DATE:20260407
DTSTAMP:20260420T091222
CREATED:20251105T024541Z
LAST-MODIFIED:20260122T190743Z
UID:10005774-1775433600-1775519999@duckfootbeer.com
SUMMARY:$5 Mondays
DESCRIPTION:Just like the poster says\, we are serving up $5 Pints of our core beers all day\, every Monday at both locations.
URL:https://duckfootbeer.com/event/32112/2026-04-06/
LOCATION:CA
CATEGORIES:Deals,Featured,Leucadia,Miramar,Weekly
ATTACH;FMTTYPE=image/jpeg:https://duckfootbeer.com/wp-content/uploads/2025/11/monday-happy-hour-core.jpg
END:VEVENT
BEGIN:VEVENT
DTSTART;TZID=America/Los_Angeles:20260405T130000
DTEND;TZID=America/Los_Angeles:20260405T150000
DTSTAMP:20260420T091222
CREATED:20251218T003529Z
LAST-MODIFIED:20260220T205403Z
UID:10006241-1775394000-1775401200@duckfootbeer.com
SUMMARY:Authentic Handmade Dumplings Class
DESCRIPTION:Discover the flavor-packed world of dumplings! These juicy and plump morsels filled with hearty ingredients such as ground meat\, vegetables and classic seasoning such as soy sauce and sesame oil wrapped in fun shapes and folds will bring such joy as soon as you take a big bite. This class is hands-on\, yet casual and easy going\, making it a perfect occasion for a romantic date night or a fun outing with your family and friends! \nMaster the basics of dumpling wrapping in various different shapes. You will get a chance to work with high-quality store-bought dumpling wrappers and also learn valuable knife skills and learn how to create your own fillings from scratch. You will learn to make a traditional pork-based mixture as well as a vegetable filling. \nNo experience is required! We provide all the equipment and ingredients\, which are easy to find at local markets if you do not already have them in your home kitchen. Our events are casual and meant to be fun and instructive\, not hardcore. This class is designed to be just as fun for the cooking enthusiast who wants to be a part of every step as it is for the first-timer who is happier observing and assisting (or taste testing). \nPlease arrive 15 minutes early to check in. BYOB is restricted. Our venue partner\, Duckfoot Brewing will have a great selection of crafted pour available for purchase. 21+ only.
URL:https://duckfootbeer.com/event/authentic-handmade-dumplings-class-2/
LOCATION:CA
CATEGORIES:Featured,Miramar,Workshop
ATTACH;FMTTYPE=image/jpeg:https://duckfootbeer.com/wp-content/uploads/2025/08/Cooking-Class-Dumplings.jpg
END:VEVENT
BEGIN:VEVENT
DTSTART;TZID=America/Los_Angeles:20260405T120000
DTEND;TZID=America/Los_Angeles:20260405T130000
DTSTAMP:20260420T091222
CREATED:20250815T174635Z
LAST-MODIFIED:20260403T170258Z
UID:10007353-1775390400-1775394000@duckfootbeer.com
SUMMARY:Padres Happy Hours
DESCRIPTION:Padres baseball\, cold beer\, and good company—what more do you need?\nWe’re showing the game at the brewery\, and our staff will be right there cheering along. Come grab a pint and root for the Padres with us! \nBeer Special:\n$5 pints and $25 pitchers of all core beers to anyone in Padre gear\, DURING PADRES GAME HOURS ONLY!
URL:https://duckfootbeer.com/event/padres-bogo/2026-04-05/
LOCATION:CA
CATEGORIES:Featured,Leucadia,Miramar
ATTACH;FMTTYPE=image/jpeg:https://duckfootbeer.com/wp-content/uploads/2025/08/padres-happyhour-BoGo.jpg
END:VEVENT
BEGIN:VEVENT
DTSTART;TZID=America/Los_Angeles:20260404T170000
DTEND;TZID=America/Los_Angeles:20260404T190000
DTSTAMP:20260420T091222
CREATED:20231207T212152Z
LAST-MODIFIED:20260220T205213Z
UID:10001457-1775322000-1775329200@duckfootbeer.com
SUMMARY:Make Your Own Ramen
DESCRIPTION:Escape to the streets of Tokyo as we create this infamous winter warmer\, Japanese Ramen Noodle Soup! This class is perfect for anyone who enjoys Asian flavors and wants to learn more about how to recreate these flavors and techniques at home! \nIn this entertaining\, hands-on class\, you will be guided step-by-step in recreating a widely loved dish\, renowned for its rich broth\, abundance of noodles and endless toppings! Use foundational knife skills to prep your fresh ingredients\, and learn how to create our Chef’s version of a classic shoyu broth with bonito flakes\, pork and chicken bones. You will artfully pull all components of your dish together and have fun customizing your bowl to your liking\, with a variety of traditional garnishes and toppings including slices of Chef’s mouth-watering pork shoyu (traditionally slowly braised and marinated pork) . You will use and learn how to choose quality pre-made Ramen noodles making this dish easy to recreate at home! \nNo experience is required! We provide all the equipment and ingredients\, which are easy to find at local markets if you do not already have them in your home kitchen. Our events are casual and meant to be fun and instructive\, not hardcore. This class is designed to be just as fun for the cooking enthusiast who wants to be a part of every step as it is for the first-timer who is happier observing and assisting (or taste testing). \nPlease arrive 15 minutes early to check in. BYOB is restricted. Our venue partner\, Duckfoot Brewing will have a great selection of crafted pour available for purchase. 21+ only. \n 
URL:https://duckfootbeer.com/event/ramen-1-24/
LOCATION:Duck Foot Miramar\, 8920 Kenamar Drive #210\, San Diego\, CA\, 92121\, United States
CATEGORIES:Featured,Games,Miramar
ATTACH;FMTTYPE=image/jpeg:https://duckfootbeer.com/wp-content/uploads/2023/12/Cooking-Class-Ramen.jpg
END:VEVENT
BEGIN:VEVENT
DTSTART;TZID=America/Los_Angeles:20260404T130000
DTEND;TZID=America/Los_Angeles:20260404T160000
DTSTAMP:20260420T091222
CREATED:20250815T174635Z
LAST-MODIFIED:20260403T170258Z
UID:10007352-1775307600-1775318400@duckfootbeer.com
SUMMARY:Padres Happy Hours
DESCRIPTION:Padres baseball\, cold beer\, and good company—what more do you need?\nWe’re showing the game at the brewery\, and our staff will be right there cheering along. Come grab a pint and root for the Padres with us! \nBeer Special:\n$5 pints and $25 pitchers of all core beers to anyone in Padre gear\, DURING PADRES GAME HOURS ONLY!
URL:https://duckfootbeer.com/event/padres-bogo/2026-04-04/
LOCATION:CA
CATEGORIES:Featured,Leucadia,Miramar
ATTACH;FMTTYPE=image/jpeg:https://duckfootbeer.com/wp-content/uploads/2025/08/padres-happyhour-BoGo.jpg
END:VEVENT
BEGIN:VEVENT
DTSTART;TZID=America/Los_Angeles:20260404T120000
DTEND;TZID=America/Los_Angeles:20260404T200000
DTSTAMP:20260420T091222
CREATED:20231025T200816Z
LAST-MODIFIED:20260403T164509Z
UID:10007272-1775304000-1775332800@duckfootbeer.com
SUMMARY:Antoyitos Borincanos
DESCRIPTION:Antoyitos Borincanos Puerto Rican Cuisine \n \n \nClick images to expand menus
URL:https://duckfootbeer.com/event/antoyitos/2026-04-04/
LOCATION:Duck Foot Miramar\, 8920 Kenamar Drive #210\, San Diego\, CA\, 92121\, United States
CATEGORIES:Food Truck,Miramar
ATTACH;FMTTYPE=image/jpeg:https://duckfootbeer.com/wp-content/uploads/2023/10/food-truck-MM-Antoyitos-Borincanos.jpg
END:VEVENT
BEGIN:VEVENT
DTSTART;TZID=America/Los_Angeles:20260403T131000
DTEND;TZID=America/Los_Angeles:20260403T160000
DTSTAMP:20260420T091222
CREATED:20250815T174635Z
LAST-MODIFIED:20260403T170258Z
UID:10007351-1775221800-1775232000@duckfootbeer.com
SUMMARY:Padres Happy Hours
DESCRIPTION:Padres baseball\, cold beer\, and good company—what more do you need?\nWe’re showing the game at the brewery\, and our staff will be right there cheering along. Come grab a pint and root for the Padres with us! \nBeer Special:\n$5 pints and $25 pitchers of all core beers to anyone in Padre gear\, DURING PADRES GAME HOURS ONLY!
URL:https://duckfootbeer.com/event/padres-bogo/2026-04-03/
LOCATION:CA
CATEGORIES:Featured,Leucadia,Miramar
ATTACH;FMTTYPE=image/jpeg:https://duckfootbeer.com/wp-content/uploads/2025/08/padres-happyhour-BoGo.jpg
END:VEVENT
BEGIN:VEVENT
DTSTART;TZID=America/Los_Angeles:20260402T190000
DTEND;TZID=America/Los_Angeles:20260402T210000
DTSTAMP:20260420T091222
CREATED:20230328T045112Z
LAST-MODIFIED:20260218T014549Z
UID:10004535-1775156400-1775163600@duckfootbeer.com
SUMMARY:Leucadia Trivia Night
DESCRIPTION:Come quack up with us at our weekly Trivia Nights! Our hosts are full of feather-brained questions\, waddle with us and see who can rule the roost as the ultimate trivia champ. \nRSVP & MORE DEETS ON EVENTBRITE
URL:https://duckfootbeer.com/event/trivia-leucadia/2026-04-02/
LOCATION:Duck Foot Leucadia\, 978 N Coast Hwy 101\, Encinitas\, CA\, 92024\, United States
CATEGORIES:Leucadia,Trivia Night
ATTACH;FMTTYPE=image/jpeg:https://duckfootbeer.com/wp-content/uploads/2022/03/2023LeucadiaTrivia.jpg
END:VEVENT
BEGIN:VEVENT
DTSTART;TZID=UTC:20260402T120000
DTEND;TZID=UTC:20260402T210000
DTSTAMP:20260420T091222
CREATED:20220302T111111Z
LAST-MODIFIED:20260122T183410Z
UID:10006950-1775131200-1775163600@duckfootbeer.com
SUMMARY:Thirsty Thursdays
DESCRIPTION:Every Thursday = To-Go Fills Day.Save 20% on all crowler & growler fills\, open to close\, at Miramar and Leucadia.Stock up\, share (or don’t)\, repeat weekly.
URL:https://duckfootbeer.com/event/thirsty-thursdays/2026-04-02/
LOCATION:Duck Foot Miramar\, 8920 Kenamar Drive #210\, San Diego\, CA\, 92121\, United States
CATEGORIES:Deals,Featured,Leucadia,Miramar,Weekly
ATTACH;FMTTYPE=image/jpeg:https://duckfootbeer.com/wp-content/uploads/2022/03/IMG_2362.jpeg
END:VEVENT
BEGIN:VEVENT
DTSTART;TZID=UTC:20260401T190000
DTEND;TZID=UTC:20260401T210000
DTSTAMP:20260420T091222
CREATED:20250430T231756Z
LAST-MODIFIED:20260327T172524Z
UID:10002325-1775070000-1775077200@duckfootbeer.com
SUMMARY:Miramar Trivia Night
DESCRIPTION:Come quack up with us at our weekly Trivia Nights! Our hosts are full of feather-brained questions\, waddle with us and see who can rule the roost as the ultimate trivia champ!
URL:https://duckfootbeer.com/event/trivia-night-2/2026-04-01/
LOCATION:Duck Foot Miramar\, 8920 Kenamar Drive #210\, San Diego\, CA\, 92121\, United States
CATEGORIES:Featured,Games,Miramar,Poster,Weekly
ATTACH;FMTTYPE=image/jpeg:https://duckfootbeer.com/wp-content/uploads/2022/03/2023MiramarTrivia.jpg
END:VEVENT
BEGIN:VEVENT
DTSTART;TZID=America/Los_Angeles:20260401T190000
DTEND;TZID=America/Los_Angeles:20260401T210000
DTSTAMP:20260420T091222
CREATED:20240118T170426Z
LAST-MODIFIED:20260129T182136Z
UID:10004882-1775070000-1775077200@duckfootbeer.com
SUMMARY:Bingo Night
DESCRIPTION:Join us every Wednesday from 7-9 PM with host Adam Jara! Get ready to quack up at our Bingo Night hosted at Duck Foot Brewing Leucadia! With awesome prizes up for grabs\, this is no ordinary duck hunt – it’s a night of lucky ducky fun!
URL:https://duckfootbeer.com/event/bingo-leucadia-2/2026-04-01/
LOCATION:Duck Foot Leucadia\, 978 N Coast Hwy 101\, Encinitas\, CA\, 92024\, United States
CATEGORIES:Featured,Games,Leucadia
ATTACH;FMTTYPE=image/jpeg:https://duckfootbeer.com/wp-content/uploads/2023/03/bingo-w-leucadia.jpg
END:VEVENT
BEGIN:VEVENT
DTSTART;TZID=America/Los_Angeles:20260331T183000
DTEND;TZID=America/Los_Angeles:20260331T203000
DTSTAMP:20260420T091222
CREATED:20231206T025939Z
LAST-MODIFIED:20260220T205042Z
UID:10001456-1774981800-1774989000@duckfootbeer.com
SUMMARY:Make Your Own Ramen
DESCRIPTION:Escape to the streets of Tokyo as we create this infamous winter warmer\, Japanese Ramen Noodle Soup! This class is perfect for anyone who enjoys Asian flavors and wants to learn more about how to recreate these flavors and techniques at home! \nIn this entertaining\, hands-on class\, you will be guided step-by-step in recreating a widely loved dish\, renowned for its rich broth\, abundance of noodles and endless toppings! Use foundational knife skills to prep your fresh ingredients\, and learn how to create our Chef’s version of a classic shoyu broth with bonito flakes\, pork and chicken bones. You will artfully pull all components of your dish together and have fun customizing your bowl to your liking\, with a variety of traditional garnishes and toppings including slices of Chef’s mouth-watering pork shoyu (traditionally slowly braised and marinated pork) . You will use and learn how to choose quality pre-made Ramen noodles making this dish easy to recreate at home! \nNo experience is required! We provide all the equipment and ingredients\, which are easy to find at local markets if you do not already have them in your home kitchen. Our events are casual and meant to be fun and instructive\, not hardcore. This class is designed to be just as fun for the cooking enthusiast who wants to be a part of every step as it is for the first-timer who is happier observing and assisting (or taste testing). \nPlease arrive 15 minutes early to check in. BYOB is restricted. Our venue partner\, Duckfoot Brewing will have a great selection of crafted pour available for purchase. 21+ only. \n 
URL:https://duckfootbeer.com/event/ramen-2-16/
LOCATION:Duck Foot Miramar\, 8920 Kenamar Drive #210\, San Diego\, CA\, 92121\, United States
CATEGORIES:Featured,Games,Miramar
ATTACH;FMTTYPE=image/jpeg:https://duckfootbeer.com/wp-content/uploads/2023/12/Cooking-Class-Ramen.jpg
END:VEVENT
BEGIN:VEVENT
DTSTART;TZID=America/Los_Angeles:20260331T180000
DTEND;TZID=America/Los_Angeles:20260331T210000
DTSTAMP:20260420T091222
CREATED:20240815T221429Z
LAST-MODIFIED:20260324T220458Z
UID:10003559-1774980000-1774990800@duckfootbeer.com
SUMMARY:Deadhead Night - Leucadia
DESCRIPTION:Join us for Leucadia’s newest Deadhead’s Night with a free live tribute from Patrick and Friends of Easy Wind. Experience the spirit of The Dead right in our tasting room as they perform acoustic renditions of your favorite tunes!
URL:https://duckfootbeer.com/event/deadhead-night-leu/2026-03-31/
LOCATION:Duck Foot Leucadia\, 978 N Coast Hwy 101\, Encinitas\, CA\, 92024\, United States
CATEGORIES:Featured,Leucadia,Music
ATTACH;FMTTYPE=image/jpeg:https://duckfootbeer.com/wp-content/uploads/2024/08/Leucadia-Deadheads-8-25.jpg
END:VEVENT
BEGIN:VEVENT
DTSTART;VALUE=DATE:20260330
DTEND;VALUE=DATE:20260331
DTSTAMP:20260420T091222
CREATED:20251105T024541Z
LAST-MODIFIED:20260122T190743Z
UID:10005773-1774828800-1774915199@duckfootbeer.com
SUMMARY:$5 Mondays
DESCRIPTION:Just like the poster says\, we are serving up $5 Pints of our core beers all day\, every Monday at both locations.
URL:https://duckfootbeer.com/event/32112/2026-03-30/
LOCATION:CA
CATEGORIES:Deals,Featured,Leucadia,Miramar,Weekly
ATTACH;FMTTYPE=image/jpeg:https://duckfootbeer.com/wp-content/uploads/2025/11/monday-happy-hour-core.jpg
END:VEVENT
BEGIN:VEVENT
DTSTART;TZID=America/Los_Angeles:20260329T123000
DTEND;TZID=America/Los_Angeles:20260329T190000
DTSTAMP:20260420T091222
CREATED:20241217T012350Z
LAST-MODIFIED:20260417T185157Z
UID:10007232-1774787400-1774810800@duckfootbeer.com
SUMMARY:MJ's Philly Cheesesteaks
DESCRIPTION:Cheese Steaks and more
URL:https://duckfootbeer.com/event/mj-philly/2026-03-29/
LOCATION:Duck Foot Miramar\, 8920 Kenamar Drive #210\, San Diego\, CA\, 92121\, United States
CATEGORIES:Featured,Food Truck,Miramar
ATTACH;FMTTYPE=image/jpeg:https://duckfootbeer.com/wp-content/uploads/2024/12/food-truck-MJs.jpg
END:VEVENT
END:VCALENDAR