BEGIN:VCALENDAR
VERSION:2.0
PRODID:-//Duck Foot Brewing Co - ECPv6.15.12.1//NONSGML v1.0//EN
CALSCALE:GREGORIAN
METHOD:PUBLISH
X-WR-CALNAME:Duck Foot Brewing Co
X-ORIGINAL-URL:https://duckfootbeer.com
X-WR-CALDESC:Events for Duck Foot Brewing Co
REFRESH-INTERVAL;VALUE=DURATION:PT1H
X-Robots-Tag:noindex
X-PUBLISHED-TTL:PT1H
BEGIN:VTIMEZONE
TZID:UTC
BEGIN:STANDARD
TZOFFSETFROM:+0000
TZOFFSETTO:+0000
TZNAME:UTC
DTSTART:20240101T000000
END:STANDARD
END:VTIMEZONE
BEGIN:VTIMEZONE
TZID:America/Los_Angeles
BEGIN:DAYLIGHT
TZOFFSETFROM:-0800
TZOFFSETTO:-0700
TZNAME:PDT
DTSTART:20240310T100000
END:DAYLIGHT
BEGIN:STANDARD
TZOFFSETFROM:-0700
TZOFFSETTO:-0800
TZNAME:PST
DTSTART:20241103T090000
END:STANDARD
BEGIN:DAYLIGHT
TZOFFSETFROM:-0800
TZOFFSETTO:-0700
TZNAME:PDT
DTSTART:20250309T100000
END:DAYLIGHT
BEGIN:STANDARD
TZOFFSETFROM:-0700
TZOFFSETTO:-0800
TZNAME:PST
DTSTART:20251102T090000
END:STANDARD
BEGIN:DAYLIGHT
TZOFFSETFROM:-0800
TZOFFSETTO:-0700
TZNAME:PDT
DTSTART:20260308T100000
END:DAYLIGHT
BEGIN:STANDARD
TZOFFSETFROM:-0700
TZOFFSETTO:-0800
TZNAME:PST
DTSTART:20261101T090000
END:STANDARD
END:VTIMEZONE
BEGIN:VEVENT
DTSTART;TZID=UTC:20250813T190000
DTEND;TZID=UTC:20250813T210000
DTSTAMP:20260422T144740
CREATED:20250430T231756Z
LAST-MODIFIED:20260327T172524Z
UID:10002292-1755111600-1755118800@duckfootbeer.com
SUMMARY:Miramar Trivia Night
DESCRIPTION:Come quack up with us at our weekly Trivia Nights! Our hosts are full of feather-brained questions\, waddle with us and see who can rule the roost as the ultimate trivia champ!
URL:https://duckfootbeer.com/event/trivia-night-2/2025-08-13/
LOCATION:Duck Foot Miramar\, 8920 Kenamar Drive #210\, San Diego\, CA\, 92121\, United States
CATEGORIES:Featured,Games,Miramar,Poster,Weekly
ATTACH;FMTTYPE=image/jpeg:https://duckfootbeer.com/wp-content/uploads/2022/03/2023MiramarTrivia.jpg
END:VEVENT
BEGIN:VEVENT
DTSTART;TZID=America/Los_Angeles:20250813T190000
DTEND;TZID=America/Los_Angeles:20250813T210000
DTSTAMP:20260422T144740
CREATED:20240118T170426Z
LAST-MODIFIED:20260129T182136Z
UID:10004849-1755111600-1755118800@duckfootbeer.com
SUMMARY:Bingo Night
DESCRIPTION:Join us every Wednesday from 7-9 PM with host Adam Jara! Get ready to quack up at our Bingo Night hosted at Duck Foot Brewing Leucadia! With awesome prizes up for grabs\, this is no ordinary duck hunt – it’s a night of lucky ducky fun!
URL:https://duckfootbeer.com/event/bingo-leucadia-2/2025-08-13/
LOCATION:Duck Foot Leucadia\, 978 N Coast Hwy 101\, Encinitas\, CA\, 92024\, United States
CATEGORIES:Featured,Games,Leucadia
ATTACH;FMTTYPE=image/jpeg:https://duckfootbeer.com/wp-content/uploads/2023/03/bingo-w-leucadia.jpg
END:VEVENT
BEGIN:VEVENT
DTSTART;TZID=America/Los_Angeles:20250812T190000
DTEND;TZID=America/Los_Angeles:20250812T213000
DTSTAMP:20260422T144740
CREATED:20230104T014635Z
LAST-MODIFIED:20260327T180753Z
UID:10005180-1755025200-1755034200@duckfootbeer.com
SUMMARY:San Diego Jazz Collective - Jam Session
DESCRIPTION:Come join us for free live music\, as we welcome the San Diego Jazz Collective for a night of unrehearsed musical collaboration. This event is a great intimate experience held in our tasting room\, where musicians will cycle in and out through the night.
URL:https://duckfootbeer.com/event/san-diego-jazz-collective-jam-session-december-2023-3-14/2025-08-12/
LOCATION:Duck Foot Miramar\, 8920 Kenamar Drive #210\, San Diego\, CA\, 92121\, United States
CATEGORIES:Featured,Miramar,Music
ATTACH;FMTTYPE=image/jpeg:https://duckfootbeer.com/wp-content/uploads/2023/01/jazznight2.jpg
END:VEVENT
BEGIN:VEVENT
DTSTART;TZID=America/Los_Angeles:20250808T160000
DTEND;TZID=America/Los_Angeles:20250808T210000
DTSTAMP:20260422T144740
CREATED:20250605T164109Z
LAST-MODIFIED:20250924T202534Z
UID:10005117-1754668800-1754686800@duckfootbeer.com
SUMMARY:MC's Kitchen
DESCRIPTION:MC’s Kitchen\, \nwhere brunch favorites and early evening specialties shine with exquisite dishes like savory goat cheese and mushroom egg soufflés and indulgent pork belly egg Benedicts. Delight in the creative fusion of flavors with options such as grilled rosemary lemon chicken and waffles\, the signature Kassie\, and hearty jambalaya over pasta\, all crafted to satisfy and impress. Round out your culinary adventure with extraordinary desserts and unique sides like pork belly chili and rosemary cornbread\, making each visit a memorable gastronomic experience.
URL:https://duckfootbeer.com/event/mcs/2025-08-08/
LOCATION:Duck Foot Miramar\, 8920 Kenamar Drive #210\, San Diego\, CA\, 92121\, United States
CATEGORIES:Food Truck,Miramar
ATTACH;FMTTYPE=image/jpeg:https://duckfootbeer.com/wp-content/uploads/2025/06/food-truck-MM-MCs-Kitchen.jpg
END:VEVENT
BEGIN:VEVENT
DTSTART;TZID=America/Los_Angeles:20250807T190000
DTEND;TZID=America/Los_Angeles:20250807T210000
DTSTAMP:20260422T144740
CREATED:20230328T045112Z
LAST-MODIFIED:20260218T014549Z
UID:10004501-1754593200-1754600400@duckfootbeer.com
SUMMARY:Leucadia Trivia Night
DESCRIPTION:Come quack up with us at our weekly Trivia Nights! Our hosts are full of feather-brained questions\, waddle with us and see who can rule the roost as the ultimate trivia champ. \nRSVP & MORE DEETS ON EVENTBRITE
URL:https://duckfootbeer.com/event/trivia-leucadia/2025-08-07/
LOCATION:Duck Foot Leucadia\, 978 N Coast Hwy 101\, Encinitas\, CA\, 92024\, United States
CATEGORIES:Leucadia,Trivia Night
ATTACH;FMTTYPE=image/jpeg:https://duckfootbeer.com/wp-content/uploads/2022/03/2023LeucadiaTrivia.jpg
END:VEVENT
BEGIN:VEVENT
DTSTART;TZID=UTC:20250807T120000
DTEND;TZID=UTC:20250807T210000
DTSTAMP:20260422T144740
CREATED:20220302T111111Z
LAST-MODIFIED:20260122T183410Z
UID:10006916-1754568000-1754600400@duckfootbeer.com
SUMMARY:Thirsty Thursdays
DESCRIPTION:Every Thursday = To-Go Fills Day.Save 20% on all crowler & growler fills\, open to close\, at Miramar and Leucadia.Stock up\, share (or don’t)\, repeat weekly.
URL:https://duckfootbeer.com/event/thirsty-thursdays/2025-08-07/
LOCATION:Duck Foot Miramar\, 8920 Kenamar Drive #210\, San Diego\, CA\, 92121\, United States
CATEGORIES:Deals,Featured,Leucadia,Miramar,Weekly
ATTACH;FMTTYPE=image/jpeg:https://duckfootbeer.com/wp-content/uploads/2022/03/IMG_2362.jpeg
END:VEVENT
BEGIN:VEVENT
DTSTART;TZID=UTC:20250806T190000
DTEND;TZID=UTC:20250806T210000
DTSTAMP:20260422T144740
CREATED:20250430T231756Z
LAST-MODIFIED:20260327T172524Z
UID:10002291-1754506800-1754514000@duckfootbeer.com
SUMMARY:Miramar Trivia Night
DESCRIPTION:Come quack up with us at our weekly Trivia Nights! Our hosts are full of feather-brained questions\, waddle with us and see who can rule the roost as the ultimate trivia champ!
URL:https://duckfootbeer.com/event/trivia-night-2/2025-08-06/
LOCATION:Duck Foot Miramar\, 8920 Kenamar Drive #210\, San Diego\, CA\, 92121\, United States
CATEGORIES:Featured,Games,Miramar,Poster,Weekly
ATTACH;FMTTYPE=image/jpeg:https://duckfootbeer.com/wp-content/uploads/2022/03/2023MiramarTrivia.jpg
END:VEVENT
BEGIN:VEVENT
DTSTART;TZID=America/Los_Angeles:20250806T190000
DTEND;TZID=America/Los_Angeles:20250806T210000
DTSTAMP:20260422T144740
CREATED:20240118T170426Z
LAST-MODIFIED:20260129T182136Z
UID:10004848-1754506800-1754514000@duckfootbeer.com
SUMMARY:Bingo Night
DESCRIPTION:Join us every Wednesday from 7-9 PM with host Adam Jara! Get ready to quack up at our Bingo Night hosted at Duck Foot Brewing Leucadia! With awesome prizes up for grabs\, this is no ordinary duck hunt – it’s a night of lucky ducky fun!
URL:https://duckfootbeer.com/event/bingo-leucadia-2/2025-08-06/
LOCATION:Duck Foot Leucadia\, 978 N Coast Hwy 101\, Encinitas\, CA\, 92024\, United States
CATEGORIES:Featured,Games,Leucadia
ATTACH;FMTTYPE=image/jpeg:https://duckfootbeer.com/wp-content/uploads/2023/03/bingo-w-leucadia.jpg
END:VEVENT
BEGIN:VEVENT
DTSTART;VALUE=DATE:20250801
DTEND;VALUE=DATE:20250901
DTSTAMP:20260422T144740
CREATED:20230725T210004Z
LAST-MODIFIED:20250903T231423Z
UID:10001376-1754006400-1756684799@duckfootbeer.com
SUMMARY:Strawberry & Lime Beergarita
DESCRIPTION:Slushies serving up at Miramar and Leucadia daily through the summer! \nThis week: Strawberry & Lime Beergarita Beer Slushies! \nMarg our words\, you’re going to want many Strawberry Beergarita Slushies this Summer. We’ve added tons of strawberry and fresh lime juice to our limited release DuckFruit Strawberry Lime Beergarita\, then slushed it up to cool you down. Uno mas\, por favor!
URL:https://duckfootbeer.com/event/strawberry-beergarita/
CATEGORIES:Featured,Leucadia,Miramar,Slushie
ATTACH;FMTTYPE=image/jpeg:https://duckfootbeer.com/wp-content/uploads/2023/07/Strawberry-Beer-garita-3.jpg
END:VEVENT
BEGIN:VEVENT
DTSTART;TZID=America/Los_Angeles:20250731T190000
DTEND;TZID=America/Los_Angeles:20250731T210000
DTSTAMP:20260422T144740
CREATED:20230328T045112Z
LAST-MODIFIED:20260218T014549Z
UID:10004500-1753988400-1753995600@duckfootbeer.com
SUMMARY:Leucadia Trivia Night
DESCRIPTION:Come quack up with us at our weekly Trivia Nights! Our hosts are full of feather-brained questions\, waddle with us and see who can rule the roost as the ultimate trivia champ. \nRSVP & MORE DEETS ON EVENTBRITE
URL:https://duckfootbeer.com/event/trivia-leucadia/2025-07-31/
LOCATION:Duck Foot Leucadia\, 978 N Coast Hwy 101\, Encinitas\, CA\, 92024\, United States
CATEGORIES:Leucadia,Trivia Night
ATTACH;FMTTYPE=image/jpeg:https://duckfootbeer.com/wp-content/uploads/2022/03/2023LeucadiaTrivia.jpg
END:VEVENT
BEGIN:VEVENT
DTSTART;TZID=America/Los_Angeles:20250731T160000
DTEND;TZID=America/Los_Angeles:20250731T210000
DTSTAMP:20260422T144740
CREATED:20250721T235653Z
LAST-MODIFIED:20260417T192713Z
UID:10005186-1753977600-1753995600@duckfootbeer.com
SUMMARY:TnT Q BBQ
DESCRIPTION:Authentic American style Barbeque\nAre you ready for our Authentic American style Barbeque in your backyard? We are bringing all of our best directly to you and yours. We’re on our way to tantalize your taste buds. Our menu offers a variety of Award Winning Barbeque\, sensational sides and delightful desserts.
URL:https://duckfootbeer.com/event/tnt-q-bbq/2025-07-31/
LOCATION:Duck Foot Miramar\, 8920 Kenamar Drive #210\, San Diego\, CA\, 92121\, United States
CATEGORIES:Food Truck,Miramar
ATTACH;FMTTYPE=image/jpeg:https://duckfootbeer.com/wp-content/uploads/2025/07/TnT-Q-MM-food-truck.jpg
END:VEVENT
BEGIN:VEVENT
DTSTART;TZID=UTC:20250731T120000
DTEND;TZID=UTC:20250731T210000
DTSTAMP:20260422T144740
CREATED:20220302T111111Z
LAST-MODIFIED:20260122T183410Z
UID:10006915-1753963200-1753995600@duckfootbeer.com
SUMMARY:Thirsty Thursdays
DESCRIPTION:Every Thursday = To-Go Fills Day.Save 20% on all crowler & growler fills\, open to close\, at Miramar and Leucadia.Stock up\, share (or don’t)\, repeat weekly.
URL:https://duckfootbeer.com/event/thirsty-thursdays/2025-07-31/
LOCATION:Duck Foot Miramar\, 8920 Kenamar Drive #210\, San Diego\, CA\, 92121\, United States
CATEGORIES:Deals,Featured,Leucadia,Miramar,Weekly
ATTACH;FMTTYPE=image/jpeg:https://duckfootbeer.com/wp-content/uploads/2022/03/IMG_2362.jpeg
END:VEVENT
BEGIN:VEVENT
DTSTART;TZID=UTC:20250730T190000
DTEND;TZID=UTC:20250730T210000
DTSTAMP:20260422T144740
CREATED:20250430T231756Z
LAST-MODIFIED:20260327T172524Z
UID:10002290-1753902000-1753909200@duckfootbeer.com
SUMMARY:Miramar Trivia Night
DESCRIPTION:Come quack up with us at our weekly Trivia Nights! Our hosts are full of feather-brained questions\, waddle with us and see who can rule the roost as the ultimate trivia champ!
URL:https://duckfootbeer.com/event/trivia-night-2/2025-07-30/
LOCATION:Duck Foot Miramar\, 8920 Kenamar Drive #210\, San Diego\, CA\, 92121\, United States
CATEGORIES:Featured,Games,Miramar,Poster,Weekly
ATTACH;FMTTYPE=image/jpeg:https://duckfootbeer.com/wp-content/uploads/2022/03/2023MiramarTrivia.jpg
END:VEVENT
BEGIN:VEVENT
DTSTART;TZID=America/Los_Angeles:20250730T190000
DTEND;TZID=America/Los_Angeles:20250730T210000
DTSTAMP:20260422T144740
CREATED:20240118T170426Z
LAST-MODIFIED:20260129T182136Z
UID:10004847-1753902000-1753909200@duckfootbeer.com
SUMMARY:Bingo Night
DESCRIPTION:Join us every Wednesday from 7-9 PM with host Adam Jara! Get ready to quack up at our Bingo Night hosted at Duck Foot Brewing Leucadia! With awesome prizes up for grabs\, this is no ordinary duck hunt – it’s a night of lucky ducky fun!
URL:https://duckfootbeer.com/event/bingo-leucadia-2/2025-07-30/
LOCATION:Duck Foot Leucadia\, 978 N Coast Hwy 101\, Encinitas\, CA\, 92024\, United States
CATEGORIES:Featured,Games,Leucadia
ATTACH;FMTTYPE=image/jpeg:https://duckfootbeer.com/wp-content/uploads/2023/03/bingo-w-leucadia.jpg
END:VEVENT
BEGIN:VEVENT
DTSTART;TZID=America/Los_Angeles:20250727T170000
DTEND;TZID=America/Los_Angeles:20250727T190000
DTSTAMP:20260422T144740
CREATED:20241015T161549Z
LAST-MODIFIED:20250617T201947Z
UID:10003793-1753635600-1753642800@duckfootbeer.com
SUMMARY:Make Your Own Ravioli
DESCRIPTION:Join us for a night in Italy to learn the secret of creating Ravioli from scratch. These Italian “dumplings” stuffed with rich ricotta cheese and tossed in satisfying scratch-made bolognese sauce will be sure to lure even the pickiest eater to the table. \nPurchase Tickets Here\nIn this fun and hands-on class\, you will be guided step-by-step through basic knife skills\, how to make pasta dough and filling from scratch\, shaping and cutting the dough into perfect ravioli squares \, then cooking them to perfection. You will also partake in making a classic bolognese sauce to pull the dish together. Once you have created your masterpiece\, you will then plate\, garnish and devour your creations with your fellow foodies joining you for this delicious cooking party! You will gain insight on how to source fresh\, seasonal ingredients and specialty spices in order to recreate the perfect Italian date night at home. \nNo experience is required! We provide all the equipment and ingredients\, which are easy to find at local markets if you do not already have them in your home kitchen. Our events are casual and meant to be fun and instructive\, not hardcore. This class is designed to be just as fun for the cooking enthusiast who wants to be a part of every step as it is for the first-timer who is happier observing and assisting (or taste testing). \nPlease arrive 15 minutes early to check in\, especially if you are part of a large group. BYOB is restricted. Our venue partner\, Duckfoot Brewing will have a great selection of pours available for purchase. \n 
URL:https://duckfootbeer.com/event/ravioli-7-27/
LOCATION:Duck Foot Miramar\, 8920 Kenamar Drive #210\, San Diego\, CA\, 92121\, United States
CATEGORIES:Featured,Games,Miramar
ATTACH;FMTTYPE=image/jpeg:https://duckfootbeer.com/wp-content/uploads/2023/08/Cooking-Class-Ravioli.jpg
END:VEVENT
BEGIN:VEVENT
DTSTART;TZID=America/Los_Angeles:20250727T130000
DTEND;TZID=America/Los_Angeles:20250727T150000
DTSTAMP:20260422T144740
CREATED:20231228T235954Z
LAST-MODIFIED:20260408T220107Z
UID:10004755-1753621200-1753628400@duckfootbeer.com
SUMMARY:Sunday Bluegrass Jam
DESCRIPTION:Join us at Duck Foot Brewing Company for a lively afternoon of bluegrass music with talented musicians from the San Diego Bluegrass Society\, Sunday 1-3PM! Sip on our delicious selection of craft beers while tapping your toes to the upbeat tunes and enjoying the company of fellow music and beer lovers.
URL:https://duckfootbeer.com/event/sunday-bluegrass-2/2025-07-27/
LOCATION:Duck Foot Miramar\, 8920 Kenamar Drive #210\, San Diego\, CA\, 92121\, United States
CATEGORIES:Featured,Miramar,Music
ATTACH;FMTTYPE=image/jpeg:https://duckfootbeer.com/wp-content/uploads/2023/02/bluegrasssunday2b.jpg
END:VEVENT
BEGIN:VEVENT
DTSTART;TZID=America/Los_Angeles:20250724T190000
DTEND;TZID=America/Los_Angeles:20250724T210000
DTSTAMP:20260422T144740
CREATED:20230328T045112Z
LAST-MODIFIED:20260218T014549Z
UID:10004499-1753383600-1753390800@duckfootbeer.com
SUMMARY:Leucadia Trivia Night
DESCRIPTION:Come quack up with us at our weekly Trivia Nights! Our hosts are full of feather-brained questions\, waddle with us and see who can rule the roost as the ultimate trivia champ. \nRSVP & MORE DEETS ON EVENTBRITE
URL:https://duckfootbeer.com/event/trivia-leucadia/2025-07-24/
LOCATION:Duck Foot Leucadia\, 978 N Coast Hwy 101\, Encinitas\, CA\, 92024\, United States
CATEGORIES:Leucadia,Trivia Night
ATTACH;FMTTYPE=image/jpeg:https://duckfootbeer.com/wp-content/uploads/2022/03/2023LeucadiaTrivia.jpg
END:VEVENT
BEGIN:VEVENT
DTSTART;TZID=UTC:20250724T120000
DTEND;TZID=UTC:20250724T210000
DTSTAMP:20260422T144740
CREATED:20220302T111111Z
LAST-MODIFIED:20260122T183410Z
UID:10006914-1753358400-1753390800@duckfootbeer.com
SUMMARY:Thirsty Thursdays
DESCRIPTION:Every Thursday = To-Go Fills Day.Save 20% on all crowler & growler fills\, open to close\, at Miramar and Leucadia.Stock up\, share (or don’t)\, repeat weekly.
URL:https://duckfootbeer.com/event/thirsty-thursdays/2025-07-24/
LOCATION:Duck Foot Miramar\, 8920 Kenamar Drive #210\, San Diego\, CA\, 92121\, United States
CATEGORIES:Deals,Featured,Leucadia,Miramar,Weekly
ATTACH;FMTTYPE=image/jpeg:https://duckfootbeer.com/wp-content/uploads/2022/03/IMG_2362.jpeg
END:VEVENT
BEGIN:VEVENT
DTSTART;TZID=UTC:20250723T190000
DTEND;TZID=UTC:20250723T210000
DTSTAMP:20260422T144740
CREATED:20250430T231756Z
LAST-MODIFIED:20260327T172524Z
UID:10002289-1753297200-1753304400@duckfootbeer.com
SUMMARY:Miramar Trivia Night
DESCRIPTION:Come quack up with us at our weekly Trivia Nights! Our hosts are full of feather-brained questions\, waddle with us and see who can rule the roost as the ultimate trivia champ!
URL:https://duckfootbeer.com/event/trivia-night-2/2025-07-23/
LOCATION:Duck Foot Miramar\, 8920 Kenamar Drive #210\, San Diego\, CA\, 92121\, United States
CATEGORIES:Featured,Games,Miramar,Poster,Weekly
ATTACH;FMTTYPE=image/jpeg:https://duckfootbeer.com/wp-content/uploads/2022/03/2023MiramarTrivia.jpg
END:VEVENT
BEGIN:VEVENT
DTSTART;TZID=America/Los_Angeles:20250723T190000
DTEND;TZID=America/Los_Angeles:20250723T210000
DTSTAMP:20260422T144740
CREATED:20240118T170426Z
LAST-MODIFIED:20260129T182136Z
UID:10004846-1753297200-1753304400@duckfootbeer.com
SUMMARY:Bingo Night
DESCRIPTION:Join us every Wednesday from 7-9 PM with host Adam Jara! Get ready to quack up at our Bingo Night hosted at Duck Foot Brewing Leucadia! With awesome prizes up for grabs\, this is no ordinary duck hunt – it’s a night of lucky ducky fun!
URL:https://duckfootbeer.com/event/bingo-leucadia-2/2025-07-23/
LOCATION:Duck Foot Leucadia\, 978 N Coast Hwy 101\, Encinitas\, CA\, 92024\, United States
CATEGORIES:Featured,Games,Leucadia
ATTACH;FMTTYPE=image/jpeg:https://duckfootbeer.com/wp-content/uploads/2023/03/bingo-w-leucadia.jpg
END:VEVENT
BEGIN:VEVENT
DTSTART;TZID=America/Los_Angeles:20250719T170000
DTEND;TZID=America/Los_Angeles:20250719T190000
DTSTAMP:20260422T144740
CREATED:20230504T220618Z
LAST-MODIFIED:20250605T165418Z
UID:10001353-1752944400-1752951600@duckfootbeer.com
SUMMARY:Okonomiyaki Japanese Street Food Class
DESCRIPTION:Escape to the enchanting streets of Japan as you learn how easy it is to make this iconic street food. The word “okonomiyaki” is derived from “okonomi” meaning “as you like” and “yaki” meaning “grilled. It’s commonly referred to as being a Japanese pancake. Accurate to its name\, okonomiyaki can be served with a variety of toppings. This class is perfect for anyone who enjoys Asian flavors and wants to learn more about how to recreate these flavors and techniques at home! \nPurchase Tickets Here\nIn this entertaining\, hands-on class\, you will be guided step-by-step in creating the perfect batter that holds everything together. As you create your vegetarian base consisting of cabbage and scallions you will also have the option of topping your artfully crafted Okonomiyaki with shrimp or bacon. \nNo experience is required! We provide all the equipment and ingredients\, which are easy to find at local markets if you do not already have them in your home kitchen. Our events are casual and meant to be fun and instructive\, not hardcore. This class is designed to be just as fun for the cooking enthusiast who wants to be a part of every step as it is for the first-timer who is happier observing and assisting (or taste testing). \nPlease arrive 15 minutes early to check in. BYOB is restricted. Our venue partner\, Duckfoot Brewing will have a great selection of crafted pour available for purchase. 21+ only. \n\n\n\
URL:https://duckfootbeer.com/event/okonomiyaki/
LOCATION:Duck Foot Miramar\, 8920 Kenamar Drive #210\, San Diego\, CA\, 92121\, United States
CATEGORIES:Featured,Miramar,Workshop
ATTACH;FMTTYPE=image/jpeg:https://duckfootbeer.com/wp-content/uploads/2024/08/Cooking-Class-OKONOMIYAKI.jpg
END:VEVENT
BEGIN:VEVENT
DTSTART;TZID=America/Los_Angeles:20250717T190000
DTEND;TZID=America/Los_Angeles:20250717T210000
DTSTAMP:20260422T144740
CREATED:20230328T045112Z
LAST-MODIFIED:20260218T014549Z
UID:10004498-1752778800-1752786000@duckfootbeer.com
SUMMARY:Leucadia Trivia Night
DESCRIPTION:Come quack up with us at our weekly Trivia Nights! Our hosts are full of feather-brained questions\, waddle with us and see who can rule the roost as the ultimate trivia champ. \nRSVP & MORE DEETS ON EVENTBRITE
URL:https://duckfootbeer.com/event/trivia-leucadia/2025-07-17/
LOCATION:Duck Foot Leucadia\, 978 N Coast Hwy 101\, Encinitas\, CA\, 92024\, United States
CATEGORIES:Leucadia,Trivia Night
ATTACH;FMTTYPE=image/jpeg:https://duckfootbeer.com/wp-content/uploads/2022/03/2023LeucadiaTrivia.jpg
END:VEVENT
BEGIN:VEVENT
DTSTART;TZID=UTC:20250717T120000
DTEND;TZID=UTC:20250717T210000
DTSTAMP:20260422T144740
CREATED:20220302T111111Z
LAST-MODIFIED:20260122T183410Z
UID:10006913-1752753600-1752786000@duckfootbeer.com
SUMMARY:Thirsty Thursdays
DESCRIPTION:Every Thursday = To-Go Fills Day.Save 20% on all crowler & growler fills\, open to close\, at Miramar and Leucadia.Stock up\, share (or don’t)\, repeat weekly.
URL:https://duckfootbeer.com/event/thirsty-thursdays/2025-07-17/
LOCATION:Duck Foot Miramar\, 8920 Kenamar Drive #210\, San Diego\, CA\, 92121\, United States
CATEGORIES:Deals,Featured,Leucadia,Miramar,Weekly
ATTACH;FMTTYPE=image/jpeg:https://duckfootbeer.com/wp-content/uploads/2022/03/IMG_2362.jpeg
END:VEVENT
BEGIN:VEVENT
DTSTART;TZID=UTC:20250716T190000
DTEND;TZID=UTC:20250716T210000
DTSTAMP:20260422T144740
CREATED:20250430T231756Z
LAST-MODIFIED:20260327T172524Z
UID:10002288-1752692400-1752699600@duckfootbeer.com
SUMMARY:Miramar Trivia Night
DESCRIPTION:Come quack up with us at our weekly Trivia Nights! Our hosts are full of feather-brained questions\, waddle with us and see who can rule the roost as the ultimate trivia champ!
URL:https://duckfootbeer.com/event/trivia-night-2/2025-07-16/
LOCATION:Duck Foot Miramar\, 8920 Kenamar Drive #210\, San Diego\, CA\, 92121\, United States
CATEGORIES:Featured,Games,Miramar,Poster,Weekly
ATTACH;FMTTYPE=image/jpeg:https://duckfootbeer.com/wp-content/uploads/2022/03/2023MiramarTrivia.jpg
END:VEVENT
BEGIN:VEVENT
DTSTART;TZID=America/Los_Angeles:20250716T190000
DTEND;TZID=America/Los_Angeles:20250716T210000
DTSTAMP:20260422T144740
CREATED:20240118T170426Z
LAST-MODIFIED:20260129T182136Z
UID:10004845-1752692400-1752699600@duckfootbeer.com
SUMMARY:Bingo Night
DESCRIPTION:Join us every Wednesday from 7-9 PM with host Adam Jara! Get ready to quack up at our Bingo Night hosted at Duck Foot Brewing Leucadia! With awesome prizes up for grabs\, this is no ordinary duck hunt – it’s a night of lucky ducky fun!
URL:https://duckfootbeer.com/event/bingo-leucadia-2/2025-07-16/
LOCATION:Duck Foot Leucadia\, 978 N Coast Hwy 101\, Encinitas\, CA\, 92024\, United States
CATEGORIES:Featured,Games,Leucadia
ATTACH;FMTTYPE=image/jpeg:https://duckfootbeer.com/wp-content/uploads/2023/03/bingo-w-leucadia.jpg
END:VEVENT
BEGIN:VEVENT
DTSTART;TZID=America/Los_Angeles:20250710T190000
DTEND;TZID=America/Los_Angeles:20250710T210000
DTSTAMP:20260422T144740
CREATED:20230328T045112Z
LAST-MODIFIED:20260218T014549Z
UID:10004497-1752174000-1752181200@duckfootbeer.com
SUMMARY:Leucadia Trivia Night
DESCRIPTION:Come quack up with us at our weekly Trivia Nights! Our hosts are full of feather-brained questions\, waddle with us and see who can rule the roost as the ultimate trivia champ. \nRSVP & MORE DEETS ON EVENTBRITE
URL:https://duckfootbeer.com/event/trivia-leucadia/2025-07-10/
LOCATION:Duck Foot Leucadia\, 978 N Coast Hwy 101\, Encinitas\, CA\, 92024\, United States
CATEGORIES:Leucadia,Trivia Night
ATTACH;FMTTYPE=image/jpeg:https://duckfootbeer.com/wp-content/uploads/2022/03/2023LeucadiaTrivia.jpg
END:VEVENT
BEGIN:VEVENT
DTSTART;TZID=UTC:20250710T120000
DTEND;TZID=UTC:20250710T210000
DTSTAMP:20260422T144740
CREATED:20220302T111111Z
LAST-MODIFIED:20260122T183410Z
UID:10006912-1752148800-1752181200@duckfootbeer.com
SUMMARY:Thirsty Thursdays
DESCRIPTION:Every Thursday = To-Go Fills Day.Save 20% on all crowler & growler fills\, open to close\, at Miramar and Leucadia.Stock up\, share (or don’t)\, repeat weekly.
URL:https://duckfootbeer.com/event/thirsty-thursdays/2025-07-10/
LOCATION:Duck Foot Miramar\, 8920 Kenamar Drive #210\, San Diego\, CA\, 92121\, United States
CATEGORIES:Deals,Featured,Leucadia,Miramar,Weekly
ATTACH;FMTTYPE=image/jpeg:https://duckfootbeer.com/wp-content/uploads/2022/03/IMG_2362.jpeg
END:VEVENT
BEGIN:VEVENT
DTSTART;TZID=UTC:20250709T190000
DTEND;TZID=UTC:20250709T210000
DTSTAMP:20260422T144740
CREATED:20250430T231756Z
LAST-MODIFIED:20260327T172524Z
UID:10002287-1752087600-1752094800@duckfootbeer.com
SUMMARY:Miramar Trivia Night
DESCRIPTION:Come quack up with us at our weekly Trivia Nights! Our hosts are full of feather-brained questions\, waddle with us and see who can rule the roost as the ultimate trivia champ!
URL:https://duckfootbeer.com/event/trivia-night-2/2025-07-09/
LOCATION:Duck Foot Miramar\, 8920 Kenamar Drive #210\, San Diego\, CA\, 92121\, United States
CATEGORIES:Featured,Games,Miramar,Poster,Weekly
ATTACH;FMTTYPE=image/jpeg:https://duckfootbeer.com/wp-content/uploads/2022/03/2023MiramarTrivia.jpg
END:VEVENT
BEGIN:VEVENT
DTSTART;TZID=America/Los_Angeles:20250709T190000
DTEND;TZID=America/Los_Angeles:20250709T210000
DTSTAMP:20260422T144740
CREATED:20240118T170426Z
LAST-MODIFIED:20260129T182136Z
UID:10004844-1752087600-1752094800@duckfootbeer.com
SUMMARY:Bingo Night
DESCRIPTION:Join us every Wednesday from 7-9 PM with host Adam Jara! Get ready to quack up at our Bingo Night hosted at Duck Foot Brewing Leucadia! With awesome prizes up for grabs\, this is no ordinary duck hunt – it’s a night of lucky ducky fun!
URL:https://duckfootbeer.com/event/bingo-leucadia-2/2025-07-09/
LOCATION:Duck Foot Leucadia\, 978 N Coast Hwy 101\, Encinitas\, CA\, 92024\, United States
CATEGORIES:Featured,Games,Leucadia
ATTACH;FMTTYPE=image/jpeg:https://duckfootbeer.com/wp-content/uploads/2023/03/bingo-w-leucadia.jpg
END:VEVENT
BEGIN:VEVENT
DTSTART;TZID=America/Los_Angeles:20250708T190000
DTEND;TZID=America/Los_Angeles:20250708T213000
DTSTAMP:20260422T144740
CREATED:20230104T014635Z
LAST-MODIFIED:20260327T180753Z
UID:10004237-1752001200-1752010200@duckfootbeer.com
SUMMARY:San Diego Jazz Collective - Jam Session
DESCRIPTION:Come join us for free live music\, as we welcome the San Diego Jazz Collective for a night of unrehearsed musical collaboration. This event is a great intimate experience held in our tasting room\, where musicians will cycle in and out through the night.
URL:https://duckfootbeer.com/event/san-diego-jazz-collective-jam-session-december-2023-3-14/2025-07-08/
LOCATION:Duck Foot Miramar\, 8920 Kenamar Drive #210\, San Diego\, CA\, 92121\, United States
CATEGORIES:Featured,Miramar,Music
ATTACH;FMTTYPE=image/jpeg:https://duckfootbeer.com/wp-content/uploads/2023/01/jazznight2.jpg
END:VEVENT
END:VCALENDAR