BEGIN:VCALENDAR
VERSION:2.0
PRODID:-//Duck Foot Brewing Co - ECPv6.15.12.1//NONSGML v1.0//EN
CALSCALE:GREGORIAN
METHOD:PUBLISH
X-ORIGINAL-URL:https://duckfootbeer.com
X-WR-CALDESC:Events for Duck Foot Brewing Co
REFRESH-INTERVAL;VALUE=DURATION:PT1H
X-Robots-Tag:noindex
X-PUBLISHED-TTL:PT1H
BEGIN:VTIMEZONE
TZID:America/Los_Angeles
BEGIN:DAYLIGHT
TZOFFSETFROM:-0800
TZOFFSETTO:-0700
TZNAME:PDT
DTSTART:20240310T100000
END:DAYLIGHT
BEGIN:STANDARD
TZOFFSETFROM:-0700
TZOFFSETTO:-0800
TZNAME:PST
DTSTART:20241103T090000
END:STANDARD
BEGIN:DAYLIGHT
TZOFFSETFROM:-0800
TZOFFSETTO:-0700
TZNAME:PDT
DTSTART:20250309T100000
END:DAYLIGHT
BEGIN:STANDARD
TZOFFSETFROM:-0700
TZOFFSETTO:-0800
TZNAME:PST
DTSTART:20251102T090000
END:STANDARD
BEGIN:DAYLIGHT
TZOFFSETFROM:-0800
TZOFFSETTO:-0700
TZNAME:PDT
DTSTART:20260308T100000
END:DAYLIGHT
BEGIN:STANDARD
TZOFFSETFROM:-0700
TZOFFSETTO:-0800
TZNAME:PST
DTSTART:20261101T090000
END:STANDARD
END:VTIMEZONE
BEGIN:VTIMEZONE
TZID:UTC
BEGIN:STANDARD
TZOFFSETFROM:+0000
TZOFFSETTO:+0000
TZNAME:UTC
DTSTART:20240101T000000
END:STANDARD
END:VTIMEZONE
BEGIN:VEVENT
DTSTART;TZID=America/Los_Angeles:20251119T190000
DTEND;TZID=America/Los_Angeles:20251119T210000
DTSTAMP:20260422T010854
CREATED:20240118T170426Z
LAST-MODIFIED:20260129T182136Z
UID:10004863-1763578800-1763586000@duckfootbeer.com
SUMMARY:Bingo Night
DESCRIPTION:Join us every Wednesday from 7-9 PM with host Adam Jara! Get ready to quack up at our Bingo Night hosted at Duck Foot Brewing Leucadia! With awesome prizes up for grabs\, this is no ordinary duck hunt – it’s a night of lucky ducky fun!
URL:https://duckfootbeer.com/event/bingo-leucadia-2/2025-11-19/
LOCATION:Duck Foot Leucadia\, 978 N Coast Hwy 101\, Encinitas\, CA\, 92024\, United States
CATEGORIES:Featured,Games,Leucadia
ATTACH;FMTTYPE=image/jpeg:https://duckfootbeer.com/wp-content/uploads/2023/03/bingo-w-leucadia.jpg
END:VEVENT
BEGIN:VEVENT
DTSTART;VALUE=DATE:20251117
DTEND;VALUE=DATE:20251118
DTSTAMP:20260422T010854
CREATED:20251105T024541Z
LAST-MODIFIED:20260122T190743Z
UID:10005754-1763337600-1763423999@duckfootbeer.com
SUMMARY:$5 Mondays
DESCRIPTION:Just like the poster says\, we are serving up $5 Pints of our core beers all day\, every Monday at both locations.
URL:https://duckfootbeer.com/event/32112/2025-11-17/
CATEGORIES:Deals,Featured,Leucadia,Miramar,Weekly
ATTACH;FMTTYPE=image/jpeg:https://duckfootbeer.com/wp-content/uploads/2025/11/monday-happy-hour-core.jpg
END:VEVENT
BEGIN:VEVENT
DTSTART;TZID=America/Los_Angeles:20251113T190000
DTEND;TZID=America/Los_Angeles:20251113T210000
DTSTAMP:20260422T010854
CREATED:20230328T045112Z
LAST-MODIFIED:20260218T014549Z
UID:10004515-1763060400-1763067600@duckfootbeer.com
SUMMARY:Leucadia Trivia Night
DESCRIPTION:Come quack up with us at our weekly Trivia Nights! Our hosts are full of feather-brained questions\, waddle with us and see who can rule the roost as the ultimate trivia champ. \nRSVP & MORE DEETS ON EVENTBRITE
URL:https://duckfootbeer.com/event/trivia-leucadia/2025-11-13/
LOCATION:Duck Foot Leucadia\, 978 N Coast Hwy 101\, Encinitas\, CA\, 92024\, United States
CATEGORIES:Leucadia,Trivia Night
ATTACH;FMTTYPE=image/jpeg:https://duckfootbeer.com/wp-content/uploads/2022/03/2023LeucadiaTrivia.jpg
END:VEVENT
BEGIN:VEVENT
DTSTART;TZID=America/Los_Angeles:20251113T180000
DTEND;TZID=America/Los_Angeles:20251113T210000
DTSTAMP:20260422T010854
CREATED:20250428T215530Z
LAST-MODIFIED:20260420T201628Z
UID:10005720-1763056800-1763067600@duckfootbeer.com
SUMMARY:La Libertad
DESCRIPTION:La Libertad Cocina Urbana\nHave you heard of Birria? If not\, then you don’t know Mexican food! Come try out some delicious homestyle mexican food to go along with our beers. Get yourself hungry by checking out their instagram.
URL:https://duckfootbeer.com/event/libertad-leucadia/2025-11-13/
LOCATION:Duck Foot Leucadia\, 978 N Coast Hwy 101\, Encinitas\, CA\, 92024\, United States
CATEGORIES:Featured,Food Truck,Leucadia
ATTACH;FMTTYPE=image/jpeg:https://duckfootbeer.com/wp-content/uploads/2025/04/Libertad-Leucadia-food-truck.jpg
END:VEVENT
BEGIN:VEVENT
DTSTART;TZID=UTC:20251113T120000
DTEND;TZID=UTC:20251113T210000
DTSTAMP:20260422T010854
CREATED:20220302T111111Z
LAST-MODIFIED:20260122T183410Z
UID:10006930-1763035200-1763067600@duckfootbeer.com
SUMMARY:Thirsty Thursdays
DESCRIPTION:Every Thursday = To-Go Fills Day.Save 20% on all crowler & growler fills\, open to close\, at Miramar and Leucadia.Stock up\, share (or don’t)\, repeat weekly.
URL:https://duckfootbeer.com/event/thirsty-thursdays/2025-11-13/
LOCATION:Duck Foot Miramar\, 8920 Kenamar Drive #210\, San Diego\, CA\, 92121\, United States
CATEGORIES:Deals,Featured,Leucadia,Miramar,Weekly
ATTACH;FMTTYPE=image/jpeg:https://duckfootbeer.com/wp-content/uploads/2022/03/IMG_2362.jpeg
END:VEVENT
BEGIN:VEVENT
DTSTART;TZID=UTC:20251112T190000
DTEND;TZID=UTC:20251112T210000
DTSTAMP:20260422T010854
CREATED:20250430T231756Z
LAST-MODIFIED:20260327T172524Z
UID:10002305-1762974000-1762981200@duckfootbeer.com
SUMMARY:Miramar Trivia Night
DESCRIPTION:Come quack up with us at our weekly Trivia Nights! Our hosts are full of feather-brained questions\, waddle with us and see who can rule the roost as the ultimate trivia champ!
URL:https://duckfootbeer.com/event/trivia-night-2/2025-11-12/
LOCATION:Duck Foot Miramar\, 8920 Kenamar Drive #210\, San Diego\, CA\, 92121\, United States
CATEGORIES:Featured,Games,Miramar,Poster,Weekly
ATTACH;FMTTYPE=image/jpeg:https://duckfootbeer.com/wp-content/uploads/2022/03/2023MiramarTrivia.jpg
END:VEVENT
BEGIN:VEVENT
DTSTART;TZID=America/Los_Angeles:20251112T190000
DTEND;TZID=America/Los_Angeles:20251112T210000
DTSTAMP:20260422T010854
CREATED:20240118T170426Z
LAST-MODIFIED:20260129T182136Z
UID:10004862-1762974000-1762981200@duckfootbeer.com
SUMMARY:Bingo Night
DESCRIPTION:Join us every Wednesday from 7-9 PM with host Adam Jara! Get ready to quack up at our Bingo Night hosted at Duck Foot Brewing Leucadia! With awesome prizes up for grabs\, this is no ordinary duck hunt – it’s a night of lucky ducky fun!
URL:https://duckfootbeer.com/event/bingo-leucadia-2/2025-11-12/
LOCATION:Duck Foot Leucadia\, 978 N Coast Hwy 101\, Encinitas\, CA\, 92024\, United States
CATEGORIES:Featured,Games,Leucadia
ATTACH;FMTTYPE=image/jpeg:https://duckfootbeer.com/wp-content/uploads/2023/03/bingo-w-leucadia.jpg
END:VEVENT
BEGIN:VEVENT
DTSTART;TZID=America/Los_Angeles:20251112T160000
DTEND;TZID=America/Los_Angeles:20251112T210000
DTSTAMP:20260422T010854
CREATED:20250605T164109Z
LAST-MODIFIED:20250924T202534Z
UID:10005387-1762963200-1762981200@duckfootbeer.com
SUMMARY:MC's Kitchen
DESCRIPTION:MC’s Kitchen\, \nwhere brunch favorites and early evening specialties shine with exquisite dishes like savory goat cheese and mushroom egg soufflés and indulgent pork belly egg Benedicts. Delight in the creative fusion of flavors with options such as grilled rosemary lemon chicken and waffles\, the signature Kassie\, and hearty jambalaya over pasta\, all crafted to satisfy and impress. Round out your culinary adventure with extraordinary desserts and unique sides like pork belly chili and rosemary cornbread\, making each visit a memorable gastronomic experience.
URL:https://duckfootbeer.com/event/mcs/2025-11-12/
LOCATION:Duck Foot Miramar\, 8920 Kenamar Drive #210\, San Diego\, CA\, 92121\, United States
CATEGORIES:Food Truck,Miramar
ATTACH;FMTTYPE=image/jpeg:https://duckfootbeer.com/wp-content/uploads/2025/06/food-truck-MM-MCs-Kitchen.jpg
END:VEVENT
BEGIN:VEVENT
DTSTART;TZID=America/Los_Angeles:20251111T190000
DTEND;TZID=America/Los_Angeles:20251111T213000
DTSTAMP:20260422T010854
CREATED:20230104T014635Z
LAST-MODIFIED:20260327T180753Z
UID:10005630-1762887600-1762896600@duckfootbeer.com
SUMMARY:San Diego Jazz Collective - Jam Session
DESCRIPTION:Come join us for free live music\, as we welcome the San Diego Jazz Collective for a night of unrehearsed musical collaboration. This event is a great intimate experience held in our tasting room\, where musicians will cycle in and out through the night.
URL:https://duckfootbeer.com/event/san-diego-jazz-collective-jam-session-december-2023-3-14/2025-11-11/
LOCATION:Duck Foot Miramar\, 8920 Kenamar Drive #210\, San Diego\, CA\, 92121\, United States
CATEGORIES:Featured,Miramar,Music
ATTACH;FMTTYPE=image/jpeg:https://duckfootbeer.com/wp-content/uploads/2023/01/jazznight2.jpg
END:VEVENT
BEGIN:VEVENT
DTSTART;VALUE=DATE:20251110
DTEND;VALUE=DATE:20251111
DTSTAMP:20260422T010854
CREATED:20251105T024541Z
LAST-MODIFIED:20260122T190743Z
UID:10005753-1762732800-1762819199@duckfootbeer.com
SUMMARY:$5 Mondays
DESCRIPTION:Just like the poster says\, we are serving up $5 Pints of our core beers all day\, every Monday at both locations.
URL:https://duckfootbeer.com/event/32112/2025-11-10/
CATEGORIES:Deals,Featured,Leucadia,Miramar,Weekly
ATTACH;FMTTYPE=image/jpeg:https://duckfootbeer.com/wp-content/uploads/2025/11/monday-happy-hour-core.jpg
END:VEVENT
BEGIN:VEVENT
DTSTART;TZID=America/Los_Angeles:20251108T170000
DTEND;TZID=America/Los_Angeles:20251108T190000
DTSTAMP:20260422T010854
CREATED:20240717T204548Z
LAST-MODIFIED:20251001T202035Z
UID:10003448-1762621200-1762628400@duckfootbeer.com
SUMMARY:Hand Rolled Sushi Class
DESCRIPTION:Are you ready to roll up your sleeves and learn how to create your own fresh sushi rolls like a pro? You are in for a special treat! \nPurchase Tickets Here\nIn this highly interactive and hands-on class\, the Chef will let you in on tips and tricks of making delicious sushi rolls\, from preparing the perfect sushi rice\, cutting the fresh ingredients properly\, and the art of rolling. This casual and easy to follow class will surely engage all your senses! All participants will make three variations – a roll featuring Tuna or Salmon\, a California Roll\, and a “catch of the day” which will make use of fresh\, locally sourced fish and sustainable ingredients. You are invited to let your creativity flow and try rolling with seaweed both inside and out and mix and match different ingredients to develop your own unique edition. \nNo experience is required! We provide all the equipment and ingredients\, which are easy to find at local markets if you don’t already have them in your home kitchen. Our events are casual and meant to be fun and instructive\, not hardcore. This class is designed to be just as fun for the cooking enthusiast who wants to be a part of every step as it is for the first-timer who’s happier observing and assisting (or taste testing). \nPlease arrive 15 minutes early to check in. You will be seated with your booking party and socially distanced from other guests. Aprons will be provided for you to use throughout class. Our venue partner\, Duckfoot Brewing will have a wonderful selection of pours waiting for you. Please note that drinks are available for purchase from the venue and are NOT included in your ticket price. Outside drinks are not available. \n 
URL:https://duckfootbeer.com/event/hand-rolled-sushi-2/
LOCATION:Duck Foot Miramar\, 8920 Kenamar Drive #210\, San Diego\, CA\, 92121\, United States
CATEGORIES:Featured,Miramar,Workshop
ATTACH;FMTTYPE=image/jpeg:https://duckfootbeer.com/wp-content/uploads/2023/09/Cooking-Class-SUSHI.jpg
END:VEVENT
BEGIN:VEVENT
DTSTART;TZID=America/Los_Angeles:20251107T173000
DTEND;TZID=America/Los_Angeles:20251107T213000
DTSTAMP:20260422T010854
CREATED:20250605T164109Z
LAST-MODIFIED:20250924T202534Z
UID:10005242-1762536600-1762551000@duckfootbeer.com
SUMMARY:MC's Kitchen
DESCRIPTION:MC’s Kitchen\, \nwhere brunch favorites and early evening specialties shine with exquisite dishes like savory goat cheese and mushroom egg soufflés and indulgent pork belly egg Benedicts. Delight in the creative fusion of flavors with options such as grilled rosemary lemon chicken and waffles\, the signature Kassie\, and hearty jambalaya over pasta\, all crafted to satisfy and impress. Round out your culinary adventure with extraordinary desserts and unique sides like pork belly chili and rosemary cornbread\, making each visit a memorable gastronomic experience.
URL:https://duckfootbeer.com/event/mcs/2025-11-07/
LOCATION:Duck Foot Miramar\, 8920 Kenamar Drive #210\, San Diego\, CA\, 92121\, United States
CATEGORIES:Food Truck,Miramar
ATTACH;FMTTYPE=image/jpeg:https://duckfootbeer.com/wp-content/uploads/2025/06/food-truck-MM-MCs-Kitchen.jpg
END:VEVENT
BEGIN:VEVENT
DTSTART;TZID=America/Los_Angeles:20251106T190000
DTEND;TZID=America/Los_Angeles:20251106T210000
DTSTAMP:20260422T010854
CREATED:20230328T045112Z
LAST-MODIFIED:20260218T014549Z
UID:10004514-1762455600-1762462800@duckfootbeer.com
SUMMARY:Leucadia Trivia Night
DESCRIPTION:Come quack up with us at our weekly Trivia Nights! Our hosts are full of feather-brained questions\, waddle with us and see who can rule the roost as the ultimate trivia champ. \nRSVP & MORE DEETS ON EVENTBRITE
URL:https://duckfootbeer.com/event/trivia-leucadia/2025-11-06/
LOCATION:Duck Foot Leucadia\, 978 N Coast Hwy 101\, Encinitas\, CA\, 92024\, United States
CATEGORIES:Leucadia,Trivia Night
ATTACH;FMTTYPE=image/jpeg:https://duckfootbeer.com/wp-content/uploads/2022/03/2023LeucadiaTrivia.jpg
END:VEVENT
BEGIN:VEVENT
DTSTART;TZID=America/Los_Angeles:20251106T180000
DTEND;TZID=America/Los_Angeles:20251106T210000
DTSTAMP:20260422T010854
CREATED:20250428T215530Z
LAST-MODIFIED:20260420T201628Z
UID:10005719-1762452000-1762462800@duckfootbeer.com
SUMMARY:La Libertad
DESCRIPTION:La Libertad Cocina Urbana\nHave you heard of Birria? If not\, then you don’t know Mexican food! Come try out some delicious homestyle mexican food to go along with our beers. Get yourself hungry by checking out their instagram.
URL:https://duckfootbeer.com/event/libertad-leucadia/2025-11-06/
LOCATION:Duck Foot Leucadia\, 978 N Coast Hwy 101\, Encinitas\, CA\, 92024\, United States
CATEGORIES:Featured,Food Truck,Leucadia
ATTACH;FMTTYPE=image/jpeg:https://duckfootbeer.com/wp-content/uploads/2025/04/Libertad-Leucadia-food-truck.jpg
END:VEVENT
BEGIN:VEVENT
DTSTART;TZID=UTC:20251106T120000
DTEND;TZID=UTC:20251106T210000
DTSTAMP:20260422T010854
CREATED:20220302T111111Z
LAST-MODIFIED:20260122T183410Z
UID:10006929-1762430400-1762462800@duckfootbeer.com
SUMMARY:Thirsty Thursdays
DESCRIPTION:Every Thursday = To-Go Fills Day.Save 20% on all crowler & growler fills\, open to close\, at Miramar and Leucadia.Stock up\, share (or don’t)\, repeat weekly.
URL:https://duckfootbeer.com/event/thirsty-thursdays/2025-11-06/
LOCATION:Duck Foot Miramar\, 8920 Kenamar Drive #210\, San Diego\, CA\, 92121\, United States
CATEGORIES:Deals,Featured,Leucadia,Miramar,Weekly
ATTACH;FMTTYPE=image/jpeg:https://duckfootbeer.com/wp-content/uploads/2022/03/IMG_2362.jpeg
END:VEVENT
BEGIN:VEVENT
DTSTART;TZID=UTC:20251105T190000
DTEND;TZID=UTC:20251105T210000
DTSTAMP:20260422T010854
CREATED:20250430T231756Z
LAST-MODIFIED:20260327T172524Z
UID:10002304-1762369200-1762376400@duckfootbeer.com
SUMMARY:Miramar Trivia Night
DESCRIPTION:Come quack up with us at our weekly Trivia Nights! Our hosts are full of feather-brained questions\, waddle with us and see who can rule the roost as the ultimate trivia champ!
URL:https://duckfootbeer.com/event/trivia-night-2/2025-11-05/
LOCATION:Duck Foot Miramar\, 8920 Kenamar Drive #210\, San Diego\, CA\, 92121\, United States
CATEGORIES:Featured,Games,Miramar,Poster,Weekly
ATTACH;FMTTYPE=image/jpeg:https://duckfootbeer.com/wp-content/uploads/2022/03/2023MiramarTrivia.jpg
END:VEVENT
BEGIN:VEVENT
DTSTART;TZID=America/Los_Angeles:20251105T190000
DTEND;TZID=America/Los_Angeles:20251105T210000
DTSTAMP:20260422T010854
CREATED:20240118T170426Z
LAST-MODIFIED:20260129T182136Z
UID:10004861-1762369200-1762376400@duckfootbeer.com
SUMMARY:Bingo Night
DESCRIPTION:Join us every Wednesday from 7-9 PM with host Adam Jara! Get ready to quack up at our Bingo Night hosted at Duck Foot Brewing Leucadia! With awesome prizes up for grabs\, this is no ordinary duck hunt – it’s a night of lucky ducky fun!
URL:https://duckfootbeer.com/event/bingo-leucadia-2/2025-11-05/
LOCATION:Duck Foot Leucadia\, 978 N Coast Hwy 101\, Encinitas\, CA\, 92024\, United States
CATEGORIES:Featured,Games,Leucadia
ATTACH;FMTTYPE=image/jpeg:https://duckfootbeer.com/wp-content/uploads/2023/03/bingo-w-leucadia.jpg
END:VEVENT
BEGIN:VEVENT
DTSTART;TZID=America/Los_Angeles:20251102T130000
DTEND;TZID=America/Los_Angeles:20251102T150000
DTSTAMP:20260422T010854
CREATED:20230925T150141Z
LAST-MODIFIED:20251001T202533Z
UID:10001400-1762088400-1762095600@duckfootbeer.com
SUMMARY:Hand Rolled Sushi Class
DESCRIPTION:Are you ready to roll up your sleeves and learn how to create your own fresh sushi rolls like a pro? You are in for a special treat! \nPurchase Tickets Here\nIn this highly interactive and hands-on class\, the Chef will let you in on tips and tricks of making delicious sushi rolls\, from preparing the perfect sushi rice\, cutting the fresh ingredients properly\, and the art of rolling. This casual and easy to follow class will surely engage all your senses! All participants will make three variations – a roll featuring Tuna or Salmon\, a California Roll\, and a “catch of the day” which will make use of fresh\, locally sourced fish and sustainable ingredients. You are invited to let your creativity flow and try rolling with seaweed both inside and out and mix and match different ingredients to develop your own unique edition. \nNo experience is required! We provide all the equipment and ingredients\, which are easy to find at local markets if you don’t already have them in your home kitchen. Our events are casual and meant to be fun and instructive\, not hardcore. This class is designed to be just as fun for the cooking enthusiast who wants to be a part of every step as it is for the first-timer who’s happier observing and assisting (or taste testing). \nPlease arrive 15 minutes early to check in. You will be seated with your booking party and socially distanced from other guests. Aprons will be provided for you to use throughout class. Our venue partner\, Duckfoot Brewing will have a wonderful selection of pours waiting for you. Please note that drinks are available for purchase from the venue and are NOT included in your ticket price. Outside drinks are not available. \n 
URL:https://duckfootbeer.com/event/hand-rolled-sushi-5/
LOCATION:Duck Foot Miramar\, 8920 Kenamar Drive #210\, San Diego\, CA\, 92121\, United States
CATEGORIES:Featured,Miramar,Workshop
ATTACH;FMTTYPE=image/jpeg:https://duckfootbeer.com/wp-content/uploads/2023/09/Cooking-Class-SUSHI.jpg
END:VEVENT
BEGIN:VEVENT
DTSTART;VALUE=DATE:20251101
DTEND;VALUE=DATE:20251201
DTSTAMP:20260422T010854
CREATED:20240829T203751Z
LAST-MODIFIED:20251022T193604Z
UID:10003575-1761955200-1764547199@duckfootbeer.com
SUMMARY:Apple Pie Slushie
DESCRIPTION:Serving up at Miramar and Leucadia \nApple Pie Slushie \nIt’s like grandma’s apple pie\, but cooler… literally. A frosty blend of apple\, cinnamon spice\, and a kick of beer that’ll have you asking\, “Is this dessert or happy hour?” Spoiler: It’s both.
URL:https://duckfootbeer.com/event/apple-pie/
CATEGORIES:Featured,Leucadia,Miramar,Slushie
ATTACH;FMTTYPE=image/jpeg:https://duckfootbeer.com/wp-content/uploads/2023/04/APPLE-PIE-SLUSHIE.jpg
END:VEVENT
BEGIN:VEVENT
DTSTART;TZID=America/Los_Angeles:20251030T190000
DTEND;TZID=America/Los_Angeles:20251030T220000
DTSTAMP:20260422T010854
CREATED:20230927T200645Z
LAST-MODIFIED:20251002T161551Z
UID:10001410-1761850800-1761861600@duckfootbeer.com
SUMMARY:Fright Foot Halloween Trivia
DESCRIPTION:Join us for our spookiest Trivia Night yet! \nThursday night\, Next Question Trivia will be hosting Fright Foot Trivia \n\nHalloween themed questions\n$50 Giftcard for Costume Content Winner\n$5 Pours of Year-Round Beers w/ Purchase of Limited Edition Fright Foot Glassware\n\n 
URL:https://duckfootbeer.com/event/fright-foot-leucadia/
LOCATION:Duck Foot Leucadia\, 978 N Coast Hwy 101\, Encinitas\, CA\, 92024\, United States
CATEGORIES:Featured,Leucadia
ATTACH;FMTTYPE=image/png:https://duckfootbeer.com/wp-content/uploads/2022/10/Halloween-Trivai.png
END:VEVENT
BEGIN:VEVENT
DTSTART;TZID=America/Los_Angeles:20251030T190000
DTEND;TZID=America/Los_Angeles:20251030T210000
DTSTAMP:20260422T010854
CREATED:20230328T045112Z
LAST-MODIFIED:20260218T014549Z
UID:10006016-1761850800-1761858000@duckfootbeer.com
SUMMARY:Leucadia Trivia Night
DESCRIPTION:Come quack up with us at our weekly Trivia Nights! Our hosts are full of feather-brained questions\, waddle with us and see who can rule the roost as the ultimate trivia champ. \nRSVP & MORE DEETS ON EVENTBRITE
URL:https://duckfootbeer.com/event/trivia-leucadia/2025-10-30/
LOCATION:Duck Foot Leucadia\, 978 N Coast Hwy 101\, Encinitas\, CA\, 92024\, United States
CATEGORIES:Leucadia,Trivia Night
ATTACH;FMTTYPE=image/jpeg:https://duckfootbeer.com/wp-content/uploads/2022/03/2023LeucadiaTrivia.jpg
END:VEVENT
BEGIN:VEVENT
DTSTART;TZID=America/Los_Angeles:20251030T180000
DTEND;TZID=America/Los_Angeles:20251030T210000
DTSTAMP:20260422T010854
CREATED:20250428T215530Z
LAST-MODIFIED:20260420T201628Z
UID:10005717-1761847200-1761858000@duckfootbeer.com
SUMMARY:La Libertad
DESCRIPTION:La Libertad Cocina Urbana\nHave you heard of Birria? If not\, then you don’t know Mexican food! Come try out some delicious homestyle mexican food to go along with our beers. Get yourself hungry by checking out their instagram.
URL:https://duckfootbeer.com/event/libertad-leucadia/2025-10-30/
LOCATION:Duck Foot Leucadia\, 978 N Coast Hwy 101\, Encinitas\, CA\, 92024\, United States
CATEGORIES:Featured,Food Truck,Leucadia
ATTACH;FMTTYPE=image/jpeg:https://duckfootbeer.com/wp-content/uploads/2025/04/Libertad-Leucadia-food-truck.jpg
END:VEVENT
BEGIN:VEVENT
DTSTART;TZID=UTC:20251030T120000
DTEND;TZID=UTC:20251030T210000
DTSTAMP:20260422T010854
CREATED:20220302T111111Z
LAST-MODIFIED:20260122T183410Z
UID:10006928-1761825600-1761858000@duckfootbeer.com
SUMMARY:Thirsty Thursdays
DESCRIPTION:Every Thursday = To-Go Fills Day.Save 20% on all crowler & growler fills\, open to close\, at Miramar and Leucadia.Stock up\, share (or don’t)\, repeat weekly.
URL:https://duckfootbeer.com/event/thirsty-thursdays/2025-10-30/
LOCATION:Duck Foot Miramar\, 8920 Kenamar Drive #210\, San Diego\, CA\, 92121\, United States
CATEGORIES:Deals,Featured,Leucadia,Miramar,Weekly
ATTACH;FMTTYPE=image/jpeg:https://duckfootbeer.com/wp-content/uploads/2022/03/IMG_2362.jpeg
END:VEVENT
BEGIN:VEVENT
DTSTART;TZID=UTC:20251029T190000
DTEND;TZID=UTC:20251029T210000
DTSTAMP:20260422T010854
CREATED:20250430T231756Z
LAST-MODIFIED:20260327T172524Z
UID:10002303-1761764400-1761771600@duckfootbeer.com
SUMMARY:Miramar Trivia Night
DESCRIPTION:Come quack up with us at our weekly Trivia Nights! Our hosts are full of feather-brained questions\, waddle with us and see who can rule the roost as the ultimate trivia champ!
URL:https://duckfootbeer.com/event/trivia-night-2/2025-10-29/
LOCATION:Duck Foot Miramar\, 8920 Kenamar Drive #210\, San Diego\, CA\, 92121\, United States
CATEGORIES:Featured,Games,Miramar,Poster,Weekly
ATTACH;FMTTYPE=image/jpeg:https://duckfootbeer.com/wp-content/uploads/2022/03/2023MiramarTrivia.jpg
END:VEVENT
BEGIN:VEVENT
DTSTART;TZID=America/Los_Angeles:20251029T190000
DTEND;TZID=America/Los_Angeles:20251029T210000
DTSTAMP:20260422T010854
CREATED:20240118T170426Z
LAST-MODIFIED:20260129T182136Z
UID:10004860-1761764400-1761771600@duckfootbeer.com
SUMMARY:Bingo Night
DESCRIPTION:Join us every Wednesday from 7-9 PM with host Adam Jara! Get ready to quack up at our Bingo Night hosted at Duck Foot Brewing Leucadia! With awesome prizes up for grabs\, this is no ordinary duck hunt – it’s a night of lucky ducky fun!
URL:https://duckfootbeer.com/event/bingo-leucadia-2/2025-10-29/
LOCATION:Duck Foot Leucadia\, 978 N Coast Hwy 101\, Encinitas\, CA\, 92024\, United States
CATEGORIES:Featured,Games,Leucadia
ATTACH;FMTTYPE=image/jpeg:https://duckfootbeer.com/wp-content/uploads/2023/03/bingo-w-leucadia.jpg
END:VEVENT
BEGIN:VEVENT
DTSTART;TZID=America/Los_Angeles:20251028T190000
DTEND;TZID=America/Los_Angeles:20251028T213000
DTSTAMP:20260422T010854
CREATED:20250819T234203Z
LAST-MODIFIED:20260327T172400Z
UID:10005266-1761678000-1761687000@duckfootbeer.com
SUMMARY:San Diego Jazz Collective - Jam Session
DESCRIPTION:Come join us for free live music\, as we welcome the San Diego Jazz Collective for a night of unrehearsed musical collaboration. This event is a great intimate experience held in our tasting room\, where musicians will cycle in and out through the night.
URL:https://duckfootbeer.com/event/jazz-jam/2025-10-28/
LOCATION:Duck Foot Miramar\, 8920 Kenamar Drive #210\, San Diego\, CA\, 92121\, United States
CATEGORIES:Featured,Miramar,Music
ATTACH;FMTTYPE=image/jpeg:https://duckfootbeer.com/wp-content/uploads/2023/01/jazznight2.jpg
END:VEVENT
BEGIN:VEVENT
DTSTART;TZID=America/Los_Angeles:20251026T130000
DTEND;TZID=America/Los_Angeles:20251026T150000
DTSTAMP:20260422T010854
CREATED:20231228T235954Z
LAST-MODIFIED:20260408T220107Z
UID:10005619-1761483600-1761490800@duckfootbeer.com
SUMMARY:Sunday Bluegrass Jam
DESCRIPTION:Join us at Duck Foot Brewing Company for a lively afternoon of bluegrass music with talented musicians from the San Diego Bluegrass Society\, Sunday 1-3PM! Sip on our delicious selection of craft beers while tapping your toes to the upbeat tunes and enjoying the company of fellow music and beer lovers.
URL:https://duckfootbeer.com/event/sunday-bluegrass-2/2025-10-26/
LOCATION:Duck Foot Miramar\, 8920 Kenamar Drive #210\, San Diego\, CA\, 92121\, United States
CATEGORIES:Featured,Miramar,Music
ATTACH;FMTTYPE=image/jpeg:https://duckfootbeer.com/wp-content/uploads/2023/02/bluegrasssunday2b.jpg
END:VEVENT
BEGIN:VEVENT
DTSTART;TZID=America/Los_Angeles:20251025T180000
DTEND;TZID=America/Los_Angeles:20251025T220000
DTSTAMP:20260422T010854
CREATED:20221006T165819Z
LAST-MODIFIED:20251002T160801Z
UID:10001120-1761415200-1761429600@duckfootbeer.com
SUMMARY:Fright Foot Halloween Party - Miramar
DESCRIPTION:Let’s get duckin’ spooky! Join us in Miramar October 25th\, for our annual Halloween Party\, Fright Foot from 6-10pm! We’ll have a live DJ all night\, a costume contest\, special glassware\, and merch for the festivities. Costumes are highly encouraged!More deets:\n\n$50 Giftcard for Costume Content Winner\n$5 Pours of Year-Round Beers w/ Purchase of Limited Edition Fright Foot Glassware\nDj Tykes all night from 6-10pm\n\n  \n  \n\n  \n 
URL:https://duckfootbeer.com/event/fright-foot-miramar/
LOCATION:Duck Foot Miramar\, 8920 Kenamar Drive #210\, San Diego\, CA\, 92121\, United States
CATEGORIES:Featured,Miramar,Music
ATTACH;FMTTYPE=image/png:https://duckfootbeer.com/wp-content/uploads/2022/10/Halloween-Miramar.png
END:VEVENT
BEGIN:VEVENT
DTSTART;TZID=America/Los_Angeles:20251023T190000
DTEND;TZID=America/Los_Angeles:20251023T210000
DTSTAMP:20260422T010854
CREATED:20230328T045112Z
LAST-MODIFIED:20260218T014549Z
UID:10004512-1761246000-1761253200@duckfootbeer.com
SUMMARY:Leucadia Trivia Night
DESCRIPTION:Come quack up with us at our weekly Trivia Nights! Our hosts are full of feather-brained questions\, waddle with us and see who can rule the roost as the ultimate trivia champ. \nRSVP & MORE DEETS ON EVENTBRITE
URL:https://duckfootbeer.com/event/trivia-leucadia/2025-10-23/
LOCATION:Duck Foot Leucadia\, 978 N Coast Hwy 101\, Encinitas\, CA\, 92024\, United States
CATEGORIES:Leucadia,Trivia Night
ATTACH;FMTTYPE=image/jpeg:https://duckfootbeer.com/wp-content/uploads/2022/03/2023LeucadiaTrivia.jpg
END:VEVENT
BEGIN:VEVENT
DTSTART;TZID=America/Los_Angeles:20251023T180000
DTEND;TZID=America/Los_Angeles:20251023T210000
DTSTAMP:20260422T010854
CREATED:20250428T215530Z
LAST-MODIFIED:20260420T201628Z
UID:10005716-1761242400-1761253200@duckfootbeer.com
SUMMARY:La Libertad
DESCRIPTION:La Libertad Cocina Urbana\nHave you heard of Birria? If not\, then you don’t know Mexican food! Come try out some delicious homestyle mexican food to go along with our beers. Get yourself hungry by checking out their instagram.
URL:https://duckfootbeer.com/event/libertad-leucadia/2025-10-23/
LOCATION:Duck Foot Leucadia\, 978 N Coast Hwy 101\, Encinitas\, CA\, 92024\, United States
CATEGORIES:Featured,Food Truck,Leucadia
ATTACH;FMTTYPE=image/jpeg:https://duckfootbeer.com/wp-content/uploads/2025/04/Libertad-Leucadia-food-truck.jpg
END:VEVENT
END:VCALENDAR