BEGIN:VCALENDAR
VERSION:2.0
PRODID:-//Duck Foot Brewing Co - ECPv6.15.12.1//NONSGML v1.0//EN
CALSCALE:GREGORIAN
METHOD:PUBLISH
X-WR-CALNAME:Duck Foot Brewing Co
X-ORIGINAL-URL:https://duckfootbeer.com
X-WR-CALDESC:Events for Duck Foot Brewing Co
REFRESH-INTERVAL;VALUE=DURATION:PT1H
X-Robots-Tag:noindex
X-PUBLISHED-TTL:PT1H
BEGIN:VTIMEZONE
TZID:America/Los_Angeles
BEGIN:DAYLIGHT
TZOFFSETFROM:-0800
TZOFFSETTO:-0700
TZNAME:PDT
DTSTART:20230312T100000
END:DAYLIGHT
BEGIN:STANDARD
TZOFFSETFROM:-0700
TZOFFSETTO:-0800
TZNAME:PST
DTSTART:20231105T090000
END:STANDARD
BEGIN:DAYLIGHT
TZOFFSETFROM:-0800
TZOFFSETTO:-0700
TZNAME:PDT
DTSTART:20240310T100000
END:DAYLIGHT
BEGIN:STANDARD
TZOFFSETFROM:-0700
TZOFFSETTO:-0800
TZNAME:PST
DTSTART:20241103T090000
END:STANDARD
BEGIN:DAYLIGHT
TZOFFSETFROM:-0800
TZOFFSETTO:-0700
TZNAME:PDT
DTSTART:20250309T100000
END:DAYLIGHT
BEGIN:STANDARD
TZOFFSETFROM:-0700
TZOFFSETTO:-0800
TZNAME:PST
DTSTART:20251102T090000
END:STANDARD
END:VTIMEZONE
BEGIN:VEVENT
DTSTART;TZID=America/Los_Angeles:20240316T190000
DTEND;TZID=America/Los_Angeles:20240316T210000
DTSTAMP:20260422T012011
CREATED:20220706T033318Z
LAST-MODIFIED:20240215T005026Z
UID:4880-1710615600-1710622800@duckfootbeer.com
SUMMARY:HOOD - Phish Cover Band
DESCRIPTION:Come enjoy us for a free show.\nIf you are not on tour and still looking to share in the groove come hang with some friends and enjoy some good tunes\, vibes and beer.
URL:https://duckfootbeer.com/event/hood-phish-cover-band/
LOCATION:Duck Foot Miramar\, 8920 Kenamar Drive #210\, San Diego\, CA\, 92121\, United States
CATEGORIES:Featured,Miramar,Music
ATTACH;FMTTYPE=image/jpeg:https://duckfootbeer.com/wp-content/uploads/2022/07/hoodphish1x1.jpg
END:VEVENT
END:VCALENDAR