BEGIN:VCALENDAR
VERSION:2.0
PRODID:-//Duck Foot Brewing Co - ECPv6.15.12.1//NONSGML v1.0//EN
CALSCALE:GREGORIAN
METHOD:PUBLISH
X-WR-CALNAME:Duck Foot Brewing Co
X-ORIGINAL-URL:https://duckfootbeer.com
X-WR-CALDESC:Events for Duck Foot Brewing Co
REFRESH-INTERVAL;VALUE=DURATION:PT1H
X-Robots-Tag:noindex
X-PUBLISHED-TTL:PT1H
BEGIN:VTIMEZONE
TZID:America/Los_Angeles
BEGIN:DAYLIGHT
TZOFFSETFROM:-0800
TZOFFSETTO:-0700
TZNAME:PDT
DTSTART:20280312T100000
END:DAYLIGHT
BEGIN:STANDARD
TZOFFSETFROM:-0700
TZOFFSETTO:-0800
TZNAME:PST
DTSTART:20281105T090000
END:STANDARD
BEGIN:DAYLIGHT
TZOFFSETFROM:-0800
TZOFFSETTO:-0700
TZNAME:PDT
DTSTART:20290311T100000
END:DAYLIGHT
BEGIN:STANDARD
TZOFFSETFROM:-0700
TZOFFSETTO:-0800
TZNAME:PST
DTSTART:20291104T090000
END:STANDARD
BEGIN:DAYLIGHT
TZOFFSETFROM:-0800
TZOFFSETTO:-0700
TZNAME:PDT
DTSTART:20300310T100000
END:DAYLIGHT
BEGIN:STANDARD
TZOFFSETFROM:-0700
TZOFFSETTO:-0800
TZNAME:PST
DTSTART:20301103T090000
END:STANDARD
BEGIN:DAYLIGHT
TZOFFSETFROM:-0800
TZOFFSETTO:-0700
TZNAME:PDT
DTSTART:20310309T100000
END:DAYLIGHT
BEGIN:STANDARD
TZOFFSETFROM:-0700
TZOFFSETTO:-0800
TZNAME:PST
DTSTART:20311102T090000
END:STANDARD
END:VTIMEZONE
BEGIN:VEVENT
DTSTART;TZID=America/Los_Angeles:20291008T183000
DTEND;TZID=America/Los_Angeles:20291008T210000
DTSTAMP:20260425T084058
CREATED:20230331T020406Z
LAST-MODIFIED:20251218T003039Z
UID:10006167-1886178600-1886187600@duckfootbeer.com
SUMMARY:Monday Bluegrass Jam
DESCRIPTION:The San Diego Bluegrass Society is excited to bring you a monthly evening bluegrass jam and indoor open mic at Duck Foot Brewing on the second Monday of the month\, from 6:30 pm until 9:00 pm. Acoustic musicians and listeners alike are invited.
URL:https://duckfootbeer.com/event/bluegrass-monday/2029-10-08/
LOCATION:Duck Foot Miramar\, 8920 Kenamar Drive #210\, San Diego\, CA\, 92121\, United States
CATEGORIES:Miramar,Music
ATTACH;FMTTYPE=image/jpeg:https://duckfootbeer.com/wp-content/uploads/2023/03/bluegrassmonday.jpg
END:VEVENT
BEGIN:VEVENT
DTSTART;TZID=America/Los_Angeles:20291015T183000
DTEND;TZID=America/Los_Angeles:20291015T203000
DTSTAMP:20260425T084058
CREATED:20241220T173449Z
LAST-MODIFIED:20251218T003229Z
UID:10006226-1886783400-1886790600@duckfootbeer.com
SUMMARY:Monday Bluegrass Jam - Leucadia
DESCRIPTION:The North Country Bluegrass & Folk Club is excited to announce a monthly evening bluegrass jam and indoor open mic at Duck Foot Leucadia on Monday\, from 6:30 pm until 8:30. Acoustic musicians and listeners alike are invited.
URL:https://duckfootbeer.com/event/bluegrass-monday-ltr-2/2029-10-15/
LOCATION:Duck Foot Leucadia\, 978 N Coast Hwy 101\, Encinitas\, CA\, 92024\, United States
CATEGORIES:Featured,Leucadia,Music
ATTACH;FMTTYPE=image/jpeg:https://duckfootbeer.com/wp-content/uploads/2024/02/Bluegrass-Monday-Luecadia-1000.jpg
END:VEVENT
BEGIN:VEVENT
DTSTART;TZID=America/Los_Angeles:20291112T183000
DTEND;TZID=America/Los_Angeles:20291112T210000
DTSTAMP:20260425T084058
CREATED:20230331T020406Z
LAST-MODIFIED:20251218T003039Z
UID:10006168-1889202600-1889211600@duckfootbeer.com
SUMMARY:Monday Bluegrass Jam
DESCRIPTION:The San Diego Bluegrass Society is excited to bring you a monthly evening bluegrass jam and indoor open mic at Duck Foot Brewing on the second Monday of the month\, from 6:30 pm until 9:00 pm. Acoustic musicians and listeners alike are invited.
URL:https://duckfootbeer.com/event/bluegrass-monday/2029-11-12/
LOCATION:Duck Foot Miramar\, 8920 Kenamar Drive #210\, San Diego\, CA\, 92121\, United States
CATEGORIES:Miramar,Music
ATTACH;FMTTYPE=image/jpeg:https://duckfootbeer.com/wp-content/uploads/2023/03/bluegrassmonday.jpg
END:VEVENT
BEGIN:VEVENT
DTSTART;TZID=America/Los_Angeles:20291119T183000
DTEND;TZID=America/Los_Angeles:20291119T203000
DTSTAMP:20260425T084058
CREATED:20241220T173449Z
LAST-MODIFIED:20251218T003229Z
UID:10006227-1889807400-1889814600@duckfootbeer.com
SUMMARY:Monday Bluegrass Jam - Leucadia
DESCRIPTION:The North Country Bluegrass & Folk Club is excited to announce a monthly evening bluegrass jam and indoor open mic at Duck Foot Leucadia on Monday\, from 6:30 pm until 8:30. Acoustic musicians and listeners alike are invited.
URL:https://duckfootbeer.com/event/bluegrass-monday-ltr-2/2029-11-19/
LOCATION:Duck Foot Leucadia\, 978 N Coast Hwy 101\, Encinitas\, CA\, 92024\, United States
CATEGORIES:Featured,Leucadia,Music
ATTACH;FMTTYPE=image/jpeg:https://duckfootbeer.com/wp-content/uploads/2024/02/Bluegrass-Monday-Luecadia-1000.jpg
END:VEVENT
BEGIN:VEVENT
DTSTART;TZID=America/Los_Angeles:20291210T183000
DTEND;TZID=America/Los_Angeles:20291210T210000
DTSTAMP:20260425T084058
CREATED:20230331T020406Z
LAST-MODIFIED:20251218T003039Z
UID:10006169-1891621800-1891630800@duckfootbeer.com
SUMMARY:Monday Bluegrass Jam
DESCRIPTION:The San Diego Bluegrass Society is excited to bring you a monthly evening bluegrass jam and indoor open mic at Duck Foot Brewing on the second Monday of the month\, from 6:30 pm until 9:00 pm. Acoustic musicians and listeners alike are invited.
URL:https://duckfootbeer.com/event/bluegrass-monday/2029-12-10/
LOCATION:Duck Foot Miramar\, 8920 Kenamar Drive #210\, San Diego\, CA\, 92121\, United States
CATEGORIES:Miramar,Music
ATTACH;FMTTYPE=image/jpeg:https://duckfootbeer.com/wp-content/uploads/2023/03/bluegrassmonday.jpg
END:VEVENT
BEGIN:VEVENT
DTSTART;TZID=America/Los_Angeles:20291217T183000
DTEND;TZID=America/Los_Angeles:20291217T203000
DTSTAMP:20260425T084058
CREATED:20241220T173449Z
LAST-MODIFIED:20251218T003229Z
UID:10006228-1892226600-1892233800@duckfootbeer.com
SUMMARY:Monday Bluegrass Jam - Leucadia
DESCRIPTION:The North Country Bluegrass & Folk Club is excited to announce a monthly evening bluegrass jam and indoor open mic at Duck Foot Leucadia on Monday\, from 6:30 pm until 8:30. Acoustic musicians and listeners alike are invited.
URL:https://duckfootbeer.com/event/bluegrass-monday-ltr-2/2029-12-17/
LOCATION:Duck Foot Leucadia\, 978 N Coast Hwy 101\, Encinitas\, CA\, 92024\, United States
CATEGORIES:Featured,Leucadia,Music
ATTACH;FMTTYPE=image/jpeg:https://duckfootbeer.com/wp-content/uploads/2024/02/Bluegrass-Monday-Luecadia-1000.jpg
END:VEVENT
BEGIN:VEVENT
DTSTART;TZID=America/Los_Angeles:20300114T183000
DTEND;TZID=America/Los_Angeles:20300114T210000
DTSTAMP:20260425T084058
CREATED:20230331T020406Z
LAST-MODIFIED:20251218T003039Z
UID:10006170-1894645800-1894654800@duckfootbeer.com
SUMMARY:Monday Bluegrass Jam
DESCRIPTION:The San Diego Bluegrass Society is excited to bring you a monthly evening bluegrass jam and indoor open mic at Duck Foot Brewing on the second Monday of the month\, from 6:30 pm until 9:00 pm. Acoustic musicians and listeners alike are invited.
URL:https://duckfootbeer.com/event/bluegrass-monday/2030-01-14/
LOCATION:Duck Foot Miramar\, 8920 Kenamar Drive #210\, San Diego\, CA\, 92121\, United States
CATEGORIES:Miramar,Music
ATTACH;FMTTYPE=image/jpeg:https://duckfootbeer.com/wp-content/uploads/2023/03/bluegrassmonday.jpg
END:VEVENT
BEGIN:VEVENT
DTSTART;TZID=America/Los_Angeles:20300121T183000
DTEND;TZID=America/Los_Angeles:20300121T203000
DTSTAMP:20260425T084058
CREATED:20241220T173449Z
LAST-MODIFIED:20251218T003229Z
UID:10006229-1895250600-1895257800@duckfootbeer.com
SUMMARY:Monday Bluegrass Jam - Leucadia
DESCRIPTION:The North Country Bluegrass & Folk Club is excited to announce a monthly evening bluegrass jam and indoor open mic at Duck Foot Leucadia on Monday\, from 6:30 pm until 8:30. Acoustic musicians and listeners alike are invited.
URL:https://duckfootbeer.com/event/bluegrass-monday-ltr-2/2030-01-21/
LOCATION:Duck Foot Leucadia\, 978 N Coast Hwy 101\, Encinitas\, CA\, 92024\, United States
CATEGORIES:Featured,Leucadia,Music
ATTACH;FMTTYPE=image/jpeg:https://duckfootbeer.com/wp-content/uploads/2024/02/Bluegrass-Monday-Luecadia-1000.jpg
END:VEVENT
BEGIN:VEVENT
DTSTART;TZID=America/Los_Angeles:20300211T183000
DTEND;TZID=America/Los_Angeles:20300211T210000
DTSTAMP:20260425T084058
CREATED:20230331T020406Z
LAST-MODIFIED:20251218T003039Z
UID:10006171-1897065000-1897074000@duckfootbeer.com
SUMMARY:Monday Bluegrass Jam
DESCRIPTION:The San Diego Bluegrass Society is excited to bring you a monthly evening bluegrass jam and indoor open mic at Duck Foot Brewing on the second Monday of the month\, from 6:30 pm until 9:00 pm. Acoustic musicians and listeners alike are invited.
URL:https://duckfootbeer.com/event/bluegrass-monday/2030-02-11/
LOCATION:Duck Foot Miramar\, 8920 Kenamar Drive #210\, San Diego\, CA\, 92121\, United States
CATEGORIES:Miramar,Music
ATTACH;FMTTYPE=image/jpeg:https://duckfootbeer.com/wp-content/uploads/2023/03/bluegrassmonday.jpg
END:VEVENT
BEGIN:VEVENT
DTSTART;TZID=America/Los_Angeles:20300218T183000
DTEND;TZID=America/Los_Angeles:20300218T203000
DTSTAMP:20260425T084058
CREATED:20241220T173449Z
LAST-MODIFIED:20251218T003229Z
UID:10006230-1897669800-1897677000@duckfootbeer.com
SUMMARY:Monday Bluegrass Jam - Leucadia
DESCRIPTION:The North Country Bluegrass & Folk Club is excited to announce a monthly evening bluegrass jam and indoor open mic at Duck Foot Leucadia on Monday\, from 6:30 pm until 8:30. Acoustic musicians and listeners alike are invited.
URL:https://duckfootbeer.com/event/bluegrass-monday-ltr-2/2030-02-18/
LOCATION:Duck Foot Leucadia\, 978 N Coast Hwy 101\, Encinitas\, CA\, 92024\, United States
CATEGORIES:Featured,Leucadia,Music
ATTACH;FMTTYPE=image/jpeg:https://duckfootbeer.com/wp-content/uploads/2024/02/Bluegrass-Monday-Luecadia-1000.jpg
END:VEVENT
BEGIN:VEVENT
DTSTART;TZID=America/Los_Angeles:20300311T183000
DTEND;TZID=America/Los_Angeles:20300311T210000
DTSTAMP:20260425T084058
CREATED:20230331T020406Z
LAST-MODIFIED:20251218T003039Z
UID:10006172-1899484200-1899493200@duckfootbeer.com
SUMMARY:Monday Bluegrass Jam
DESCRIPTION:The San Diego Bluegrass Society is excited to bring you a monthly evening bluegrass jam and indoor open mic at Duck Foot Brewing on the second Monday of the month\, from 6:30 pm until 9:00 pm. Acoustic musicians and listeners alike are invited.
URL:https://duckfootbeer.com/event/bluegrass-monday/2030-03-11/
LOCATION:Duck Foot Miramar\, 8920 Kenamar Drive #210\, San Diego\, CA\, 92121\, United States
CATEGORIES:Miramar,Music
ATTACH;FMTTYPE=image/jpeg:https://duckfootbeer.com/wp-content/uploads/2023/03/bluegrassmonday.jpg
END:VEVENT
BEGIN:VEVENT
DTSTART;TZID=America/Los_Angeles:20300318T183000
DTEND;TZID=America/Los_Angeles:20300318T203000
DTSTAMP:20260425T084058
CREATED:20241220T173449Z
LAST-MODIFIED:20251218T003229Z
UID:10006231-1900089000-1900096200@duckfootbeer.com
SUMMARY:Monday Bluegrass Jam - Leucadia
DESCRIPTION:The North Country Bluegrass & Folk Club is excited to announce a monthly evening bluegrass jam and indoor open mic at Duck Foot Leucadia on Monday\, from 6:30 pm until 8:30. Acoustic musicians and listeners alike are invited.
URL:https://duckfootbeer.com/event/bluegrass-monday-ltr-2/2030-03-18/
LOCATION:Duck Foot Leucadia\, 978 N Coast Hwy 101\, Encinitas\, CA\, 92024\, United States
CATEGORIES:Featured,Leucadia,Music
ATTACH;FMTTYPE=image/jpeg:https://duckfootbeer.com/wp-content/uploads/2024/02/Bluegrass-Monday-Luecadia-1000.jpg
END:VEVENT
BEGIN:VEVENT
DTSTART;TZID=America/Los_Angeles:20300408T183000
DTEND;TZID=America/Los_Angeles:20300408T210000
DTSTAMP:20260425T084058
CREATED:20230331T020406Z
LAST-MODIFIED:20251218T003039Z
UID:10006173-1901903400-1901912400@duckfootbeer.com
SUMMARY:Monday Bluegrass Jam
DESCRIPTION:The San Diego Bluegrass Society is excited to bring you a monthly evening bluegrass jam and indoor open mic at Duck Foot Brewing on the second Monday of the month\, from 6:30 pm until 9:00 pm. Acoustic musicians and listeners alike are invited.
URL:https://duckfootbeer.com/event/bluegrass-monday/2030-04-08/
LOCATION:Duck Foot Miramar\, 8920 Kenamar Drive #210\, San Diego\, CA\, 92121\, United States
CATEGORIES:Miramar,Music
ATTACH;FMTTYPE=image/jpeg:https://duckfootbeer.com/wp-content/uploads/2023/03/bluegrassmonday.jpg
END:VEVENT
BEGIN:VEVENT
DTSTART;TZID=America/Los_Angeles:20300415T183000
DTEND;TZID=America/Los_Angeles:20300415T203000
DTSTAMP:20260425T084058
CREATED:20241220T173449Z
LAST-MODIFIED:20251218T003229Z
UID:10006232-1902508200-1902515400@duckfootbeer.com
SUMMARY:Monday Bluegrass Jam - Leucadia
DESCRIPTION:The North Country Bluegrass & Folk Club is excited to announce a monthly evening bluegrass jam and indoor open mic at Duck Foot Leucadia on Monday\, from 6:30 pm until 8:30. Acoustic musicians and listeners alike are invited.
URL:https://duckfootbeer.com/event/bluegrass-monday-ltr-2/2030-04-15/
LOCATION:Duck Foot Leucadia\, 978 N Coast Hwy 101\, Encinitas\, CA\, 92024\, United States
CATEGORIES:Featured,Leucadia,Music
ATTACH;FMTTYPE=image/jpeg:https://duckfootbeer.com/wp-content/uploads/2024/02/Bluegrass-Monday-Luecadia-1000.jpg
END:VEVENT
BEGIN:VEVENT
DTSTART;TZID=America/Los_Angeles:20300513T183000
DTEND;TZID=America/Los_Angeles:20300513T210000
DTSTAMP:20260425T084058
CREATED:20230331T020406Z
LAST-MODIFIED:20251218T003039Z
UID:10006174-1904927400-1904936400@duckfootbeer.com
SUMMARY:Monday Bluegrass Jam
DESCRIPTION:The San Diego Bluegrass Society is excited to bring you a monthly evening bluegrass jam and indoor open mic at Duck Foot Brewing on the second Monday of the month\, from 6:30 pm until 9:00 pm. Acoustic musicians and listeners alike are invited.
URL:https://duckfootbeer.com/event/bluegrass-monday/2030-05-13/
LOCATION:Duck Foot Miramar\, 8920 Kenamar Drive #210\, San Diego\, CA\, 92121\, United States
CATEGORIES:Miramar,Music
ATTACH;FMTTYPE=image/jpeg:https://duckfootbeer.com/wp-content/uploads/2023/03/bluegrassmonday.jpg
END:VEVENT
BEGIN:VEVENT
DTSTART;TZID=America/Los_Angeles:20300520T183000
DTEND;TZID=America/Los_Angeles:20300520T203000
DTSTAMP:20260425T084058
CREATED:20241220T173449Z
LAST-MODIFIED:20251218T003229Z
UID:10006233-1905532200-1905539400@duckfootbeer.com
SUMMARY:Monday Bluegrass Jam - Leucadia
DESCRIPTION:The North Country Bluegrass & Folk Club is excited to announce a monthly evening bluegrass jam and indoor open mic at Duck Foot Leucadia on Monday\, from 6:30 pm until 8:30. Acoustic musicians and listeners alike are invited.
URL:https://duckfootbeer.com/event/bluegrass-monday-ltr-2/2030-05-20/
LOCATION:Duck Foot Leucadia\, 978 N Coast Hwy 101\, Encinitas\, CA\, 92024\, United States
CATEGORIES:Featured,Leucadia,Music
ATTACH;FMTTYPE=image/jpeg:https://duckfootbeer.com/wp-content/uploads/2024/02/Bluegrass-Monday-Luecadia-1000.jpg
END:VEVENT
BEGIN:VEVENT
DTSTART;TZID=America/Los_Angeles:20300610T183000
DTEND;TZID=America/Los_Angeles:20300610T210000
DTSTAMP:20260425T084058
CREATED:20230331T020406Z
LAST-MODIFIED:20251218T003039Z
UID:10006175-1907346600-1907355600@duckfootbeer.com
SUMMARY:Monday Bluegrass Jam
DESCRIPTION:The San Diego Bluegrass Society is excited to bring you a monthly evening bluegrass jam and indoor open mic at Duck Foot Brewing on the second Monday of the month\, from 6:30 pm until 9:00 pm. Acoustic musicians and listeners alike are invited.
URL:https://duckfootbeer.com/event/bluegrass-monday/2030-06-10/
LOCATION:Duck Foot Miramar\, 8920 Kenamar Drive #210\, San Diego\, CA\, 92121\, United States
CATEGORIES:Miramar,Music
ATTACH;FMTTYPE=image/jpeg:https://duckfootbeer.com/wp-content/uploads/2023/03/bluegrassmonday.jpg
END:VEVENT
BEGIN:VEVENT
DTSTART;TZID=America/Los_Angeles:20300617T183000
DTEND;TZID=America/Los_Angeles:20300617T203000
DTSTAMP:20260425T084058
CREATED:20241220T173449Z
LAST-MODIFIED:20251218T003229Z
UID:10006234-1907951400-1907958600@duckfootbeer.com
SUMMARY:Monday Bluegrass Jam - Leucadia
DESCRIPTION:The North Country Bluegrass & Folk Club is excited to announce a monthly evening bluegrass jam and indoor open mic at Duck Foot Leucadia on Monday\, from 6:30 pm until 8:30. Acoustic musicians and listeners alike are invited.
URL:https://duckfootbeer.com/event/bluegrass-monday-ltr-2/2030-06-17/
LOCATION:Duck Foot Leucadia\, 978 N Coast Hwy 101\, Encinitas\, CA\, 92024\, United States
CATEGORIES:Featured,Leucadia,Music
ATTACH;FMTTYPE=image/jpeg:https://duckfootbeer.com/wp-content/uploads/2024/02/Bluegrass-Monday-Luecadia-1000.jpg
END:VEVENT
BEGIN:VEVENT
DTSTART;TZID=America/Los_Angeles:20300708T183000
DTEND;TZID=America/Los_Angeles:20300708T210000
DTSTAMP:20260425T084058
CREATED:20230331T020406Z
LAST-MODIFIED:20251218T003039Z
UID:10006176-1909765800-1909774800@duckfootbeer.com
SUMMARY:Monday Bluegrass Jam
DESCRIPTION:The San Diego Bluegrass Society is excited to bring you a monthly evening bluegrass jam and indoor open mic at Duck Foot Brewing on the second Monday of the month\, from 6:30 pm until 9:00 pm. Acoustic musicians and listeners alike are invited.
URL:https://duckfootbeer.com/event/bluegrass-monday/2030-07-08/
LOCATION:Duck Foot Miramar\, 8920 Kenamar Drive #210\, San Diego\, CA\, 92121\, United States
CATEGORIES:Miramar,Music
ATTACH;FMTTYPE=image/jpeg:https://duckfootbeer.com/wp-content/uploads/2023/03/bluegrassmonday.jpg
END:VEVENT
BEGIN:VEVENT
DTSTART;TZID=America/Los_Angeles:20300715T183000
DTEND;TZID=America/Los_Angeles:20300715T203000
DTSTAMP:20260425T084058
CREATED:20241220T173449Z
LAST-MODIFIED:20251218T003229Z
UID:10006235-1910370600-1910377800@duckfootbeer.com
SUMMARY:Monday Bluegrass Jam - Leucadia
DESCRIPTION:The North Country Bluegrass & Folk Club is excited to announce a monthly evening bluegrass jam and indoor open mic at Duck Foot Leucadia on Monday\, from 6:30 pm until 8:30. Acoustic musicians and listeners alike are invited.
URL:https://duckfootbeer.com/event/bluegrass-monday-ltr-2/2030-07-15/
LOCATION:Duck Foot Leucadia\, 978 N Coast Hwy 101\, Encinitas\, CA\, 92024\, United States
CATEGORIES:Featured,Leucadia,Music
ATTACH;FMTTYPE=image/jpeg:https://duckfootbeer.com/wp-content/uploads/2024/02/Bluegrass-Monday-Luecadia-1000.jpg
END:VEVENT
BEGIN:VEVENT
DTSTART;TZID=America/Los_Angeles:20300812T183000
DTEND;TZID=America/Los_Angeles:20300812T210000
DTSTAMP:20260425T084058
CREATED:20230331T020406Z
LAST-MODIFIED:20251218T003039Z
UID:10006177-1912789800-1912798800@duckfootbeer.com
SUMMARY:Monday Bluegrass Jam
DESCRIPTION:The San Diego Bluegrass Society is excited to bring you a monthly evening bluegrass jam and indoor open mic at Duck Foot Brewing on the second Monday of the month\, from 6:30 pm until 9:00 pm. Acoustic musicians and listeners alike are invited.
URL:https://duckfootbeer.com/event/bluegrass-monday/2030-08-12/
LOCATION:Duck Foot Miramar\, 8920 Kenamar Drive #210\, San Diego\, CA\, 92121\, United States
CATEGORIES:Miramar,Music
ATTACH;FMTTYPE=image/jpeg:https://duckfootbeer.com/wp-content/uploads/2023/03/bluegrassmonday.jpg
END:VEVENT
BEGIN:VEVENT
DTSTART;TZID=America/Los_Angeles:20300819T183000
DTEND;TZID=America/Los_Angeles:20300819T203000
DTSTAMP:20260425T084058
CREATED:20241220T173449Z
LAST-MODIFIED:20251218T003229Z
UID:10006236-1913394600-1913401800@duckfootbeer.com
SUMMARY:Monday Bluegrass Jam - Leucadia
DESCRIPTION:The North Country Bluegrass & Folk Club is excited to announce a monthly evening bluegrass jam and indoor open mic at Duck Foot Leucadia on Monday\, from 6:30 pm until 8:30. Acoustic musicians and listeners alike are invited.
URL:https://duckfootbeer.com/event/bluegrass-monday-ltr-2/2030-08-19/
LOCATION:Duck Foot Leucadia\, 978 N Coast Hwy 101\, Encinitas\, CA\, 92024\, United States
CATEGORIES:Featured,Leucadia,Music
ATTACH;FMTTYPE=image/jpeg:https://duckfootbeer.com/wp-content/uploads/2024/02/Bluegrass-Monday-Luecadia-1000.jpg
END:VEVENT
BEGIN:VEVENT
DTSTART;TZID=America/Los_Angeles:20300909T183000
DTEND;TZID=America/Los_Angeles:20300909T210000
DTSTAMP:20260425T084058
CREATED:20230331T020406Z
LAST-MODIFIED:20251218T003039Z
UID:10006178-1915209000-1915218000@duckfootbeer.com
SUMMARY:Monday Bluegrass Jam
DESCRIPTION:The San Diego Bluegrass Society is excited to bring you a monthly evening bluegrass jam and indoor open mic at Duck Foot Brewing on the second Monday of the month\, from 6:30 pm until 9:00 pm. Acoustic musicians and listeners alike are invited.
URL:https://duckfootbeer.com/event/bluegrass-monday/2030-09-09/
LOCATION:Duck Foot Miramar\, 8920 Kenamar Drive #210\, San Diego\, CA\, 92121\, United States
CATEGORIES:Miramar,Music
ATTACH;FMTTYPE=image/jpeg:https://duckfootbeer.com/wp-content/uploads/2023/03/bluegrassmonday.jpg
END:VEVENT
BEGIN:VEVENT
DTSTART;TZID=America/Los_Angeles:20300916T183000
DTEND;TZID=America/Los_Angeles:20300916T203000
DTSTAMP:20260425T084058
CREATED:20241220T173449Z
LAST-MODIFIED:20251218T003229Z
UID:10006237-1915813800-1915821000@duckfootbeer.com
SUMMARY:Monday Bluegrass Jam - Leucadia
DESCRIPTION:The North Country Bluegrass & Folk Club is excited to announce a monthly evening bluegrass jam and indoor open mic at Duck Foot Leucadia on Monday\, from 6:30 pm until 8:30. Acoustic musicians and listeners alike are invited.
URL:https://duckfootbeer.com/event/bluegrass-monday-ltr-2/2030-09-16/
LOCATION:Duck Foot Leucadia\, 978 N Coast Hwy 101\, Encinitas\, CA\, 92024\, United States
CATEGORIES:Featured,Leucadia,Music
ATTACH;FMTTYPE=image/jpeg:https://duckfootbeer.com/wp-content/uploads/2024/02/Bluegrass-Monday-Luecadia-1000.jpg
END:VEVENT
BEGIN:VEVENT
DTSTART;TZID=America/Los_Angeles:20301014T183000
DTEND;TZID=America/Los_Angeles:20301014T210000
DTSTAMP:20260425T084058
CREATED:20230331T020406Z
LAST-MODIFIED:20251218T003039Z
UID:10006179-1918233000-1918242000@duckfootbeer.com
SUMMARY:Monday Bluegrass Jam
DESCRIPTION:The San Diego Bluegrass Society is excited to bring you a monthly evening bluegrass jam and indoor open mic at Duck Foot Brewing on the second Monday of the month\, from 6:30 pm until 9:00 pm. Acoustic musicians and listeners alike are invited.
URL:https://duckfootbeer.com/event/bluegrass-monday/2030-10-14/
LOCATION:Duck Foot Miramar\, 8920 Kenamar Drive #210\, San Diego\, CA\, 92121\, United States
CATEGORIES:Miramar,Music
ATTACH;FMTTYPE=image/jpeg:https://duckfootbeer.com/wp-content/uploads/2023/03/bluegrassmonday.jpg
END:VEVENT
BEGIN:VEVENT
DTSTART;TZID=America/Los_Angeles:20301021T183000
DTEND;TZID=America/Los_Angeles:20301021T203000
DTSTAMP:20260425T084058
CREATED:20241220T173449Z
LAST-MODIFIED:20251218T003229Z
UID:10006238-1918837800-1918845000@duckfootbeer.com
SUMMARY:Monday Bluegrass Jam - Leucadia
DESCRIPTION:The North Country Bluegrass & Folk Club is excited to announce a monthly evening bluegrass jam and indoor open mic at Duck Foot Leucadia on Monday\, from 6:30 pm until 8:30. Acoustic musicians and listeners alike are invited.
URL:https://duckfootbeer.com/event/bluegrass-monday-ltr-2/2030-10-21/
LOCATION:Duck Foot Leucadia\, 978 N Coast Hwy 101\, Encinitas\, CA\, 92024\, United States
CATEGORIES:Featured,Leucadia,Music
ATTACH;FMTTYPE=image/jpeg:https://duckfootbeer.com/wp-content/uploads/2024/02/Bluegrass-Monday-Luecadia-1000.jpg
END:VEVENT
BEGIN:VEVENT
DTSTART;TZID=America/Los_Angeles:20301111T183000
DTEND;TZID=America/Los_Angeles:20301111T210000
DTSTAMP:20260425T084058
CREATED:20230331T020406Z
LAST-MODIFIED:20251218T003039Z
UID:10006180-1920652200-1920661200@duckfootbeer.com
SUMMARY:Monday Bluegrass Jam
DESCRIPTION:The San Diego Bluegrass Society is excited to bring you a monthly evening bluegrass jam and indoor open mic at Duck Foot Brewing on the second Monday of the month\, from 6:30 pm until 9:00 pm. Acoustic musicians and listeners alike are invited.
URL:https://duckfootbeer.com/event/bluegrass-monday/2030-11-11/
LOCATION:Duck Foot Miramar\, 8920 Kenamar Drive #210\, San Diego\, CA\, 92121\, United States
CATEGORIES:Miramar,Music
ATTACH;FMTTYPE=image/jpeg:https://duckfootbeer.com/wp-content/uploads/2023/03/bluegrassmonday.jpg
END:VEVENT
BEGIN:VEVENT
DTSTART;TZID=America/Los_Angeles:20301118T183000
DTEND;TZID=America/Los_Angeles:20301118T203000
DTSTAMP:20260425T084058
CREATED:20241220T173449Z
LAST-MODIFIED:20251218T003229Z
UID:10006239-1921257000-1921264200@duckfootbeer.com
SUMMARY:Monday Bluegrass Jam - Leucadia
DESCRIPTION:The North Country Bluegrass & Folk Club is excited to announce a monthly evening bluegrass jam and indoor open mic at Duck Foot Leucadia on Monday\, from 6:30 pm until 8:30. Acoustic musicians and listeners alike are invited.
URL:https://duckfootbeer.com/event/bluegrass-monday-ltr-2/2030-11-18/
LOCATION:Duck Foot Leucadia\, 978 N Coast Hwy 101\, Encinitas\, CA\, 92024\, United States
CATEGORIES:Featured,Leucadia,Music
ATTACH;FMTTYPE=image/jpeg:https://duckfootbeer.com/wp-content/uploads/2024/02/Bluegrass-Monday-Luecadia-1000.jpg
END:VEVENT
BEGIN:VEVENT
DTSTART;TZID=America/Los_Angeles:20301209T183000
DTEND;TZID=America/Los_Angeles:20301209T210000
DTSTAMP:20260425T084058
CREATED:20230331T020406Z
LAST-MODIFIED:20251218T003039Z
UID:10006181-1923071400-1923080400@duckfootbeer.com
SUMMARY:Monday Bluegrass Jam
DESCRIPTION:The San Diego Bluegrass Society is excited to bring you a monthly evening bluegrass jam and indoor open mic at Duck Foot Brewing on the second Monday of the month\, from 6:30 pm until 9:00 pm. Acoustic musicians and listeners alike are invited.
URL:https://duckfootbeer.com/event/bluegrass-monday/2030-12-09/
LOCATION:Duck Foot Miramar\, 8920 Kenamar Drive #210\, San Diego\, CA\, 92121\, United States
CATEGORIES:Miramar,Music
ATTACH;FMTTYPE=image/jpeg:https://duckfootbeer.com/wp-content/uploads/2023/03/bluegrassmonday.jpg
END:VEVENT
BEGIN:VEVENT
DTSTART;TZID=America/Los_Angeles:20301216T183000
DTEND;TZID=America/Los_Angeles:20301216T203000
DTSTAMP:20260425T084058
CREATED:20241220T173449Z
LAST-MODIFIED:20251218T003229Z
UID:10006240-1923676200-1923683400@duckfootbeer.com
SUMMARY:Monday Bluegrass Jam - Leucadia
DESCRIPTION:The North Country Bluegrass & Folk Club is excited to announce a monthly evening bluegrass jam and indoor open mic at Duck Foot Leucadia on Monday\, from 6:30 pm until 8:30. Acoustic musicians and listeners alike are invited.
URL:https://duckfootbeer.com/event/bluegrass-monday-ltr-2/2030-12-16/
LOCATION:Duck Foot Leucadia\, 978 N Coast Hwy 101\, Encinitas\, CA\, 92024\, United States
CATEGORIES:Featured,Leucadia,Music
ATTACH;FMTTYPE=image/jpeg:https://duckfootbeer.com/wp-content/uploads/2024/02/Bluegrass-Monday-Luecadia-1000.jpg
END:VEVENT
END:VCALENDAR