BEGIN:VCALENDAR
VERSION:2.0
PRODID:-//Duck Foot Brewing Co - ECPv6.15.12.1//NONSGML v1.0//EN
CALSCALE:GREGORIAN
METHOD:PUBLISH
X-WR-CALNAME:Duck Foot Brewing Co
X-ORIGINAL-URL:https://duckfootbeer.com
X-WR-CALDESC:Events for Duck Foot Brewing Co
REFRESH-INTERVAL;VALUE=DURATION:PT1H
X-Robots-Tag:noindex
X-PUBLISHED-TTL:PT1H
BEGIN:VTIMEZONE
TZID:America/Los_Angeles
BEGIN:DAYLIGHT
TZOFFSETFROM:-0800
TZOFFSETTO:-0700
TZNAME:PDT
DTSTART:20260308T100000
END:DAYLIGHT
BEGIN:STANDARD
TZOFFSETFROM:-0700
TZOFFSETTO:-0800
TZNAME:PST
DTSTART:20261101T090000
END:STANDARD
BEGIN:DAYLIGHT
TZOFFSETFROM:-0800
TZOFFSETTO:-0700
TZNAME:PDT
DTSTART:20270314T100000
END:DAYLIGHT
BEGIN:STANDARD
TZOFFSETFROM:-0700
TZOFFSETTO:-0800
TZNAME:PST
DTSTART:20271107T090000
END:STANDARD
BEGIN:DAYLIGHT
TZOFFSETFROM:-0800
TZOFFSETTO:-0700
TZNAME:PDT
DTSTART:20280312T100000
END:DAYLIGHT
BEGIN:STANDARD
TZOFFSETFROM:-0700
TZOFFSETTO:-0800
TZNAME:PST
DTSTART:20281105T090000
END:STANDARD
BEGIN:DAYLIGHT
TZOFFSETFROM:-0800
TZOFFSETTO:-0700
TZNAME:PDT
DTSTART:20290311T100000
END:DAYLIGHT
BEGIN:STANDARD
TZOFFSETFROM:-0700
TZOFFSETTO:-0800
TZNAME:PST
DTSTART:20291104T090000
END:STANDARD
END:VTIMEZONE
BEGIN:VEVENT
DTSTART;TZID=America/Los_Angeles:20270111T183000
DTEND;TZID=America/Los_Angeles:20270111T210000
DTSTAMP:20260425T050150
CREATED:20230331T020406Z
LAST-MODIFIED:20251218T003039Z
UID:10006134-1799692200-1799701200@duckfootbeer.com
SUMMARY:Monday Bluegrass Jam
DESCRIPTION:The San Diego Bluegrass Society is excited to bring you a monthly evening bluegrass jam and indoor open mic at Duck Foot Brewing on the second Monday of the month\, from 6:30 pm until 9:00 pm. Acoustic musicians and listeners alike are invited.
URL:https://duckfootbeer.com/event/bluegrass-monday/2027-01-11/
LOCATION:Duck Foot Miramar\, 8920 Kenamar Drive #210\, San Diego\, CA\, 92121\, United States
CATEGORIES:Miramar,Music
ATTACH;FMTTYPE=image/jpeg:https://duckfootbeer.com/wp-content/uploads/2023/03/bluegrassmonday.jpg
END:VEVENT
BEGIN:VEVENT
DTSTART;TZID=America/Los_Angeles:20270118T183000
DTEND;TZID=America/Los_Angeles:20270118T203000
DTSTAMP:20260425T050150
CREATED:20241220T173449Z
LAST-MODIFIED:20251218T003229Z
UID:10006193-1800297000-1800304200@duckfootbeer.com
SUMMARY:Monday Bluegrass Jam - Leucadia
DESCRIPTION:The North Country Bluegrass & Folk Club is excited to announce a monthly evening bluegrass jam and indoor open mic at Duck Foot Leucadia on Monday\, from 6:30 pm until 8:30. Acoustic musicians and listeners alike are invited.
URL:https://duckfootbeer.com/event/bluegrass-monday-ltr-2/2027-01-18/
LOCATION:Duck Foot Leucadia\, 978 N Coast Hwy 101\, Encinitas\, CA\, 92024\, United States
CATEGORIES:Featured,Leucadia,Music
ATTACH;FMTTYPE=image/jpeg:https://duckfootbeer.com/wp-content/uploads/2024/02/Bluegrass-Monday-Luecadia-1000.jpg
END:VEVENT
BEGIN:VEVENT
DTSTART;TZID=America/Los_Angeles:20270208T183000
DTEND;TZID=America/Los_Angeles:20270208T210000
DTSTAMP:20260425T050150
CREATED:20230331T020406Z
LAST-MODIFIED:20251218T003039Z
UID:10006135-1802111400-1802120400@duckfootbeer.com
SUMMARY:Monday Bluegrass Jam
DESCRIPTION:The San Diego Bluegrass Society is excited to bring you a monthly evening bluegrass jam and indoor open mic at Duck Foot Brewing on the second Monday of the month\, from 6:30 pm until 9:00 pm. Acoustic musicians and listeners alike are invited.
URL:https://duckfootbeer.com/event/bluegrass-monday/2027-02-08/
LOCATION:Duck Foot Miramar\, 8920 Kenamar Drive #210\, San Diego\, CA\, 92121\, United States
CATEGORIES:Miramar,Music
ATTACH;FMTTYPE=image/jpeg:https://duckfootbeer.com/wp-content/uploads/2023/03/bluegrassmonday.jpg
END:VEVENT
BEGIN:VEVENT
DTSTART;TZID=America/Los_Angeles:20270215T183000
DTEND;TZID=America/Los_Angeles:20270215T203000
DTSTAMP:20260425T050150
CREATED:20241220T173449Z
LAST-MODIFIED:20251218T003229Z
UID:10006194-1802716200-1802723400@duckfootbeer.com
SUMMARY:Monday Bluegrass Jam - Leucadia
DESCRIPTION:The North Country Bluegrass & Folk Club is excited to announce a monthly evening bluegrass jam and indoor open mic at Duck Foot Leucadia on Monday\, from 6:30 pm until 8:30. Acoustic musicians and listeners alike are invited.
URL:https://duckfootbeer.com/event/bluegrass-monday-ltr-2/2027-02-15/
LOCATION:Duck Foot Leucadia\, 978 N Coast Hwy 101\, Encinitas\, CA\, 92024\, United States
CATEGORIES:Featured,Leucadia,Music
ATTACH;FMTTYPE=image/jpeg:https://duckfootbeer.com/wp-content/uploads/2024/02/Bluegrass-Monday-Luecadia-1000.jpg
END:VEVENT
BEGIN:VEVENT
DTSTART;TZID=America/Los_Angeles:20270308T183000
DTEND;TZID=America/Los_Angeles:20270308T210000
DTSTAMP:20260425T050150
CREATED:20230331T020406Z
LAST-MODIFIED:20251218T003039Z
UID:10006136-1804530600-1804539600@duckfootbeer.com
SUMMARY:Monday Bluegrass Jam
DESCRIPTION:The San Diego Bluegrass Society is excited to bring you a monthly evening bluegrass jam and indoor open mic at Duck Foot Brewing on the second Monday of the month\, from 6:30 pm until 9:00 pm. Acoustic musicians and listeners alike are invited.
URL:https://duckfootbeer.com/event/bluegrass-monday/2027-03-08/
LOCATION:Duck Foot Miramar\, 8920 Kenamar Drive #210\, San Diego\, CA\, 92121\, United States
CATEGORIES:Miramar,Music
ATTACH;FMTTYPE=image/jpeg:https://duckfootbeer.com/wp-content/uploads/2023/03/bluegrassmonday.jpg
END:VEVENT
BEGIN:VEVENT
DTSTART;TZID=America/Los_Angeles:20270315T183000
DTEND;TZID=America/Los_Angeles:20270315T203000
DTSTAMP:20260425T050150
CREATED:20241220T173449Z
LAST-MODIFIED:20251218T003229Z
UID:10006195-1805135400-1805142600@duckfootbeer.com
SUMMARY:Monday Bluegrass Jam - Leucadia
DESCRIPTION:The North Country Bluegrass & Folk Club is excited to announce a monthly evening bluegrass jam and indoor open mic at Duck Foot Leucadia on Monday\, from 6:30 pm until 8:30. Acoustic musicians and listeners alike are invited.
URL:https://duckfootbeer.com/event/bluegrass-monday-ltr-2/2027-03-15/
LOCATION:Duck Foot Leucadia\, 978 N Coast Hwy 101\, Encinitas\, CA\, 92024\, United States
CATEGORIES:Featured,Leucadia,Music
ATTACH;FMTTYPE=image/jpeg:https://duckfootbeer.com/wp-content/uploads/2024/02/Bluegrass-Monday-Luecadia-1000.jpg
END:VEVENT
BEGIN:VEVENT
DTSTART;TZID=America/Los_Angeles:20270412T183000
DTEND;TZID=America/Los_Angeles:20270412T210000
DTSTAMP:20260425T050150
CREATED:20230331T020406Z
LAST-MODIFIED:20251218T003039Z
UID:10006137-1807554600-1807563600@duckfootbeer.com
SUMMARY:Monday Bluegrass Jam
DESCRIPTION:The San Diego Bluegrass Society is excited to bring you a monthly evening bluegrass jam and indoor open mic at Duck Foot Brewing on the second Monday of the month\, from 6:30 pm until 9:00 pm. Acoustic musicians and listeners alike are invited.
URL:https://duckfootbeer.com/event/bluegrass-monday/2027-04-12/
LOCATION:Duck Foot Miramar\, 8920 Kenamar Drive #210\, San Diego\, CA\, 92121\, United States
CATEGORIES:Miramar,Music
ATTACH;FMTTYPE=image/jpeg:https://duckfootbeer.com/wp-content/uploads/2023/03/bluegrassmonday.jpg
END:VEVENT
BEGIN:VEVENT
DTSTART;TZID=America/Los_Angeles:20270419T183000
DTEND;TZID=America/Los_Angeles:20270419T203000
DTSTAMP:20260425T050150
CREATED:20241220T173449Z
LAST-MODIFIED:20251218T003229Z
UID:10006196-1808159400-1808166600@duckfootbeer.com
SUMMARY:Monday Bluegrass Jam - Leucadia
DESCRIPTION:The North Country Bluegrass & Folk Club is excited to announce a monthly evening bluegrass jam and indoor open mic at Duck Foot Leucadia on Monday\, from 6:30 pm until 8:30. Acoustic musicians and listeners alike are invited.
URL:https://duckfootbeer.com/event/bluegrass-monday-ltr-2/2027-04-19/
LOCATION:Duck Foot Leucadia\, 978 N Coast Hwy 101\, Encinitas\, CA\, 92024\, United States
CATEGORIES:Featured,Leucadia,Music
ATTACH;FMTTYPE=image/jpeg:https://duckfootbeer.com/wp-content/uploads/2024/02/Bluegrass-Monday-Luecadia-1000.jpg
END:VEVENT
BEGIN:VEVENT
DTSTART;TZID=America/Los_Angeles:20270510T183000
DTEND;TZID=America/Los_Angeles:20270510T210000
DTSTAMP:20260425T050150
CREATED:20230331T020406Z
LAST-MODIFIED:20251218T003039Z
UID:10006138-1809973800-1809982800@duckfootbeer.com
SUMMARY:Monday Bluegrass Jam
DESCRIPTION:The San Diego Bluegrass Society is excited to bring you a monthly evening bluegrass jam and indoor open mic at Duck Foot Brewing on the second Monday of the month\, from 6:30 pm until 9:00 pm. Acoustic musicians and listeners alike are invited.
URL:https://duckfootbeer.com/event/bluegrass-monday/2027-05-10/
LOCATION:Duck Foot Miramar\, 8920 Kenamar Drive #210\, San Diego\, CA\, 92121\, United States
CATEGORIES:Miramar,Music
ATTACH;FMTTYPE=image/jpeg:https://duckfootbeer.com/wp-content/uploads/2023/03/bluegrassmonday.jpg
END:VEVENT
BEGIN:VEVENT
DTSTART;TZID=America/Los_Angeles:20270517T183000
DTEND;TZID=America/Los_Angeles:20270517T203000
DTSTAMP:20260425T050150
CREATED:20241220T173449Z
LAST-MODIFIED:20251218T003229Z
UID:10006197-1810578600-1810585800@duckfootbeer.com
SUMMARY:Monday Bluegrass Jam - Leucadia
DESCRIPTION:The North Country Bluegrass & Folk Club is excited to announce a monthly evening bluegrass jam and indoor open mic at Duck Foot Leucadia on Monday\, from 6:30 pm until 8:30. Acoustic musicians and listeners alike are invited.
URL:https://duckfootbeer.com/event/bluegrass-monday-ltr-2/2027-05-17/
LOCATION:Duck Foot Leucadia\, 978 N Coast Hwy 101\, Encinitas\, CA\, 92024\, United States
CATEGORIES:Featured,Leucadia,Music
ATTACH;FMTTYPE=image/jpeg:https://duckfootbeer.com/wp-content/uploads/2024/02/Bluegrass-Monday-Luecadia-1000.jpg
END:VEVENT
BEGIN:VEVENT
DTSTART;TZID=America/Los_Angeles:20270614T183000
DTEND;TZID=America/Los_Angeles:20270614T210000
DTSTAMP:20260425T050150
CREATED:20230331T020406Z
LAST-MODIFIED:20251218T003039Z
UID:10006139-1812997800-1813006800@duckfootbeer.com
SUMMARY:Monday Bluegrass Jam
DESCRIPTION:The San Diego Bluegrass Society is excited to bring you a monthly evening bluegrass jam and indoor open mic at Duck Foot Brewing on the second Monday of the month\, from 6:30 pm until 9:00 pm. Acoustic musicians and listeners alike are invited.
URL:https://duckfootbeer.com/event/bluegrass-monday/2027-06-14/
LOCATION:Duck Foot Miramar\, 8920 Kenamar Drive #210\, San Diego\, CA\, 92121\, United States
CATEGORIES:Miramar,Music
ATTACH;FMTTYPE=image/jpeg:https://duckfootbeer.com/wp-content/uploads/2023/03/bluegrassmonday.jpg
END:VEVENT
BEGIN:VEVENT
DTSTART;TZID=America/Los_Angeles:20270621T183000
DTEND;TZID=America/Los_Angeles:20270621T203000
DTSTAMP:20260425T050150
CREATED:20241220T173449Z
LAST-MODIFIED:20251218T003229Z
UID:10006198-1813602600-1813609800@duckfootbeer.com
SUMMARY:Monday Bluegrass Jam - Leucadia
DESCRIPTION:The North Country Bluegrass & Folk Club is excited to announce a monthly evening bluegrass jam and indoor open mic at Duck Foot Leucadia on Monday\, from 6:30 pm until 8:30. Acoustic musicians and listeners alike are invited.
URL:https://duckfootbeer.com/event/bluegrass-monday-ltr-2/2027-06-21/
LOCATION:Duck Foot Leucadia\, 978 N Coast Hwy 101\, Encinitas\, CA\, 92024\, United States
CATEGORIES:Featured,Leucadia,Music
ATTACH;FMTTYPE=image/jpeg:https://duckfootbeer.com/wp-content/uploads/2024/02/Bluegrass-Monday-Luecadia-1000.jpg
END:VEVENT
BEGIN:VEVENT
DTSTART;TZID=America/Los_Angeles:20270712T183000
DTEND;TZID=America/Los_Angeles:20270712T210000
DTSTAMP:20260425T050150
CREATED:20230331T020406Z
LAST-MODIFIED:20251218T003039Z
UID:10006140-1815417000-1815426000@duckfootbeer.com
SUMMARY:Monday Bluegrass Jam
DESCRIPTION:The San Diego Bluegrass Society is excited to bring you a monthly evening bluegrass jam and indoor open mic at Duck Foot Brewing on the second Monday of the month\, from 6:30 pm until 9:00 pm. Acoustic musicians and listeners alike are invited.
URL:https://duckfootbeer.com/event/bluegrass-monday/2027-07-12/
LOCATION:Duck Foot Miramar\, 8920 Kenamar Drive #210\, San Diego\, CA\, 92121\, United States
CATEGORIES:Miramar,Music
ATTACH;FMTTYPE=image/jpeg:https://duckfootbeer.com/wp-content/uploads/2023/03/bluegrassmonday.jpg
END:VEVENT
BEGIN:VEVENT
DTSTART;TZID=America/Los_Angeles:20270719T183000
DTEND;TZID=America/Los_Angeles:20270719T203000
DTSTAMP:20260425T050150
CREATED:20241220T173449Z
LAST-MODIFIED:20251218T003229Z
UID:10006199-1816021800-1816029000@duckfootbeer.com
SUMMARY:Monday Bluegrass Jam - Leucadia
DESCRIPTION:The North Country Bluegrass & Folk Club is excited to announce a monthly evening bluegrass jam and indoor open mic at Duck Foot Leucadia on Monday\, from 6:30 pm until 8:30. Acoustic musicians and listeners alike are invited.
URL:https://duckfootbeer.com/event/bluegrass-monday-ltr-2/2027-07-19/
LOCATION:Duck Foot Leucadia\, 978 N Coast Hwy 101\, Encinitas\, CA\, 92024\, United States
CATEGORIES:Featured,Leucadia,Music
ATTACH;FMTTYPE=image/jpeg:https://duckfootbeer.com/wp-content/uploads/2024/02/Bluegrass-Monday-Luecadia-1000.jpg
END:VEVENT
BEGIN:VEVENT
DTSTART;TZID=America/Los_Angeles:20270809T183000
DTEND;TZID=America/Los_Angeles:20270809T210000
DTSTAMP:20260425T050150
CREATED:20230331T020406Z
LAST-MODIFIED:20251218T003039Z
UID:10006141-1817836200-1817845200@duckfootbeer.com
SUMMARY:Monday Bluegrass Jam
DESCRIPTION:The San Diego Bluegrass Society is excited to bring you a monthly evening bluegrass jam and indoor open mic at Duck Foot Brewing on the second Monday of the month\, from 6:30 pm until 9:00 pm. Acoustic musicians and listeners alike are invited.
URL:https://duckfootbeer.com/event/bluegrass-monday/2027-08-09/
LOCATION:Duck Foot Miramar\, 8920 Kenamar Drive #210\, San Diego\, CA\, 92121\, United States
CATEGORIES:Miramar,Music
ATTACH;FMTTYPE=image/jpeg:https://duckfootbeer.com/wp-content/uploads/2023/03/bluegrassmonday.jpg
END:VEVENT
BEGIN:VEVENT
DTSTART;TZID=America/Los_Angeles:20270816T183000
DTEND;TZID=America/Los_Angeles:20270816T203000
DTSTAMP:20260425T050150
CREATED:20241220T173449Z
LAST-MODIFIED:20251218T003229Z
UID:10006200-1818441000-1818448200@duckfootbeer.com
SUMMARY:Monday Bluegrass Jam - Leucadia
DESCRIPTION:The North Country Bluegrass & Folk Club is excited to announce a monthly evening bluegrass jam and indoor open mic at Duck Foot Leucadia on Monday\, from 6:30 pm until 8:30. Acoustic musicians and listeners alike are invited.
URL:https://duckfootbeer.com/event/bluegrass-monday-ltr-2/2027-08-16/
LOCATION:Duck Foot Leucadia\, 978 N Coast Hwy 101\, Encinitas\, CA\, 92024\, United States
CATEGORIES:Featured,Leucadia,Music
ATTACH;FMTTYPE=image/jpeg:https://duckfootbeer.com/wp-content/uploads/2024/02/Bluegrass-Monday-Luecadia-1000.jpg
END:VEVENT
BEGIN:VEVENT
DTSTART;TZID=America/Los_Angeles:20270913T183000
DTEND;TZID=America/Los_Angeles:20270913T210000
DTSTAMP:20260425T050150
CREATED:20230331T020406Z
LAST-MODIFIED:20251218T003039Z
UID:10006142-1820860200-1820869200@duckfootbeer.com
SUMMARY:Monday Bluegrass Jam
DESCRIPTION:The San Diego Bluegrass Society is excited to bring you a monthly evening bluegrass jam and indoor open mic at Duck Foot Brewing on the second Monday of the month\, from 6:30 pm until 9:00 pm. Acoustic musicians and listeners alike are invited.
URL:https://duckfootbeer.com/event/bluegrass-monday/2027-09-13/
LOCATION:Duck Foot Miramar\, 8920 Kenamar Drive #210\, San Diego\, CA\, 92121\, United States
CATEGORIES:Miramar,Music
ATTACH;FMTTYPE=image/jpeg:https://duckfootbeer.com/wp-content/uploads/2023/03/bluegrassmonday.jpg
END:VEVENT
BEGIN:VEVENT
DTSTART;TZID=America/Los_Angeles:20270920T183000
DTEND;TZID=America/Los_Angeles:20270920T203000
DTSTAMP:20260425T050150
CREATED:20241220T173449Z
LAST-MODIFIED:20251218T003229Z
UID:10006201-1821465000-1821472200@duckfootbeer.com
SUMMARY:Monday Bluegrass Jam - Leucadia
DESCRIPTION:The North Country Bluegrass & Folk Club is excited to announce a monthly evening bluegrass jam and indoor open mic at Duck Foot Leucadia on Monday\, from 6:30 pm until 8:30. Acoustic musicians and listeners alike are invited.
URL:https://duckfootbeer.com/event/bluegrass-monday-ltr-2/2027-09-20/
LOCATION:Duck Foot Leucadia\, 978 N Coast Hwy 101\, Encinitas\, CA\, 92024\, United States
CATEGORIES:Featured,Leucadia,Music
ATTACH;FMTTYPE=image/jpeg:https://duckfootbeer.com/wp-content/uploads/2024/02/Bluegrass-Monday-Luecadia-1000.jpg
END:VEVENT
BEGIN:VEVENT
DTSTART;TZID=America/Los_Angeles:20271011T183000
DTEND;TZID=America/Los_Angeles:20271011T210000
DTSTAMP:20260425T050150
CREATED:20230331T020406Z
LAST-MODIFIED:20251218T003039Z
UID:10006143-1823279400-1823288400@duckfootbeer.com
SUMMARY:Monday Bluegrass Jam
DESCRIPTION:The San Diego Bluegrass Society is excited to bring you a monthly evening bluegrass jam and indoor open mic at Duck Foot Brewing on the second Monday of the month\, from 6:30 pm until 9:00 pm. Acoustic musicians and listeners alike are invited.
URL:https://duckfootbeer.com/event/bluegrass-monday/2027-10-11/
LOCATION:Duck Foot Miramar\, 8920 Kenamar Drive #210\, San Diego\, CA\, 92121\, United States
CATEGORIES:Miramar,Music
ATTACH;FMTTYPE=image/jpeg:https://duckfootbeer.com/wp-content/uploads/2023/03/bluegrassmonday.jpg
END:VEVENT
BEGIN:VEVENT
DTSTART;TZID=America/Los_Angeles:20271018T183000
DTEND;TZID=America/Los_Angeles:20271018T203000
DTSTAMP:20260425T050150
CREATED:20241220T173449Z
LAST-MODIFIED:20251218T003229Z
UID:10006202-1823884200-1823891400@duckfootbeer.com
SUMMARY:Monday Bluegrass Jam - Leucadia
DESCRIPTION:The North Country Bluegrass & Folk Club is excited to announce a monthly evening bluegrass jam and indoor open mic at Duck Foot Leucadia on Monday\, from 6:30 pm until 8:30. Acoustic musicians and listeners alike are invited.
URL:https://duckfootbeer.com/event/bluegrass-monday-ltr-2/2027-10-18/
LOCATION:Duck Foot Leucadia\, 978 N Coast Hwy 101\, Encinitas\, CA\, 92024\, United States
CATEGORIES:Featured,Leucadia,Music
ATTACH;FMTTYPE=image/jpeg:https://duckfootbeer.com/wp-content/uploads/2024/02/Bluegrass-Monday-Luecadia-1000.jpg
END:VEVENT
BEGIN:VEVENT
DTSTART;TZID=America/Los_Angeles:20271108T183000
DTEND;TZID=America/Los_Angeles:20271108T210000
DTSTAMP:20260425T050150
CREATED:20230331T020406Z
LAST-MODIFIED:20251218T003039Z
UID:10006144-1825698600-1825707600@duckfootbeer.com
SUMMARY:Monday Bluegrass Jam
DESCRIPTION:The San Diego Bluegrass Society is excited to bring you a monthly evening bluegrass jam and indoor open mic at Duck Foot Brewing on the second Monday of the month\, from 6:30 pm until 9:00 pm. Acoustic musicians and listeners alike are invited.
URL:https://duckfootbeer.com/event/bluegrass-monday/2027-11-08/
LOCATION:Duck Foot Miramar\, 8920 Kenamar Drive #210\, San Diego\, CA\, 92121\, United States
CATEGORIES:Miramar,Music
ATTACH;FMTTYPE=image/jpeg:https://duckfootbeer.com/wp-content/uploads/2023/03/bluegrassmonday.jpg
END:VEVENT
BEGIN:VEVENT
DTSTART;TZID=America/Los_Angeles:20271115T183000
DTEND;TZID=America/Los_Angeles:20271115T203000
DTSTAMP:20260425T050150
CREATED:20241220T173449Z
LAST-MODIFIED:20251218T003229Z
UID:10006203-1826303400-1826310600@duckfootbeer.com
SUMMARY:Monday Bluegrass Jam - Leucadia
DESCRIPTION:The North Country Bluegrass & Folk Club is excited to announce a monthly evening bluegrass jam and indoor open mic at Duck Foot Leucadia on Monday\, from 6:30 pm until 8:30. Acoustic musicians and listeners alike are invited.
URL:https://duckfootbeer.com/event/bluegrass-monday-ltr-2/2027-11-15/
LOCATION:Duck Foot Leucadia\, 978 N Coast Hwy 101\, Encinitas\, CA\, 92024\, United States
CATEGORIES:Featured,Leucadia,Music
ATTACH;FMTTYPE=image/jpeg:https://duckfootbeer.com/wp-content/uploads/2024/02/Bluegrass-Monday-Luecadia-1000.jpg
END:VEVENT
BEGIN:VEVENT
DTSTART;TZID=America/Los_Angeles:20271213T183000
DTEND;TZID=America/Los_Angeles:20271213T210000
DTSTAMP:20260425T050151
CREATED:20230331T020406Z
LAST-MODIFIED:20251218T003039Z
UID:10006145-1828722600-1828731600@duckfootbeer.com
SUMMARY:Monday Bluegrass Jam
DESCRIPTION:The San Diego Bluegrass Society is excited to bring you a monthly evening bluegrass jam and indoor open mic at Duck Foot Brewing on the second Monday of the month\, from 6:30 pm until 9:00 pm. Acoustic musicians and listeners alike are invited.
URL:https://duckfootbeer.com/event/bluegrass-monday/2027-12-13/
LOCATION:Duck Foot Miramar\, 8920 Kenamar Drive #210\, San Diego\, CA\, 92121\, United States
CATEGORIES:Miramar,Music
ATTACH;FMTTYPE=image/jpeg:https://duckfootbeer.com/wp-content/uploads/2023/03/bluegrassmonday.jpg
END:VEVENT
BEGIN:VEVENT
DTSTART;TZID=America/Los_Angeles:20271220T183000
DTEND;TZID=America/Los_Angeles:20271220T203000
DTSTAMP:20260425T050151
CREATED:20241220T173449Z
LAST-MODIFIED:20251218T003229Z
UID:10006204-1829327400-1829334600@duckfootbeer.com
SUMMARY:Monday Bluegrass Jam - Leucadia
DESCRIPTION:The North Country Bluegrass & Folk Club is excited to announce a monthly evening bluegrass jam and indoor open mic at Duck Foot Leucadia on Monday\, from 6:30 pm until 8:30. Acoustic musicians and listeners alike are invited.
URL:https://duckfootbeer.com/event/bluegrass-monday-ltr-2/2027-12-20/
LOCATION:Duck Foot Leucadia\, 978 N Coast Hwy 101\, Encinitas\, CA\, 92024\, United States
CATEGORIES:Featured,Leucadia,Music
ATTACH;FMTTYPE=image/jpeg:https://duckfootbeer.com/wp-content/uploads/2024/02/Bluegrass-Monday-Luecadia-1000.jpg
END:VEVENT
BEGIN:VEVENT
DTSTART;TZID=America/Los_Angeles:20280110T183000
DTEND;TZID=America/Los_Angeles:20280110T210000
DTSTAMP:20260425T050151
CREATED:20230331T020406Z
LAST-MODIFIED:20251218T003039Z
UID:10006146-1831141800-1831150800@duckfootbeer.com
SUMMARY:Monday Bluegrass Jam
DESCRIPTION:The San Diego Bluegrass Society is excited to bring you a monthly evening bluegrass jam and indoor open mic at Duck Foot Brewing on the second Monday of the month\, from 6:30 pm until 9:00 pm. Acoustic musicians and listeners alike are invited.
URL:https://duckfootbeer.com/event/bluegrass-monday/2028-01-10/
LOCATION:Duck Foot Miramar\, 8920 Kenamar Drive #210\, San Diego\, CA\, 92121\, United States
CATEGORIES:Miramar,Music
ATTACH;FMTTYPE=image/jpeg:https://duckfootbeer.com/wp-content/uploads/2023/03/bluegrassmonday.jpg
END:VEVENT
BEGIN:VEVENT
DTSTART;TZID=America/Los_Angeles:20280117T183000
DTEND;TZID=America/Los_Angeles:20280117T203000
DTSTAMP:20260425T050151
CREATED:20241220T173449Z
LAST-MODIFIED:20251218T003229Z
UID:10006205-1831746600-1831753800@duckfootbeer.com
SUMMARY:Monday Bluegrass Jam - Leucadia
DESCRIPTION:The North Country Bluegrass & Folk Club is excited to announce a monthly evening bluegrass jam and indoor open mic at Duck Foot Leucadia on Monday\, from 6:30 pm until 8:30. Acoustic musicians and listeners alike are invited.
URL:https://duckfootbeer.com/event/bluegrass-monday-ltr-2/2028-01-17/
LOCATION:Duck Foot Leucadia\, 978 N Coast Hwy 101\, Encinitas\, CA\, 92024\, United States
CATEGORIES:Featured,Leucadia,Music
ATTACH;FMTTYPE=image/jpeg:https://duckfootbeer.com/wp-content/uploads/2024/02/Bluegrass-Monday-Luecadia-1000.jpg
END:VEVENT
BEGIN:VEVENT
DTSTART;TZID=America/Los_Angeles:20280214T183000
DTEND;TZID=America/Los_Angeles:20280214T210000
DTSTAMP:20260425T050151
CREATED:20230331T020406Z
LAST-MODIFIED:20251218T003039Z
UID:10006147-1834165800-1834174800@duckfootbeer.com
SUMMARY:Monday Bluegrass Jam
DESCRIPTION:The San Diego Bluegrass Society is excited to bring you a monthly evening bluegrass jam and indoor open mic at Duck Foot Brewing on the second Monday of the month\, from 6:30 pm until 9:00 pm. Acoustic musicians and listeners alike are invited.
URL:https://duckfootbeer.com/event/bluegrass-monday/2028-02-14/
LOCATION:Duck Foot Miramar\, 8920 Kenamar Drive #210\, San Diego\, CA\, 92121\, United States
CATEGORIES:Miramar,Music
ATTACH;FMTTYPE=image/jpeg:https://duckfootbeer.com/wp-content/uploads/2023/03/bluegrassmonday.jpg
END:VEVENT
BEGIN:VEVENT
DTSTART;TZID=America/Los_Angeles:20280221T183000
DTEND;TZID=America/Los_Angeles:20280221T203000
DTSTAMP:20260425T050151
CREATED:20241220T173449Z
LAST-MODIFIED:20251218T003229Z
UID:10006206-1834770600-1834777800@duckfootbeer.com
SUMMARY:Monday Bluegrass Jam - Leucadia
DESCRIPTION:The North Country Bluegrass & Folk Club is excited to announce a monthly evening bluegrass jam and indoor open mic at Duck Foot Leucadia on Monday\, from 6:30 pm until 8:30. Acoustic musicians and listeners alike are invited.
URL:https://duckfootbeer.com/event/bluegrass-monday-ltr-2/2028-02-21/
LOCATION:Duck Foot Leucadia\, 978 N Coast Hwy 101\, Encinitas\, CA\, 92024\, United States
CATEGORIES:Featured,Leucadia,Music
ATTACH;FMTTYPE=image/jpeg:https://duckfootbeer.com/wp-content/uploads/2024/02/Bluegrass-Monday-Luecadia-1000.jpg
END:VEVENT
BEGIN:VEVENT
DTSTART;TZID=America/Los_Angeles:20280313T183000
DTEND;TZID=America/Los_Angeles:20280313T210000
DTSTAMP:20260425T050151
CREATED:20230331T020406Z
LAST-MODIFIED:20251218T003039Z
UID:10006148-1836585000-1836594000@duckfootbeer.com
SUMMARY:Monday Bluegrass Jam
DESCRIPTION:The San Diego Bluegrass Society is excited to bring you a monthly evening bluegrass jam and indoor open mic at Duck Foot Brewing on the second Monday of the month\, from 6:30 pm until 9:00 pm. Acoustic musicians and listeners alike are invited.
URL:https://duckfootbeer.com/event/bluegrass-monday/2028-03-13/
LOCATION:Duck Foot Miramar\, 8920 Kenamar Drive #210\, San Diego\, CA\, 92121\, United States
CATEGORIES:Miramar,Music
ATTACH;FMTTYPE=image/jpeg:https://duckfootbeer.com/wp-content/uploads/2023/03/bluegrassmonday.jpg
END:VEVENT
BEGIN:VEVENT
DTSTART;TZID=America/Los_Angeles:20280320T183000
DTEND;TZID=America/Los_Angeles:20280320T203000
DTSTAMP:20260425T050151
CREATED:20241220T173449Z
LAST-MODIFIED:20251218T003229Z
UID:10006207-1837189800-1837197000@duckfootbeer.com
SUMMARY:Monday Bluegrass Jam - Leucadia
DESCRIPTION:The North Country Bluegrass & Folk Club is excited to announce a monthly evening bluegrass jam and indoor open mic at Duck Foot Leucadia on Monday\, from 6:30 pm until 8:30. Acoustic musicians and listeners alike are invited.
URL:https://duckfootbeer.com/event/bluegrass-monday-ltr-2/2028-03-20/
LOCATION:Duck Foot Leucadia\, 978 N Coast Hwy 101\, Encinitas\, CA\, 92024\, United States
CATEGORIES:Featured,Leucadia,Music
ATTACH;FMTTYPE=image/jpeg:https://duckfootbeer.com/wp-content/uploads/2024/02/Bluegrass-Monday-Luecadia-1000.jpg
END:VEVENT
END:VCALENDAR