BEGIN:VCALENDAR
VERSION:2.0
PRODID:-//Duck Foot Brewing Co - ECPv6.15.12.1//NONSGML v1.0//EN
CALSCALE:GREGORIAN
METHOD:PUBLISH
X-WR-CALNAME:Duck Foot Brewing Co
X-ORIGINAL-URL:https://duckfootbeer.com
X-WR-CALDESC:Events for Duck Foot Brewing Co
REFRESH-INTERVAL;VALUE=DURATION:PT1H
X-Robots-Tag:noindex
X-PUBLISHED-TTL:PT1H
BEGIN:VTIMEZONE
TZID:America/Los_Angeles
BEGIN:DAYLIGHT
TZOFFSETFROM:-0800
TZOFFSETTO:-0700
TZNAME:PDT
DTSTART:20250309T100000
END:DAYLIGHT
BEGIN:STANDARD
TZOFFSETFROM:-0700
TZOFFSETTO:-0800
TZNAME:PST
DTSTART:20251102T090000
END:STANDARD
BEGIN:DAYLIGHT
TZOFFSETFROM:-0800
TZOFFSETTO:-0700
TZNAME:PDT
DTSTART:20260308T100000
END:DAYLIGHT
BEGIN:STANDARD
TZOFFSETFROM:-0700
TZOFFSETTO:-0800
TZNAME:PST
DTSTART:20261101T090000
END:STANDARD
BEGIN:DAYLIGHT
TZOFFSETFROM:-0800
TZOFFSETTO:-0700
TZNAME:PDT
DTSTART:20270314T100000
END:DAYLIGHT
BEGIN:STANDARD
TZOFFSETFROM:-0700
TZOFFSETTO:-0800
TZNAME:PST
DTSTART:20271107T090000
END:STANDARD
END:VTIMEZONE
BEGIN:VEVENT
DTSTART;TZID=America/Los_Angeles:20260522T183000
DTEND;TZID=America/Los_Angeles:20260522T203000
DTSTAMP:20260424T205044
CREATED:20250714T215850Z
LAST-MODIFIED:20260420T200255Z
UID:10005175-1779474600-1779481800@duckfootbeer.com
SUMMARY:Acoustic Ukulele w/Bryce
DESCRIPTION:Join us for a laid-back evening of island vibes and smooth acoustic tunes at Shore Sessions – Acoustic Ukulele! Sip on your favorite craft brews while soaking in the mellow melodies of live ukulele music. Come chill\, sip\, and sway to the sweet sounds of Hawaiian music\, original songs and classic pop reimagined on the ukulele! This week’s artist is Bryce – check her out here: https://brycewettstein.com/music
URL:https://duckfootbeer.com/event/ukulele-2/
LOCATION:Duck Foot Leucadia\, 978 N Coast Hwy 101\, Encinitas\, CA\, 92024\, United States
CATEGORIES:Featured,Leucadia,Music
ATTACH;FMTTYPE=image/jpeg:https://duckfootbeer.com/wp-content/uploads/2025/03/Shore-Sessions-Bryce.jpg
END:VEVENT
END:VCALENDAR