BEGIN:VCALENDAR
VERSION:2.0
PRODID:-//Duck Foot Brewing Co - ECPv6.15.12.1//NONSGML v1.0//EN
CALSCALE:GREGORIAN
METHOD:PUBLISH
X-WR-CALNAME:Duck Foot Brewing Co
X-ORIGINAL-URL:https://duckfootbeer.com
X-WR-CALDESC:Events for Duck Foot Brewing Co
REFRESH-INTERVAL;VALUE=DURATION:PT1H
X-Robots-Tag:noindex
X-PUBLISHED-TTL:PT1H
BEGIN:VTIMEZONE
TZID:America/Los_Angeles
BEGIN:DAYLIGHT
TZOFFSETFROM:-0800
TZOFFSETTO:-0700
TZNAME:PDT
DTSTART:20250309T100000
END:DAYLIGHT
BEGIN:STANDARD
TZOFFSETFROM:-0700
TZOFFSETTO:-0800
TZNAME:PST
DTSTART:20251102T090000
END:STANDARD
BEGIN:DAYLIGHT
TZOFFSETFROM:-0800
TZOFFSETTO:-0700
TZNAME:PDT
DTSTART:20260308T100000
END:DAYLIGHT
BEGIN:STANDARD
TZOFFSETFROM:-0700
TZOFFSETTO:-0800
TZNAME:PST
DTSTART:20261101T090000
END:STANDARD
BEGIN:DAYLIGHT
TZOFFSETFROM:-0800
TZOFFSETTO:-0700
TZNAME:PDT
DTSTART:20270314T100000
END:DAYLIGHT
BEGIN:STANDARD
TZOFFSETFROM:-0700
TZOFFSETTO:-0800
TZNAME:PST
DTSTART:20271107T090000
END:STANDARD
END:VTIMEZONE
BEGIN:VTIMEZONE
TZID:UTC
BEGIN:STANDARD
TZOFFSETFROM:+0000
TZOFFSETTO:+0000
TZNAME:UTC
DTSTART:20250101T000000
END:STANDARD
END:VTIMEZONE
BEGIN:VEVENT
DTSTART;VALUE=DATE:20260401
DTEND;VALUE=DATE:20260501
DTSTAMP:20260423T050857
CREATED:20250513T220901Z
LAST-MODIFIED:20260220T211016Z
UID:10004235-1775001600-1777593599@duckfootbeer.com
SUMMARY:Baja Blast Slushie
DESCRIPTION:Serving up at Miramar & Leucadia \nBaja Blast\nA refreshing fusion of crisp lemon\, zesty lime\, and juicy blue raspberry\, blended to icy perfection. This vibrant\, tangy-sweet slushie is finished with a playful crunch of Nerd Clusters for the ultimate nostalgic treat.
URL:https://duckfootbeer.com/event/baja-blast/
LOCATION:CA
CATEGORIES:Featured,Leucadia,Miramar,Slushie
ATTACH;FMTTYPE=image/jpeg:https://duckfootbeer.com/wp-content/uploads/2025/05/Baja-Blast-Slushie-1080.jpg
END:VEVENT
BEGIN:VEVENT
DTSTART;TZID=America/Los_Angeles:20260423T120000
DTEND;TZID=America/Los_Angeles:20260423T143000
DTSTAMP:20260423T050858
CREATED:20250815T174635Z
LAST-MODIFIED:20260403T170258Z
UID:10007369-1776945600-1776954600@duckfootbeer.com
SUMMARY:Padres Happy Hours
DESCRIPTION:Padres baseball\, cold beer\, and good company—what more do you need?\nWe’re showing the game at the brewery\, and our staff will be right there cheering along. Come grab a pint and root for the Padres with us! \nBeer Special:\n$5 pints and $25 pitchers of all core beers to anyone in Padre gear\, DURING PADRES GAME HOURS ONLY!
URL:https://duckfootbeer.com/event/padres-bogo/2026-04-23/
LOCATION:CA
CATEGORIES:Featured,Leucadia,Miramar
ATTACH;FMTTYPE=image/jpeg:https://duckfootbeer.com/wp-content/uploads/2025/08/padres-happyhour-BoGo.jpg
END:VEVENT
BEGIN:VEVENT
DTSTART;TZID=UTC:20260423T120000
DTEND;TZID=UTC:20260423T210000
DTSTAMP:20260423T050858
CREATED:20220302T111111Z
LAST-MODIFIED:20260122T183410Z
UID:10006953-1776945600-1776978000@duckfootbeer.com
SUMMARY:Thirsty Thursdays
DESCRIPTION:Every Thursday = To-Go Fills Day.Save 20% on all crowler & growler fills\, open to close\, at Miramar and Leucadia.Stock up\, share (or don’t)\, repeat weekly.
URL:https://duckfootbeer.com/event/thirsty-thursdays/2026-04-23/
LOCATION:Duck Foot Miramar\, 8920 Kenamar Drive #210\, San Diego\, CA\, 92121\, United States
CATEGORIES:Deals,Featured,Leucadia,Miramar,Weekly
ATTACH;FMTTYPE=image/jpeg:https://duckfootbeer.com/wp-content/uploads/2022/03/IMG_2362.jpeg
END:VEVENT
BEGIN:VEVENT
DTSTART;TZID=America/Los_Angeles:20260423T150000
DTEND;TZID=America/Los_Angeles:20260423T200000
DTSTAMP:20260423T050858
CREATED:20260123T220906Z
LAST-MODIFIED:20260417T193235Z
UID:10007296-1776956400-1776974400@duckfootbeer.com
SUMMARY:Sourdough Shoppe
DESCRIPTION:Sourdough Shoppe Boulangeire & Pizza \nServing fresh artisan pizza\, made to order.
URL:https://duckfootbeer.com/event/sourdough-shoppe/2026-04-23/
LOCATION:Duck Foot Miramar\, 8920 Kenamar Drive #210\, San Diego\, CA\, 92121\, United States
CATEGORIES:Food Truck,Miramar
ATTACH;FMTTYPE=image/jpeg:https://duckfootbeer.com/wp-content/uploads/2026/01/food-truck-Sourdough_Shoppe.jpg
END:VEVENT
BEGIN:VEVENT
DTSTART;TZID=America/Los_Angeles:20260423T180000
DTEND;TZID=America/Los_Angeles:20260423T210000
DTSTAMP:20260423T050859
CREATED:20250428T215530Z
LAST-MODIFIED:20260420T201628Z
UID:10007395-1776967200-1776978000@duckfootbeer.com
SUMMARY:La Libertad
DESCRIPTION:La Libertad Cocina Urbana\nHave you heard of Birria? If not\, then you don’t know Mexican food! Come try out some delicious homestyle mexican food to go along with our beers. Get yourself hungry by checking out their instagram.
URL:https://duckfootbeer.com/event/libertad-leucadia/2026-04-23/
LOCATION:Duck Foot Leucadia\, 978 N Coast Hwy 101\, Encinitas\, CA\, 92024\, United States
CATEGORIES:Featured,Food Truck,Leucadia
ATTACH;FMTTYPE=image/jpeg:https://duckfootbeer.com/wp-content/uploads/2025/04/Libertad-Leucadia-food-truck.jpg
END:VEVENT
BEGIN:VEVENT
DTSTART;TZID=America/Los_Angeles:20260423T190000
DTEND;TZID=America/Los_Angeles:20260423T210000
DTSTAMP:20260423T050859
CREATED:20230328T045112Z
LAST-MODIFIED:20260218T014549Z
UID:10004538-1776970800-1776978000@duckfootbeer.com
SUMMARY:Leucadia Trivia Night
DESCRIPTION:Come quack up with us at our weekly Trivia Nights! Our hosts are full of feather-brained questions\, waddle with us and see who can rule the roost as the ultimate trivia champ. \nRSVP & MORE DEETS ON EVENTBRITE
URL:https://duckfootbeer.com/event/trivia-leucadia/2026-04-23/
LOCATION:Duck Foot Leucadia\, 978 N Coast Hwy 101\, Encinitas\, CA\, 92024\, United States
CATEGORIES:Leucadia,Trivia Night
ATTACH;FMTTYPE=image/jpeg:https://duckfootbeer.com/wp-content/uploads/2022/03/2023LeucadiaTrivia.jpg
END:VEVENT
END:VCALENDAR